BEGIN:VCALENDAR
VERSION:2.0
PRODID:-//jEvents 2.0 for Joomla//EN
CALSCALE:GREGORIAN
METHOD:PUBLISH
BEGIN:VTIMEZONE
TZID:Europe/Paris
BEGIN:STANDARD
DTSTART:20151126T000000
RDATE:20160327T030000
TZOFFSETFROM:+0200
TZOFFSETTO:+0100
TZNAME:Europe/Paris CET
END:STANDARD
BEGIN:STANDARD
DTSTART:20161030T020000
RDATE:20170326T030000
TZOFFSETFROM:+0200
TZOFFSETTO:+0100
TZNAME:Europe/Paris CET
END:STANDARD
BEGIN:STANDARD
DTSTART:20171029T020000
RDATE:20180325T030000
TZOFFSETFROM:+0200
TZOFFSETTO:+0100
TZNAME:Europe/Paris CET
END:STANDARD
BEGIN:STANDARD
DTSTART:20181028T020000
RDATE:20190331T030000
TZOFFSETFROM:+0200
TZOFFSETTO:+0100
TZNAME:Europe/Paris CET
END:STANDARD
BEGIN:STANDARD
DTSTART:20191027T020000
RDATE:20200329T030000
TZOFFSETFROM:+0200
TZOFFSETTO:+0100
TZNAME:Europe/Paris CET
END:STANDARD
BEGIN:STANDARD
DTSTART:20201025T020000
RDATE:20210328T030000
TZOFFSETFROM:+0200
TZOFFSETTO:+0100
TZNAME:Europe/Paris CET
END:STANDARD
BEGIN:STANDARD
DTSTART:20211031T020000
RDATE:20220327T030000
TZOFFSETFROM:+0200
TZOFFSETTO:+0100
TZNAME:Europe/Paris CET
END:STANDARD
BEGIN:STANDARD
DTSTART:20221030T020000
RDATE:20230326T030000
TZOFFSETFROM:+0200
TZOFFSETTO:+0100
TZNAME:Europe/Paris CET
END:STANDARD
BEGIN:STANDARD
DTSTART:20231029T020000
RDATE:20240331T030000
TZOFFSETFROM:+0200
TZOFFSETTO:+0100
TZNAME:Europe/Paris CET
END:STANDARD
BEGIN:STANDARD
DTSTART:20241027T020000
RDATE:20250330T030000
TZOFFSETFROM:+0200
TZOFFSETTO:+0100
TZNAME:Europe/Paris CET
END:STANDARD
BEGIN:STANDARD
DTSTART:20251026T020000
RDATE:20260329T030000
TZOFFSETFROM:+0200
TZOFFSETTO:+0100
TZNAME:Europe/Paris CET
END:STANDARD
BEGIN:STANDARD
DTSTART:20261025T020000
RDATE:20270328T030000
TZOFFSETFROM:+0200
TZOFFSETTO:+0100
TZNAME:Europe/Paris CET
END:STANDARD
BEGIN:DAYLIGHT
DTSTART:20160327T030000
RDATE:20161030T020000
TZOFFSETFROM:+0100
TZOFFSETTO:+0200
TZNAME:Europe/Paris CEST
END:DAYLIGHT
BEGIN:DAYLIGHT
DTSTART:20170326T030000
RDATE:20171029T020000
TZOFFSETFROM:+0100
TZOFFSETTO:+0200
TZNAME:Europe/Paris CEST
END:DAYLIGHT
BEGIN:DAYLIGHT
DTSTART:20180325T030000
RDATE:20181028T020000
TZOFFSETFROM:+0100
TZOFFSETTO:+0200
TZNAME:Europe/Paris CEST
END:DAYLIGHT
BEGIN:DAYLIGHT
DTSTART:20190331T030000
RDATE:20191027T020000
TZOFFSETFROM:+0100
TZOFFSETTO:+0200
TZNAME:Europe/Paris CEST
END:DAYLIGHT
BEGIN:DAYLIGHT
DTSTART:20200329T030000
RDATE:20201025T020000
TZOFFSETFROM:+0100
TZOFFSETTO:+0200
TZNAME:Europe/Paris CEST
END:DAYLIGHT
BEGIN:DAYLIGHT
DTSTART:20210328T030000
RDATE:20211031T020000
TZOFFSETFROM:+0100
TZOFFSETTO:+0200
TZNAME:Europe/Paris CEST
END:DAYLIGHT
BEGIN:DAYLIGHT
DTSTART:20220327T030000
RDATE:20221030T020000
TZOFFSETFROM:+0100
TZOFFSETTO:+0200
TZNAME:Europe/Paris CEST
END:DAYLIGHT
BEGIN:DAYLIGHT
DTSTART:20230326T030000
RDATE:20231029T020000
TZOFFSETFROM:+0100
TZOFFSETTO:+0200
TZNAME:Europe/Paris CEST
END:DAYLIGHT
BEGIN:DAYLIGHT
DTSTART:20240331T030000
RDATE:20241027T020000
TZOFFSETFROM:+0100
TZOFFSETTO:+0200
TZNAME:Europe/Paris CEST
END:DAYLIGHT
BEGIN:DAYLIGHT
DTSTART:20250330T030000
RDATE:20251026T020000
TZOFFSETFROM:+0100
TZOFFSETTO:+0200
TZNAME:Europe/Paris CEST
END:DAYLIGHT
BEGIN:DAYLIGHT
DTSTART:20260329T030000
RDATE:20261025T020000
TZOFFSETFROM:+0100
TZOFFSETTO:+0200
TZNAME:Europe/Paris CEST
END:DAYLIGHT
END:VTIMEZONE
BEGIN:VEVENT
UID:d393e25442caab5fb904ed4b75a0bf68
CATEGORIES:Opens et Promos (alpin)
CREATED:20161202T134851
SUMMARY:PROMO Coupe d'Amnéville  Promo
URL;VALUE=URI:https://skivosges.net/agenda/a-venir/detailevenement/641/-/promo-coupe-damn
 eville-promo?tmpl=component
DESCRIPTION:<!-- #gskiepreuve code généré par le plugin jevents pour GskiEpreuves. Ne p
 as modifier cette ligne, ni tout le contenu suivant  #gskiepreuve --><div c
 lass="gski-evenement_infos"><div class="gski-evenement-nom">PROMO Coupe d'A
 mnéville  Promo</div><div class="gski-evenement-report"></div><ul class="gs
 ki-evenement-liste-infos"><li>Codex évenement AMVT0020</li><li>Lieu : AMNEV
 ILLE LES THERMES</li><li>Station : AMNEVILLE LES THERMES</li><li>Organisate
 ur : 14482 SKI CLUB D'AMNEVILLE</li><li>Courriel : <!-- Cette adresse élect
 ronique est protégée contre les robots spammeurs. --><span class="cloaked_e
 mail ep_5afd17af"><span data-ep-a="&#115;&#103;&#64;s" data-ep-b="&#111;&#1
 14;&#103;"><span data-ep-b="&#108;&#108;&#101;." data-ep-a="&#107;&#105;&#9
 9;&#108;"><span data-ep-a="ub&#97;m" data-ep-b="&#110;e&#118;&#105;"></span
 ></span></span></span><script>RegularLabs.EmailProtector.unCloak("ep_5afd17
 af");</script></li></ul><div class="gski-evenement-infos-2"><div class="gsk
 i-evenement-info-inscriptions"><div class="gski-evenement-inscriptions-peri
 odes">Période d'inscription à l'evènement du samedi 19 novembre 2016 à 01:0
 0 au jeudi 24 novembre 2016 à 13:00 <span class="gski-evenement-inscription
 s-impossibles">(Inscriptions impossibles).</span><div class="gski-evenement
 -inscriptions-types-titres">Le type de titres Fédéraux autorisé n'est pas d
 éfini. Veuillez contacter l'organisateur et lui signaler le problème.</div>
 </div></div><div class="gski-evenement-epreuves"><div class="gski-evenement
 -epreuves-titres">Epreuves :</div><ul class="gski-evenement-epreuves-list">
 <li><div class="gski-epreuve-date">Le samedi 26 novembre 2016</div><ul clas
 s="gski-epreuve-liste-infos"><li>Codex épreuve AMVM0021</li><li>Slalom</li>
 </ul></li><li><div class="gski-epreuve-date">Le samedi 26 novembre 2016</di
 v><ul class="gski-epreuve-liste-infos"><li>Codex épreuve AMVM0022</li><li>S
 lalom</li></ul></li><li><div class="gski-epreuve-date">Le samedi 26 novembr
 e 2016</div><ul class="gski-epreuve-liste-infos"><li>Codex épreuve AMVF0021
 </li><li>Slalom</li></ul></li><li><div class="gski-epreuve-date">Le samedi 
 26 novembre 2016</div><ul class="gski-epreuve-liste-infos"><li>Codex épreuv
 e AMVF0022</li><li>Slalom</li></ul></li></ul></div><div class="gskiepreuves
 -links"><ul><li><a href="/index.php?option=com_jevents&task=icalevent.detai
 l&evid=636&Itemid=6289">Voir les informations dans l'agenda...</a></li></ul
 ></div></div"><!-- #/gskiepreuve fin du dode généré par le plugin jevents p
 our GskiEpreuves. . Ne pas modifier cette ligne, ni tout le contenu préceda
 nt.  #/gskiepreuve --> <a href="https://skivosges.net/agenda/a-venir/detail
 evenement/641/-/promo-coupe-damneville-promo?tmpl=component">Cet évènement 
 a été importé depuis :https://skivosges.net/agenda/a-venir/detailevenement/
 641/-/promo-coupe-damneville-promo?tmpl=component</a>
X-ALT-DESC;FMTTYPE=text/html:<!-- #gskiepreuve code généré par le plugin jevents pour GskiEpreuves. Ne p
 as modifier cette ligne, ni tout le contenu suivant  #gskiepreuve --><div c
 lass="gski-evenement_infos"><div class="gski-evenement-nom">PROMO Coupe d'A
 mnéville  Promo</div><div class="gski-evenement-report"></div><ul class="gs
 ki-evenement-liste-infos"><li>Codex évenement AMVT0020</li><li>Lieu : AMNEV
 ILLE LES THERMES</li><li>Station : AMNEVILLE LES THERMES</li><li>Organisate
 ur : 14482 SKI CLUB D'AMNEVILLE</li><li>Courriel : <!-- Cette adresse élect
 ronique est protégée contre les robots spammeurs. --><span class="cloaked_e
 mail ep_5afd17af"><span data-ep-a="&#115;&#103;&#64;s" data-ep-b="&#111;&#1
 14;&#103;"><span data-ep-b="&#108;&#108;&#101;." data-ep-a="&#107;&#105;&#9
 9;&#108;"><span data-ep-a="ub&#97;m" data-ep-b="&#110;e&#118;&#105;"></span
 ></span></span></span><script>RegularLabs.EmailProtector.unCloak("ep_5afd17
 af");</script></li></ul><div class="gski-evenement-infos-2"><div class="gsk
 i-evenement-info-inscriptions"><div class="gski-evenement-inscriptions-peri
 odes">Période d'inscription à l'evènement du samedi 19 novembre 2016 à 01:0
 0 au jeudi 24 novembre 2016 à 13:00 <span class="gski-evenement-inscription
 s-impossibles">(Inscriptions impossibles).</span><div class="gski-evenement
 -inscriptions-types-titres">Le type de titres Fédéraux autorisé n'est pas d
 éfini. Veuillez contacter l'organisateur et lui signaler le problème.</div>
 </div></div><div class="gski-evenement-epreuves"><div class="gski-evenement
 -epreuves-titres">Epreuves :</div><ul class="gski-evenement-epreuves-list">
 <li><div class="gski-epreuve-date">Le samedi 26 novembre 2016</div><ul clas
 s="gski-epreuve-liste-infos"><li>Codex épreuve AMVM0021</li><li>Slalom</li>
 </ul></li><li><div class="gski-epreuve-date">Le samedi 26 novembre 2016</di
 v><ul class="gski-epreuve-liste-infos"><li>Codex épreuve AMVM0022</li><li>S
 lalom</li></ul></li><li><div class="gski-epreuve-date">Le samedi 26 novembr
 e 2016</div><ul class="gski-epreuve-liste-infos"><li>Codex épreuve AMVF0021
 </li><li>Slalom</li></ul></li><li><div class="gski-epreuve-date">Le samedi 
 26 novembre 2016</div><ul class="gski-epreuve-liste-infos"><li>Codex épreuv
 e AMVF0022</li><li>Slalom</li></ul></li></ul></div><div class="gskiepreuves
 -links"><ul><li><a href="https://skivosges.net/index.php?option=com_jevents
 &task=icalevent.detail&evid=636&Itemid=6289">Voir les informations dans l'a
 genda...</a></li></ul></div></div"><!-- #/gskiepreuve fin du dode généré pa
 r le plugin jevents pour GskiEpreuves. . Ne pas modifier cette ligne, ni to
 ut le contenu précedant.  #/gskiepreuve --> <a href="https://skivosges.net/
 agenda/a-venir/detailevenement/641/-/promo-coupe-damneville-promo?tmpl=comp
 onent">Cet évènement a été importé depuis :https://skivosges.net/agenda/a-v
 enir/detailevenement/641/-/promo-coupe-damneville-promo?tmpl=component</a>DTSTAMP:20260424T074013
DTSTART;TZID=Europe/Paris;VALUE=DATE:20161126
DTEND;TZID=Europe/Paris;VALUE=DATE:20161127
SEQUENCE:0
TRANSP:OPAQUE
END:VEVENT
END:VCALENDAR