BEGIN:VCALENDAR
VERSION:2.0
PRODID:-//jEvents 2.0 for Joomla//EN
CALSCALE:GREGORIAN
METHOD:PUBLISH
BEGIN:VTIMEZONE
TZID:Europe/Paris
BEGIN:STANDARD
DTSTART:20151126T000000
RDATE:20160327T030000
TZOFFSETFROM:+0200
TZOFFSETTO:+0100
TZNAME:Europe/Paris CET
END:STANDARD
BEGIN:STANDARD
DTSTART:20161030T020000
RDATE:20170326T030000
TZOFFSETFROM:+0200
TZOFFSETTO:+0100
TZNAME:Europe/Paris CET
END:STANDARD
BEGIN:STANDARD
DTSTART:20171029T020000
RDATE:20180325T030000
TZOFFSETFROM:+0200
TZOFFSETTO:+0100
TZNAME:Europe/Paris CET
END:STANDARD
BEGIN:STANDARD
DTSTART:20181028T020000
RDATE:20190331T030000
TZOFFSETFROM:+0200
TZOFFSETTO:+0100
TZNAME:Europe/Paris CET
END:STANDARD
BEGIN:STANDARD
DTSTART:20191027T020000
RDATE:20200329T030000
TZOFFSETFROM:+0200
TZOFFSETTO:+0100
TZNAME:Europe/Paris CET
END:STANDARD
BEGIN:STANDARD
DTSTART:20201025T020000
RDATE:20210328T030000
TZOFFSETFROM:+0200
TZOFFSETTO:+0100
TZNAME:Europe/Paris CET
END:STANDARD
BEGIN:STANDARD
DTSTART:20211031T020000
RDATE:20220327T030000
TZOFFSETFROM:+0200
TZOFFSETTO:+0100
TZNAME:Europe/Paris CET
END:STANDARD
BEGIN:STANDARD
DTSTART:20221030T020000
RDATE:20230326T030000
TZOFFSETFROM:+0200
TZOFFSETTO:+0100
TZNAME:Europe/Paris CET
END:STANDARD
BEGIN:STANDARD
DTSTART:20231029T020000
RDATE:20240331T030000
TZOFFSETFROM:+0200
TZOFFSETTO:+0100
TZNAME:Europe/Paris CET
END:STANDARD
BEGIN:STANDARD
DTSTART:20241027T020000
RDATE:20250330T030000
TZOFFSETFROM:+0200
TZOFFSETTO:+0100
TZNAME:Europe/Paris CET
END:STANDARD
BEGIN:STANDARD
DTSTART:20251026T020000
RDATE:20260329T030000
TZOFFSETFROM:+0200
TZOFFSETTO:+0100
TZNAME:Europe/Paris CET
END:STANDARD
BEGIN:STANDARD
DTSTART:20261025T020000
RDATE:20270328T030000
TZOFFSETFROM:+0200
TZOFFSETTO:+0100
TZNAME:Europe/Paris CET
END:STANDARD
BEGIN:DAYLIGHT
DTSTART:20160327T030000
RDATE:20161030T020000
TZOFFSETFROM:+0100
TZOFFSETTO:+0200
TZNAME:Europe/Paris CEST
END:DAYLIGHT
BEGIN:DAYLIGHT
DTSTART:20170326T030000
RDATE:20171029T020000
TZOFFSETFROM:+0100
TZOFFSETTO:+0200
TZNAME:Europe/Paris CEST
END:DAYLIGHT
BEGIN:DAYLIGHT
DTSTART:20180325T030000
RDATE:20181028T020000
TZOFFSETFROM:+0100
TZOFFSETTO:+0200
TZNAME:Europe/Paris CEST
END:DAYLIGHT
BEGIN:DAYLIGHT
DTSTART:20190331T030000
RDATE:20191027T020000
TZOFFSETFROM:+0100
TZOFFSETTO:+0200
TZNAME:Europe/Paris CEST
END:DAYLIGHT
BEGIN:DAYLIGHT
DTSTART:20200329T030000
RDATE:20201025T020000
TZOFFSETFROM:+0100
TZOFFSETTO:+0200
TZNAME:Europe/Paris CEST
END:DAYLIGHT
BEGIN:DAYLIGHT
DTSTART:20210328T030000
RDATE:20211031T020000
TZOFFSETFROM:+0100
TZOFFSETTO:+0200
TZNAME:Europe/Paris CEST
END:DAYLIGHT
BEGIN:DAYLIGHT
DTSTART:20220327T030000
RDATE:20221030T020000
TZOFFSETFROM:+0100
TZOFFSETTO:+0200
TZNAME:Europe/Paris CEST
END:DAYLIGHT
BEGIN:DAYLIGHT
DTSTART:20230326T030000
RDATE:20231029T020000
TZOFFSETFROM:+0100
TZOFFSETTO:+0200
TZNAME:Europe/Paris CEST
END:DAYLIGHT
BEGIN:DAYLIGHT
DTSTART:20240331T030000
RDATE:20241027T020000
TZOFFSETFROM:+0100
TZOFFSETTO:+0200
TZNAME:Europe/Paris CEST
END:DAYLIGHT
BEGIN:DAYLIGHT
DTSTART:20250330T030000
RDATE:20251026T020000
TZOFFSETFROM:+0100
TZOFFSETTO:+0200
TZNAME:Europe/Paris CEST
END:DAYLIGHT
BEGIN:DAYLIGHT
DTSTART:20260329T030000
RDATE:20261025T020000
TZOFFSETFROM:+0100
TZOFFSETTO:+0200
TZNAME:Europe/Paris CEST
END:DAYLIGHT
END:VTIMEZONE
BEGIN:VEVENT
UID:2524a11f12824b062b54a616ab714954
CATEGORIES:Opens et Promos (alpin)
CREATED:20161202T134851
SUMMARY:CD2 Coupe d'Amnéville
URL;VALUE=URI:https://skivosges.net/agenda/a-venir/detailevenement/643/-/cd2-coupe-damnev
 ille?tmpl=component
DESCRIPTION:<!-- #gskiepreuve code généré par le plugin jevents pour GskiEpreuves. Ne p
 as modifier cette ligne, ni tout le contenu suivant  #gskiepreuve --><div c
 lass="gski-evenement_infos"><div class="gski-evenement-nom">CD2 Coupe d'Amn
 éville</div><div class="gski-evenement-report"></div><ul class="gski-evenem
 ent-liste-infos"><li>Codex évenement AMVT0040</li><li>Lieu : AMNEVILLE LES 
 THERMES</li><li>Station : AMNEVILLE LES THERMES</li><li>Organisateur : 1448
 2 SKI CLUB D'AMNEVILLE</li><li>Courriel : <!-- Cette adresse électronique e
 st protégée contre les robots spammeurs. --><span class="cloaked_email ep_2
 f686d47"><span data-ep-b="&#111;r&#103;" data-ep-a="s&#103;&#64;s"><span da
 ta-ep-b="&#108;&#108;&#101;." data-ep-a="&#107;&#105;&#99;&#108;"><span dat
 a-ep-b="&#110;e&#118;&#105;" data-ep-a="ub&#97;&#109;"></span></span></span
 ></span><script>RegularLabs.EmailProtector.unCloak("ep_2f686d47");</script>
 </li></ul><div class="gski-evenement-infos-2"><div class="gski-evenement-in
 fo-inscriptions"><div class="gski-evenement-inscriptions-periodes">Période 
 d'inscription à l'evènement du samedi 19 novembre 2016 à 01:00 au jeudi 24 
 novembre 2016 à 13:00 <span class="gski-evenement-inscriptions-impossibles"
 >(Inscriptions impossibles).</span><div class="gski-evenement-inscriptions-
 types-titres">Le type de titres Fédéraux autorisé n'est pas défini. Veuille
 z contacter l'organisateur et lui signaler le problème.</div></div></div><d
 iv class="gski-evenement-epreuves"><div class="gski-evenement-epreuves-titr
 es">Epreuves :</div><ul class="gski-evenement-epreuves-list"><li><div class
 ="gski-epreuve-date">Le samedi 26 novembre 2016</div><ul class="gski-epreuv
 e-liste-infos"><li>Codex épreuve AMVM0041</li><li>Slalom</li></ul></li><li>
 <div class="gski-epreuve-date">Le samedi 26 novembre 2016</div><ul class="g
 ski-epreuve-liste-infos"><li>Codex épreuve AMVF0041</li><li>Slalom</li></ul
 ></li></ul></div><div class="gskiepreuves-links"><ul><li><a href="/index.ph
 p?option=com_jevents&task=icalevent.detail&evid=638&Itemid=6289">Voir les i
 nformations dans l'agenda...</a></li><li><a href="/index.php?option=com_gsk
 iepreuves&view=afficheresultats&format_option=tous&filter[search]=AMVT0040&
 filter[date_debut]=26-11-2016&filter[date_fin]=26-11-2016&code_activite=ALP
 &Itemid=6289">Vers les résultats...</a></li></ul></div></div"><!-- #/gskiep
 reuve fin du dode généré par le plugin jevents pour GskiEpreuves. . Ne pas 
 modifier cette ligne, ni tout le contenu précedant.  #/gskiepreuve --> <a h
 ref="https://skivosges.net/agenda/a-venir/detailevenement/643/-/cd2-coupe-d
 amneville?tmpl=component">Cet évènement a été importé depuis :https://skivo
 sges.net/agenda/a-venir/detailevenement/643/-/cd2-coupe-damneville?tmpl=com
 ponent</a>
X-ALT-DESC;FMTTYPE=text/html:<!-- #gskiepreuve code généré par le plugin jevents pour GskiEpreuves. Ne p
 as modifier cette ligne, ni tout le contenu suivant  #gskiepreuve --><div c
 lass="gski-evenement_infos"><div class="gski-evenement-nom">CD2 Coupe d'Amn
 éville</div><div class="gski-evenement-report"></div><ul class="gski-evenem
 ent-liste-infos"><li>Codex évenement AMVT0040</li><li>Lieu : AMNEVILLE LES 
 THERMES</li><li>Station : AMNEVILLE LES THERMES</li><li>Organisateur : 1448
 2 SKI CLUB D'AMNEVILLE</li><li>Courriel : <!-- Cette adresse électronique e
 st protégée contre les robots spammeurs. --><span class="cloaked_email ep_2
 f686d47"><span data-ep-b="&#111;r&#103;" data-ep-a="s&#103;&#64;s"><span da
 ta-ep-b="&#108;&#108;&#101;." data-ep-a="&#107;&#105;&#99;&#108;"><span dat
 a-ep-b="&#110;e&#118;&#105;" data-ep-a="ub&#97;&#109;"></span></span></span
 ></span><script>RegularLabs.EmailProtector.unCloak("ep_2f686d47");</script>
 </li></ul><div class="gski-evenement-infos-2"><div class="gski-evenement-in
 fo-inscriptions"><div class="gski-evenement-inscriptions-periodes">Période 
 d'inscription à l'evènement du samedi 19 novembre 2016 à 01:00 au jeudi 24 
 novembre 2016 à 13:00 <span class="gski-evenement-inscriptions-impossibles"
 >(Inscriptions impossibles).</span><div class="gski-evenement-inscriptions-
 types-titres">Le type de titres Fédéraux autorisé n'est pas défini. Veuille
 z contacter l'organisateur et lui signaler le problème.</div></div></div><d
 iv class="gski-evenement-epreuves"><div class="gski-evenement-epreuves-titr
 es">Epreuves :</div><ul class="gski-evenement-epreuves-list"><li><div class
 ="gski-epreuve-date">Le samedi 26 novembre 2016</div><ul class="gski-epreuv
 e-liste-infos"><li>Codex épreuve AMVM0041</li><li>Slalom</li></ul></li><li>
 <div class="gski-epreuve-date">Le samedi 26 novembre 2016</div><ul class="g
 ski-epreuve-liste-infos"><li>Codex épreuve AMVF0041</li><li>Slalom</li></ul
 ></li></ul></div><div class="gskiepreuves-links"><ul><li><a href="https://s
 kivosges.net/index.php?option=com_jevents&task=icalevent.detail&evid=638&It
 emid=6289">Voir les informations dans l'agenda...</a></li><li><a href="http
 s://skivosges.net/index.php?option=com_gskiepreuves&view=afficheresultats&f
 ormat_option=tous&filter[search]=AMVT0040&filter[date_debut]=26-11-2016&fil
 ter[date_fin]=26-11-2016&code_activite=ALP&Itemid=6289">Vers les résultats.
 ..</a></li></ul></div></div"><!-- #/gskiepreuve fin du dode généré par le p
 lugin jevents pour GskiEpreuves. . Ne pas modifier cette ligne, ni tout le 
 contenu précedant.  #/gskiepreuve --> <a href="https://skivosges.net/agenda
 /a-venir/detailevenement/643/-/cd2-coupe-damneville?tmpl=component">Cet évè
 nement a été importé depuis :https://skivosges.net/agenda/a-venir/detaileve
 nement/643/-/cd2-coupe-damneville?tmpl=component</a>DTSTAMP:20260424T074016
DTSTART;TZID=Europe/Paris;VALUE=DATE:20161126
DTEND;TZID=Europe/Paris;VALUE=DATE:20161127
SEQUENCE:0
TRANSP:OPAQUE
END:VEVENT
END:VCALENDAR