BEGIN:VCALENDAR
VERSION:2.0
PRODID:-//jEvents 2.0 for Joomla//EN
CALSCALE:GREGORIAN
METHOD:PUBLISH
BEGIN:VTIMEZONE
TZID:Europe/Paris
BEGIN:STANDARD
DTSTART:20151228T000000
RDATE:20160327T030000
TZOFFSETFROM:+0200
TZOFFSETTO:+0100
TZNAME:Europe/Paris CET
END:STANDARD
BEGIN:STANDARD
DTSTART:20161030T020000
RDATE:20170326T030000
TZOFFSETFROM:+0200
TZOFFSETTO:+0100
TZNAME:Europe/Paris CET
END:STANDARD
BEGIN:STANDARD
DTSTART:20171029T020000
RDATE:20180325T030000
TZOFFSETFROM:+0200
TZOFFSETTO:+0100
TZNAME:Europe/Paris CET
END:STANDARD
BEGIN:STANDARD
DTSTART:20181028T020000
RDATE:20190331T030000
TZOFFSETFROM:+0200
TZOFFSETTO:+0100
TZNAME:Europe/Paris CET
END:STANDARD
BEGIN:STANDARD
DTSTART:20191027T020000
RDATE:20200329T030000
TZOFFSETFROM:+0200
TZOFFSETTO:+0100
TZNAME:Europe/Paris CET
END:STANDARD
BEGIN:STANDARD
DTSTART:20201025T020000
RDATE:20210328T030000
TZOFFSETFROM:+0200
TZOFFSETTO:+0100
TZNAME:Europe/Paris CET
END:STANDARD
BEGIN:STANDARD
DTSTART:20211031T020000
RDATE:20220327T030000
TZOFFSETFROM:+0200
TZOFFSETTO:+0100
TZNAME:Europe/Paris CET
END:STANDARD
BEGIN:STANDARD
DTSTART:20221030T020000
RDATE:20230326T030000
TZOFFSETFROM:+0200
TZOFFSETTO:+0100
TZNAME:Europe/Paris CET
END:STANDARD
BEGIN:STANDARD
DTSTART:20231029T020000
RDATE:20240331T030000
TZOFFSETFROM:+0200
TZOFFSETTO:+0100
TZNAME:Europe/Paris CET
END:STANDARD
BEGIN:STANDARD
DTSTART:20241027T020000
RDATE:20250330T030000
TZOFFSETFROM:+0200
TZOFFSETTO:+0100
TZNAME:Europe/Paris CET
END:STANDARD
BEGIN:STANDARD
DTSTART:20251026T020000
RDATE:20260329T030000
TZOFFSETFROM:+0200
TZOFFSETTO:+0100
TZNAME:Europe/Paris CET
END:STANDARD
BEGIN:STANDARD
DTSTART:20261025T020000
RDATE:20270328T030000
TZOFFSETFROM:+0200
TZOFFSETTO:+0100
TZNAME:Europe/Paris CET
END:STANDARD
BEGIN:DAYLIGHT
DTSTART:20160327T030000
RDATE:20161030T020000
TZOFFSETFROM:+0100
TZOFFSETTO:+0200
TZNAME:Europe/Paris CEST
END:DAYLIGHT
BEGIN:DAYLIGHT
DTSTART:20170326T030000
RDATE:20171029T020000
TZOFFSETFROM:+0100
TZOFFSETTO:+0200
TZNAME:Europe/Paris CEST
END:DAYLIGHT
BEGIN:DAYLIGHT
DTSTART:20180325T030000
RDATE:20181028T020000
TZOFFSETFROM:+0100
TZOFFSETTO:+0200
TZNAME:Europe/Paris CEST
END:DAYLIGHT
BEGIN:DAYLIGHT
DTSTART:20190331T030000
RDATE:20191027T020000
TZOFFSETFROM:+0100
TZOFFSETTO:+0200
TZNAME:Europe/Paris CEST
END:DAYLIGHT
BEGIN:DAYLIGHT
DTSTART:20200329T030000
RDATE:20201025T020000
TZOFFSETFROM:+0100
TZOFFSETTO:+0200
TZNAME:Europe/Paris CEST
END:DAYLIGHT
BEGIN:DAYLIGHT
DTSTART:20210328T030000
RDATE:20211031T020000
TZOFFSETFROM:+0100
TZOFFSETTO:+0200
TZNAME:Europe/Paris CEST
END:DAYLIGHT
BEGIN:DAYLIGHT
DTSTART:20220327T030000
RDATE:20221030T020000
TZOFFSETFROM:+0100
TZOFFSETTO:+0200
TZNAME:Europe/Paris CEST
END:DAYLIGHT
BEGIN:DAYLIGHT
DTSTART:20230326T030000
RDATE:20231029T020000
TZOFFSETFROM:+0100
TZOFFSETTO:+0200
TZNAME:Europe/Paris CEST
END:DAYLIGHT
BEGIN:DAYLIGHT
DTSTART:20240331T030000
RDATE:20241027T020000
TZOFFSETFROM:+0100
TZOFFSETTO:+0200
TZNAME:Europe/Paris CEST
END:DAYLIGHT
BEGIN:DAYLIGHT
DTSTART:20250330T030000
RDATE:20251026T020000
TZOFFSETFROM:+0100
TZOFFSETTO:+0200
TZNAME:Europe/Paris CEST
END:DAYLIGHT
BEGIN:DAYLIGHT
DTSTART:20260329T030000
RDATE:20261025T020000
TZOFFSETFROM:+0100
TZOFFSETTO:+0200
TZNAME:Europe/Paris CEST
END:DAYLIGHT
END:VTIMEZONE
BEGIN:VEVENT
UID:a9aabeadbffb194fc207e6acce529d53
CATEGORIES:Compétition Ski de Fond
CREATED:20161202T134851
SUMMARY:Promo Foyers Massif
URL;VALUE=URI:https://skivosges.net/agenda/a-venir/detailevenement/654/-/promo-foyers-mas
 sif?tmpl=component
DESCRIPTION:Promo Foyers Massif\n - Codex évenement FMVT0040\n - Lieu : LAC BLANC\n - S
 tation : LAC BLANC\n - Organisateur : 14379 LAC BLANC SKI NORDIQUE CV ORBEY
 Période d'inscription à l'evènement du mercredi 21 décembre 2016 à 01:00 au
  lundi 26 décembre 2016 à 13:00 (Inscriptions impossibles).Le type de titre
 s Fédéraux autorisé n'est pas défini. Veuillez contacter l'organisateur et 
 lui signaler le problème.Epreuves :\n - Le mercredi 28 décembre 2016\n - Co
 dex épreuve FMVF0041\n - Depart Individuel\n - Le mercredi 28 décembre 2016
 \n - Codex épreuve FMVM0041\n - Depart Individuel\n - Voir les informations
  dans l'agenda... (/index.php?option=com_jevents&amp;task=icalevent.detail&
 amp;evid=649&amp;Itemid=6289)\n - Vers les résultats... (/index.php?option=
 com_gskiepreuves&amp;view=afficheresultats&amp;format_option=tous&amp;filte
 r[search]=FMVT0040&amp;filter[date_debut]=04-02-2017&amp;filter[date_fin]=0
 4-02-2017&amp;code_activite=FOND&amp;Itemid=6289) Cet évènement a été impor
 té depuis :https://skivosges.net/agenda/a-venir/detailevenement/654/-/promo
 -foyers-massif?tmpl=component (https://skivosges.net/agenda/a-venir/detaile
 venement/654/-/promo-foyers-massif?tmpl=component)
X-ALT-DESC;FMTTYPE=text/html:<!-- #gskiepreuve code généré par le plugin jevents pour GskiEpreuves. Ne p
 as modifier cette ligne, ni tout le contenu suivant  #gskiepreuve --><div c
 lass="gski-evenement_infos"><div class="gski-evenement-nom">Promo Foyers Ma
 ssif</div><div class="gski-evenement-report"></div><ul class="gski-evenemen
 t-liste-infos"><li>Codex évenement FMVT0040</li><li>Lieu : LAC BLANC</li><l
 i>Station : LAC BLANC</li><li>Organisateur : 14379 LAC BLANC SKI NORDIQUE C
 V ORBEY</li></ul><div class="gski-evenement-infos-2"><div class="gski-evene
 ment-info-inscriptions"><div class="gski-evenement-inscriptions-periodes">P
 ériode d'inscription à l'evènement du mercredi 21 décembre 2016 à 01:00 au 
 lundi 26 décembre 2016 à 13:00 <span class="gski-evenement-inscriptions-imp
 ossibles">(Inscriptions impossibles).</span><div class="gski-evenement-insc
 riptions-types-titres">Le type de titres Fédéraux autorisé n'est pas défini
 . Veuillez contacter l'organisateur et lui signaler le problème.</div></div
 ></div><div class="gski-evenement-epreuves"><div class="gski-evenement-epre
 uves-titres">Epreuves :</div><ul class="gski-evenement-epreuves-list"><li><
 div class="gski-epreuve-date">Le mercredi 28 décembre 2016</div><ul class="
 gski-epreuve-liste-infos"><li>Codex épreuve FMVF0041</li><li>Depart Individ
 uel</li></ul></li><li><div class="gski-epreuve-date">Le mercredi 28 décembr
 e 2016</div><ul class="gski-epreuve-liste-infos"><li>Codex épreuve FMVM0041
 </li><li>Depart Individuel</li></ul></li></ul></div><div class="gskiepreuve
 s-links"><ul><li><a href="https://skivosges.net/index.php?option=com_jevent
 s&task=icalevent.detail&evid=649&Itemid=6289">Voir les informations dans l'
 agenda...</a></li><li><a href="https://skivosges.net/index.php?option=com_g
 skiepreuves&view=afficheresultats&format_option=tous&filter[search]=FMVT004
 0&filter[date_debut]=04-02-2017&filter[date_fin]=04-02-2017&code_activite=F
 OND&Itemid=6289">Vers les résultats...</a></li></ul></div></div"><!-- #/gsk
 iepreuve fin du dode généré par le plugin jevents pour GskiEpreuves. . Ne p
 as modifier cette ligne, ni tout le contenu précedant.  #/gskiepreuve --> <
 a href="https://skivosges.net/agenda/a-venir/detailevenement/654/-/promo-fo
 yers-massif?tmpl=component">Cet évènement a été importé depuis :https://ski
 vosges.net/agenda/a-venir/detailevenement/654/-/promo-foyers-massif?tmpl=co
 mponent</a>DTSTAMP:20260424T083656
DTSTART;TZID=Europe/Paris;VALUE=DATE:20161228
DTEND;TZID=Europe/Paris;VALUE=DATE:20161229
SEQUENCE:0
TRANSP:OPAQUE
END:VEVENT
END:VCALENDAR