BEGIN:VCALENDAR
VERSION:2.0
PRODID:-//jEvents 2.0 for Joomla//EN
CALSCALE:GREGORIAN
METHOD:PUBLISH
BEGIN:VTIMEZONE
TZID:Europe/Paris
BEGIN:STANDARD
DTSTART:20160114T000000
RDATE:20160327T030000
TZOFFSETFROM:+0200
TZOFFSETTO:+0100
TZNAME:Europe/Paris CET
END:STANDARD
BEGIN:STANDARD
DTSTART:20161030T020000
RDATE:20170326T030000
TZOFFSETFROM:+0200
TZOFFSETTO:+0100
TZNAME:Europe/Paris CET
END:STANDARD
BEGIN:STANDARD
DTSTART:20171029T020000
RDATE:20180325T030000
TZOFFSETFROM:+0200
TZOFFSETTO:+0100
TZNAME:Europe/Paris CET
END:STANDARD
BEGIN:STANDARD
DTSTART:20181028T020000
RDATE:20190331T030000
TZOFFSETFROM:+0200
TZOFFSETTO:+0100
TZNAME:Europe/Paris CET
END:STANDARD
BEGIN:STANDARD
DTSTART:20191027T020000
RDATE:20200329T030000
TZOFFSETFROM:+0200
TZOFFSETTO:+0100
TZNAME:Europe/Paris CET
END:STANDARD
BEGIN:STANDARD
DTSTART:20201025T020000
RDATE:20210328T030000
TZOFFSETFROM:+0200
TZOFFSETTO:+0100
TZNAME:Europe/Paris CET
END:STANDARD
BEGIN:STANDARD
DTSTART:20211031T020000
RDATE:20220327T030000
TZOFFSETFROM:+0200
TZOFFSETTO:+0100
TZNAME:Europe/Paris CET
END:STANDARD
BEGIN:STANDARD
DTSTART:20221030T020000
RDATE:20230326T030000
TZOFFSETFROM:+0200
TZOFFSETTO:+0100
TZNAME:Europe/Paris CET
END:STANDARD
BEGIN:STANDARD
DTSTART:20231029T020000
RDATE:20240331T030000
TZOFFSETFROM:+0200
TZOFFSETTO:+0100
TZNAME:Europe/Paris CET
END:STANDARD
BEGIN:STANDARD
DTSTART:20241027T020000
RDATE:20250330T030000
TZOFFSETFROM:+0200
TZOFFSETTO:+0100
TZNAME:Europe/Paris CET
END:STANDARD
BEGIN:STANDARD
DTSTART:20251026T020000
RDATE:20260329T030000
TZOFFSETFROM:+0200
TZOFFSETTO:+0100
TZNAME:Europe/Paris CET
END:STANDARD
BEGIN:STANDARD
DTSTART:20261025T020000
RDATE:20270328T030000
TZOFFSETFROM:+0200
TZOFFSETTO:+0100
TZNAME:Europe/Paris CET
END:STANDARD
BEGIN:DAYLIGHT
DTSTART:20160327T030000
RDATE:20161030T020000
TZOFFSETFROM:+0100
TZOFFSETTO:+0200
TZNAME:Europe/Paris CEST
END:DAYLIGHT
BEGIN:DAYLIGHT
DTSTART:20170326T030000
RDATE:20171029T020000
TZOFFSETFROM:+0100
TZOFFSETTO:+0200
TZNAME:Europe/Paris CEST
END:DAYLIGHT
BEGIN:DAYLIGHT
DTSTART:20180325T030000
RDATE:20181028T020000
TZOFFSETFROM:+0100
TZOFFSETTO:+0200
TZNAME:Europe/Paris CEST
END:DAYLIGHT
BEGIN:DAYLIGHT
DTSTART:20190331T030000
RDATE:20191027T020000
TZOFFSETFROM:+0100
TZOFFSETTO:+0200
TZNAME:Europe/Paris CEST
END:DAYLIGHT
BEGIN:DAYLIGHT
DTSTART:20200329T030000
RDATE:20201025T020000
TZOFFSETFROM:+0100
TZOFFSETTO:+0200
TZNAME:Europe/Paris CEST
END:DAYLIGHT
BEGIN:DAYLIGHT
DTSTART:20210328T030000
RDATE:20211031T020000
TZOFFSETFROM:+0100
TZOFFSETTO:+0200
TZNAME:Europe/Paris CEST
END:DAYLIGHT
BEGIN:DAYLIGHT
DTSTART:20220327T030000
RDATE:20221030T020000
TZOFFSETFROM:+0100
TZOFFSETTO:+0200
TZNAME:Europe/Paris CEST
END:DAYLIGHT
BEGIN:DAYLIGHT
DTSTART:20230326T030000
RDATE:20231029T020000
TZOFFSETFROM:+0100
TZOFFSETTO:+0200
TZNAME:Europe/Paris CEST
END:DAYLIGHT
BEGIN:DAYLIGHT
DTSTART:20240331T030000
RDATE:20241027T020000
TZOFFSETFROM:+0100
TZOFFSETTO:+0200
TZNAME:Europe/Paris CEST
END:DAYLIGHT
BEGIN:DAYLIGHT
DTSTART:20250330T030000
RDATE:20251026T020000
TZOFFSETFROM:+0100
TZOFFSETTO:+0200
TZNAME:Europe/Paris CEST
END:DAYLIGHT
BEGIN:DAYLIGHT
DTSTART:20260329T030000
RDATE:20261025T020000
TZOFFSETFROM:+0100
TZOFFSETTO:+0200
TZNAME:Europe/Paris CEST
END:DAYLIGHT
END:VTIMEZONE
BEGIN:VEVENT
UID:eb93a771b2eee17fc84a4cb8cbb65c5a
CATEGORIES:Circuit Massif Adultes (alpin)
CREATED:20161202T134851
SUMMARY:GPA   U16 à Masters **REPORTE**
URL;VALUE=URI:https://skivosges.net/agenda/a-venir/detailevenement/667/-/gpa-u16-a-master
 s-reporte?tmpl=component
DESCRIPTION:GPA   U16 à Masters (Epreuve reportée)\n - Codex évenement AMVT0160\n - Cir
 cuit : Grand Prix Adultes\n - Lieu : GERARDMER\n - Station : GERARDMER\n - 
 Organisateur : 14089 GERARDMER SKI ALPIN\n - Courriel : RegularLabs.EmailPr
 otector.unCloak("ep_bef79935");\n - Téléphone : 03 29 60 98 04Période d'ins
 cription à l'evènement du mercredi 04 janvier 2017 à 01:00 au jeudi 12 janv
 ier 2017 à 19:00 (Inscriptions impossibles).Le type de titres Fédéraux auto
 risé n'est pas défini. Veuillez contacter l'organisateur et lui signaler le
  problème.Epreuves :\n - Le samedi 14 janvier 2017\n - Codex épreuve AMVM01
 61\n - Slalom Geant\n - Circuit : Grand Prix Adultes\n - Le samedi 14 janvi
 er 2017\n - Codex épreuve AMVF0161\n - Slalom Geant\n - Circuit : Grand Pri
 x Adultes\n - Le samedi 14 janvier 2017\n - Codex épreuve AMVM0162\n - Slal
 om Geant\n - Circuit : Grand Prix Adultes\n - Le samedi 14 janvier 2017\n -
  Codex épreuve AMVF0162\n - Slalom Geant\n - Circuit : Grand Prix Adultes\n
  - Voir les informations dans l'agenda... (/index.php?option=com_jevents&am
 p;task=icalevent.detail&amp;evid=662&amp;Itemid=6289)\n - Vers les résultat
 s... (/index.php?option=com_gskiepreuves&amp;view=afficheresultats&amp;form
 at_option=tous&amp;filter[search]=AMVT0160&amp;filter[date_debut]=29-01-201
 7&amp;filter[date_fin]=29-01-2017&amp;code_activite=ALP&amp;Itemid=6289) Ce
 t évènement a été importé depuis :https://skivosges.net/agenda/a-venir/deta
 ilevenement/667/-/gpa-u16-a-masters-reporte?tmpl=component
X-ALT-DESC;FMTTYPE=text/html:<!-- #gskiepreuve code généré par le plugin jevents pour GskiEpreuves. Ne p
 as modifier cette ligne, ni tout le contenu suivant  #gskiepreuve --><div c
 lass="gski-evenement_infos"><div class="gski-evenement-nom">GPA   U16 à Mas
 ters</div><div class="gski-evenement-report"> <font class="gskiattention">(
 Epreuve reportée)</font></div><ul class="gski-evenement-liste-infos"><li>Co
 dex évenement AMVT0160</li><li>Circuit : Grand Prix Adultes</li><li>Lieu : 
 GERARDMER</li><li>Station : GERARDMER</li><li>Organisateur : 14089 GERARDME
 R SKI ALPIN</li><li>Courriel : <!-- Cette adresse électronique est protégée
  contre les robots spammeurs. --><span class="cloaked_email ep_bef79935"><s
 pan data-ep-a="a&#115;g&#115;&#107;" data-ep-b="f&#114;"><span data-ep-a="&
 #105;&#46;&#103;e&#114;" data-ep-b="&#97;&#100;&#111;&#111;&#46;"><span dat
 a-ep-a="&#97;r&#100;m&#101;" data-ep-b="&#114;&#64;&#119;&#97;n"></span></s
 pan></span></span><script>RegularLabs.EmailProtector.unCloak("ep_bef79935")
 ;</script></li><li>Téléphone : 03 29 60 98 04</li></ul><div class="gski-eve
 nement-infos-2"><div class="gski-evenement-info-inscriptions"><div class="g
 ski-evenement-inscriptions-periodes">Période d'inscription à l'evènement du
  mercredi 04 janvier 2017 à 01:00 au jeudi 12 janvier 2017 à 19:00 <span cl
 ass="gski-evenement-inscriptions-impossibles">(Inscriptions impossibles).</
 span><div class="gski-evenement-inscriptions-types-titres">Le type de titre
 s Fédéraux autorisé n'est pas défini. Veuillez contacter l'organisateur et 
 lui signaler le problème.</div></div></div><div class="gski-evenement-epreu
 ves"><div class="gski-evenement-epreuves-titres">Epreuves :</div><ul class=
 "gski-evenement-epreuves-list"><li><div class="gski-epreuve-date">Le samedi
  14 janvier 2017</div><ul class="gski-epreuve-liste-infos"><li>Codex épreuv
 e AMVM0161</li><li>Slalom Geant</li><li>Circuit : Grand Prix Adultes</li></
 ul></li><li><div class="gski-epreuve-date">Le samedi 14 janvier 2017</div><
 ul class="gski-epreuve-liste-infos"><li>Codex épreuve AMVF0161</li><li>Slal
 om Geant</li><li>Circuit : Grand Prix Adultes</li></ul></li><li><div class=
 "gski-epreuve-date">Le samedi 14 janvier 2017</div><ul class="gski-epreuve-
 liste-infos"><li>Codex épreuve AMVM0162</li><li>Slalom Geant</li><li>Circui
 t : Grand Prix Adultes</li></ul></li><li><div class="gski-epreuve-date">Le 
 samedi 14 janvier 2017</div><ul class="gski-epreuve-liste-infos"><li>Codex 
 épreuve AMVF0162</li><li>Slalom Geant</li><li>Circuit : Grand Prix Adultes<
 /li></ul></li></ul></div><div class="gskiepreuves-links"><ul><li><a href="h
 ttps://skivosges.net/index.php?option=com_jevents&task=icalevent.detail&evi
 d=662&Itemid=6289">Voir les informations dans l'agenda...</a></li><li><a hr
 ef="https://skivosges.net/index.php?option=com_gskiepreuves&view=afficheres
 ultats&format_option=tous&filter[search]=AMVT0160&filter[date_debut]=29-01-
 2017&filter[date_fin]=29-01-2017&code_activite=ALP&Itemid=6289">Vers les ré
 sultats...</a></li></ul></div></div"><!-- #/gskiepreuve fin du dode généré 
 par le plugin jevents pour GskiEpreuves. . Ne pas modifier cette ligne, ni 
 tout le contenu précedant.  #/gskiepreuve --> <a href="https://skivosges.ne
 t/agenda/a-venir/detailevenement/667/-/gpa-u16-a-masters-reporte?tmpl=compo
 nent">Cet évènement a été importé depuis :https://skivosges.net/agenda/a-ve
 nir/detailevenement/667/-/gpa-u16-a-masters-reporte?tmpl=component</a>DTSTAMP:20260424T073913
DTSTART;TZID=Europe/Paris;VALUE=DATE:20170114
DTEND;TZID=Europe/Paris;VALUE=DATE:20170115
SEQUENCE:0
TRANSP:OPAQUE
END:VEVENT
END:VCALENDAR