BEGIN:VCALENDAR
VERSION:2.0
PRODID:-//jEvents 2.0 for Joomla//EN
CALSCALE:GREGORIAN
METHOD:PUBLISH
BEGIN:VTIMEZONE
TZID:Europe/Paris
BEGIN:STANDARD
DTSTART:20160125T000000
RDATE:20160327T030000
TZOFFSETFROM:+0200
TZOFFSETTO:+0100
TZNAME:Europe/Paris CET
END:STANDARD
BEGIN:STANDARD
DTSTART:20161030T020000
RDATE:20170326T030000
TZOFFSETFROM:+0200
TZOFFSETTO:+0100
TZNAME:Europe/Paris CET
END:STANDARD
BEGIN:STANDARD
DTSTART:20171029T020000
RDATE:20180325T030000
TZOFFSETFROM:+0200
TZOFFSETTO:+0100
TZNAME:Europe/Paris CET
END:STANDARD
BEGIN:STANDARD
DTSTART:20181028T020000
RDATE:20190331T030000
TZOFFSETFROM:+0200
TZOFFSETTO:+0100
TZNAME:Europe/Paris CET
END:STANDARD
BEGIN:STANDARD
DTSTART:20191027T020000
RDATE:20200329T030000
TZOFFSETFROM:+0200
TZOFFSETTO:+0100
TZNAME:Europe/Paris CET
END:STANDARD
BEGIN:STANDARD
DTSTART:20201025T020000
RDATE:20210328T030000
TZOFFSETFROM:+0200
TZOFFSETTO:+0100
TZNAME:Europe/Paris CET
END:STANDARD
BEGIN:STANDARD
DTSTART:20211031T020000
RDATE:20220327T030000
TZOFFSETFROM:+0200
TZOFFSETTO:+0100
TZNAME:Europe/Paris CET
END:STANDARD
BEGIN:STANDARD
DTSTART:20221030T020000
RDATE:20230326T030000
TZOFFSETFROM:+0200
TZOFFSETTO:+0100
TZNAME:Europe/Paris CET
END:STANDARD
BEGIN:STANDARD
DTSTART:20231029T020000
RDATE:20240331T030000
TZOFFSETFROM:+0200
TZOFFSETTO:+0100
TZNAME:Europe/Paris CET
END:STANDARD
BEGIN:STANDARD
DTSTART:20241027T020000
RDATE:20250330T030000
TZOFFSETFROM:+0200
TZOFFSETTO:+0100
TZNAME:Europe/Paris CET
END:STANDARD
BEGIN:STANDARD
DTSTART:20251026T020000
RDATE:20260329T030000
TZOFFSETFROM:+0200
TZOFFSETTO:+0100
TZNAME:Europe/Paris CET
END:STANDARD
BEGIN:STANDARD
DTSTART:20261025T020000
RDATE:20270328T030000
TZOFFSETFROM:+0200
TZOFFSETTO:+0100
TZNAME:Europe/Paris CET
END:STANDARD
BEGIN:DAYLIGHT
DTSTART:20160327T030000
RDATE:20161030T020000
TZOFFSETFROM:+0100
TZOFFSETTO:+0200
TZNAME:Europe/Paris CEST
END:DAYLIGHT
BEGIN:DAYLIGHT
DTSTART:20170326T030000
RDATE:20171029T020000
TZOFFSETFROM:+0100
TZOFFSETTO:+0200
TZNAME:Europe/Paris CEST
END:DAYLIGHT
BEGIN:DAYLIGHT
DTSTART:20180325T030000
RDATE:20181028T020000
TZOFFSETFROM:+0100
TZOFFSETTO:+0200
TZNAME:Europe/Paris CEST
END:DAYLIGHT
BEGIN:DAYLIGHT
DTSTART:20190331T030000
RDATE:20191027T020000
TZOFFSETFROM:+0100
TZOFFSETTO:+0200
TZNAME:Europe/Paris CEST
END:DAYLIGHT
BEGIN:DAYLIGHT
DTSTART:20200329T030000
RDATE:20201025T020000
TZOFFSETFROM:+0100
TZOFFSETTO:+0200
TZNAME:Europe/Paris CEST
END:DAYLIGHT
BEGIN:DAYLIGHT
DTSTART:20210328T030000
RDATE:20211031T020000
TZOFFSETFROM:+0100
TZOFFSETTO:+0200
TZNAME:Europe/Paris CEST
END:DAYLIGHT
BEGIN:DAYLIGHT
DTSTART:20220327T030000
RDATE:20221030T020000
TZOFFSETFROM:+0100
TZOFFSETTO:+0200
TZNAME:Europe/Paris CEST
END:DAYLIGHT
BEGIN:DAYLIGHT
DTSTART:20230326T030000
RDATE:20231029T020000
TZOFFSETFROM:+0100
TZOFFSETTO:+0200
TZNAME:Europe/Paris CEST
END:DAYLIGHT
BEGIN:DAYLIGHT
DTSTART:20240331T030000
RDATE:20241027T020000
TZOFFSETFROM:+0100
TZOFFSETTO:+0200
TZNAME:Europe/Paris CEST
END:DAYLIGHT
BEGIN:DAYLIGHT
DTSTART:20250330T030000
RDATE:20251026T020000
TZOFFSETFROM:+0100
TZOFFSETTO:+0200
TZNAME:Europe/Paris CEST
END:DAYLIGHT
BEGIN:DAYLIGHT
DTSTART:20260329T030000
RDATE:20261025T020000
TZOFFSETFROM:+0100
TZOFFSETTO:+0200
TZNAME:Europe/Paris CEST
END:DAYLIGHT
END:VTIMEZONE
BEGIN:VEVENT
UID:b54c1de29e338005a5d7f911105d56cb
CATEGORIES:Compétition Ski de Fond
CREATED:20161202T134851
SUMMARY:Promo Foyers Massif
URL;VALUE=URI:https://skivosges.net/agenda/a-venir/detailevenement/687/-/promo-foyers-mas
 sif?tmpl=component
DESCRIPTION:Promo Foyers Massif\n - Codex évenement FMVT0110\n - Lieu : MARKSTEIN\n - S
 tation : MARKSTEIN\n - Organisateur : Période d'inscription à l'evènement d
 u mercredi 04 janvier 2017 à 01:00 au lundi 23 janvier 2017 à 13:00 (Inscri
 ptions impossibles).Le type de titres Fédéraux autorisé n'est pas défini. V
 euillez contacter l'organisateur et lui signaler le problème.Epreuves :\n -
  Le mercredi 25 janvier 2017\n - Codex épreuve FMVF0111\n - Depart Individu
 el\n - Le mercredi 25 janvier 2017\n - Codex épreuve FMVM0111\n - Depart In
 dividuel\n - Le mercredi 25 janvier 2017\n - Codex épreuve FMVF0112\n - Dep
 art Individuel\n - Le mercredi 25 janvier 2017\n - Codex épreuve FMVM0112\n
  - Depart Individuel\n - Voir les informations dans l'agenda... (/index.php
 ?option=com_jevents&amp;task=icalevent.detail&amp;evid=682&amp;Itemid=6289)
 \n - Vers les résultats... (/index.php?option=com_gskiepreuves&amp;view=aff
 icheresultats&amp;format_option=tous&amp;filter[search]=FMVT0110&amp;filter
 [date_debut]=25-01-2017&amp;filter[date_fin]=25-01-2017&amp;code_activite=F
 OND&amp;Itemid=6289) Cet évènement a été importé depuis :https://skivosges.
 net/agenda/a-venir/detailevenement/687/-/promo-foyers-massif?tmpl=component
  (https://skivosges.net/agenda/a-venir/detailevenement/687/-/promo-foyers-m
 assif?tmpl=component)
X-ALT-DESC;FMTTYPE=text/html:<!-- #gskiepreuve code généré par le plugin jevents pour GskiEpreuves. Ne p
 as modifier cette ligne, ni tout le contenu suivant  #gskiepreuve --><div c
 lass="gski-evenement_infos"><div class="gski-evenement-nom">Promo Foyers Ma
 ssif</div><div class="gski-evenement-report"></div><ul class="gski-evenemen
 t-liste-infos"><li>Codex évenement FMVT0110</li><li>Lieu : MARKSTEIN</li><l
 i>Station : MARKSTEIN</li><li>Organisateur : </li></ul><div class="gski-eve
 nement-infos-2"><div class="gski-evenement-info-inscriptions"><div class="g
 ski-evenement-inscriptions-periodes">Période d'inscription à l'evènement du
  mercredi 04 janvier 2017 à 01:00 au lundi 23 janvier 2017 à 13:00 <span cl
 ass="gski-evenement-inscriptions-impossibles">(Inscriptions impossibles).</
 span><div class="gski-evenement-inscriptions-types-titres">Le type de titre
 s Fédéraux autorisé n'est pas défini. Veuillez contacter l'organisateur et 
 lui signaler le problème.</div></div></div><div class="gski-evenement-epreu
 ves"><div class="gski-evenement-epreuves-titres">Epreuves :</div><ul class=
 "gski-evenement-epreuves-list"><li><div class="gski-epreuve-date">Le mercre
 di 25 janvier 2017</div><ul class="gski-epreuve-liste-infos"><li>Codex épre
 uve FMVF0111</li><li>Depart Individuel</li></ul></li><li><div class="gski-e
 preuve-date">Le mercredi 25 janvier 2017</div><ul class="gski-epreuve-liste
 -infos"><li>Codex épreuve FMVM0111</li><li>Depart Individuel</li></ul></li>
 <li><div class="gski-epreuve-date">Le mercredi 25 janvier 2017</div><ul cla
 ss="gski-epreuve-liste-infos"><li>Codex épreuve FMVF0112</li><li>Depart Ind
 ividuel</li></ul></li><li><div class="gski-epreuve-date">Le mercredi 25 jan
 vier 2017</div><ul class="gski-epreuve-liste-infos"><li>Codex épreuve FMVM0
 112</li><li>Depart Individuel</li></ul></li></ul></div><div class="gskiepre
 uves-links"><ul><li><a href="https://skivosges.net/index.php?option=com_jev
 ents&task=icalevent.detail&evid=682&Itemid=6289">Voir les informations dans
  l'agenda...</a></li><li><a href="https://skivosges.net/index.php?option=co
 m_gskiepreuves&view=afficheresultats&format_option=tous&filter[search]=FMVT
 0110&filter[date_debut]=25-01-2017&filter[date_fin]=25-01-2017&code_activit
 e=FOND&Itemid=6289">Vers les résultats...</a></li></ul></div></div"><!-- #/
 gskiepreuve fin du dode généré par le plugin jevents pour GskiEpreuves. . N
 e pas modifier cette ligne, ni tout le contenu précedant.  #/gskiepreuve --
 > <a href="https://skivosges.net/agenda/a-venir/detailevenement/687/-/promo
 -foyers-massif?tmpl=component">Cet évènement a été importé depuis :https://
 skivosges.net/agenda/a-venir/detailevenement/687/-/promo-foyers-massif?tmpl
 =component</a>DTSTAMP:20260424T083657
DTSTART;TZID=Europe/Paris;VALUE=DATE:20170125
DTEND;TZID=Europe/Paris;VALUE=DATE:20170126
SEQUENCE:0
TRANSP:OPAQUE
END:VEVENT
END:VCALENDAR