BEGIN:VCALENDAR
VERSION:2.0
PRODID:-//jEvents 2.0 for Joomla//EN
CALSCALE:GREGORIAN
METHOD:PUBLISH
BEGIN:VTIMEZONE
TZID:Europe/Paris
BEGIN:STANDARD
DTSTART:20160128T000000
RDATE:20160327T030000
TZOFFSETFROM:+0200
TZOFFSETTO:+0100
TZNAME:Europe/Paris CET
END:STANDARD
BEGIN:STANDARD
DTSTART:20161030T020000
RDATE:20170326T030000
TZOFFSETFROM:+0200
TZOFFSETTO:+0100
TZNAME:Europe/Paris CET
END:STANDARD
BEGIN:STANDARD
DTSTART:20171029T020000
RDATE:20180325T030000
TZOFFSETFROM:+0200
TZOFFSETTO:+0100
TZNAME:Europe/Paris CET
END:STANDARD
BEGIN:STANDARD
DTSTART:20181028T020000
RDATE:20190331T030000
TZOFFSETFROM:+0200
TZOFFSETTO:+0100
TZNAME:Europe/Paris CET
END:STANDARD
BEGIN:STANDARD
DTSTART:20191027T020000
RDATE:20200329T030000
TZOFFSETFROM:+0200
TZOFFSETTO:+0100
TZNAME:Europe/Paris CET
END:STANDARD
BEGIN:STANDARD
DTSTART:20201025T020000
RDATE:20210328T030000
TZOFFSETFROM:+0200
TZOFFSETTO:+0100
TZNAME:Europe/Paris CET
END:STANDARD
BEGIN:STANDARD
DTSTART:20211031T020000
RDATE:20220327T030000
TZOFFSETFROM:+0200
TZOFFSETTO:+0100
TZNAME:Europe/Paris CET
END:STANDARD
BEGIN:STANDARD
DTSTART:20221030T020000
RDATE:20230326T030000
TZOFFSETFROM:+0200
TZOFFSETTO:+0100
TZNAME:Europe/Paris CET
END:STANDARD
BEGIN:STANDARD
DTSTART:20231029T020000
RDATE:20240331T030000
TZOFFSETFROM:+0200
TZOFFSETTO:+0100
TZNAME:Europe/Paris CET
END:STANDARD
BEGIN:STANDARD
DTSTART:20241027T020000
RDATE:20250330T030000
TZOFFSETFROM:+0200
TZOFFSETTO:+0100
TZNAME:Europe/Paris CET
END:STANDARD
BEGIN:STANDARD
DTSTART:20251026T020000
RDATE:20260329T030000
TZOFFSETFROM:+0200
TZOFFSETTO:+0100
TZNAME:Europe/Paris CET
END:STANDARD
BEGIN:STANDARD
DTSTART:20261025T020000
RDATE:20270328T030000
TZOFFSETFROM:+0200
TZOFFSETTO:+0100
TZNAME:Europe/Paris CET
END:STANDARD
BEGIN:DAYLIGHT
DTSTART:20160327T030000
RDATE:20161030T020000
TZOFFSETFROM:+0100
TZOFFSETTO:+0200
TZNAME:Europe/Paris CEST
END:DAYLIGHT
BEGIN:DAYLIGHT
DTSTART:20170326T030000
RDATE:20171029T020000
TZOFFSETFROM:+0100
TZOFFSETTO:+0200
TZNAME:Europe/Paris CEST
END:DAYLIGHT
BEGIN:DAYLIGHT
DTSTART:20180325T030000
RDATE:20181028T020000
TZOFFSETFROM:+0100
TZOFFSETTO:+0200
TZNAME:Europe/Paris CEST
END:DAYLIGHT
BEGIN:DAYLIGHT
DTSTART:20190331T030000
RDATE:20191027T020000
TZOFFSETFROM:+0100
TZOFFSETTO:+0200
TZNAME:Europe/Paris CEST
END:DAYLIGHT
BEGIN:DAYLIGHT
DTSTART:20200329T030000
RDATE:20201025T020000
TZOFFSETFROM:+0100
TZOFFSETTO:+0200
TZNAME:Europe/Paris CEST
END:DAYLIGHT
BEGIN:DAYLIGHT
DTSTART:20210328T030000
RDATE:20211031T020000
TZOFFSETFROM:+0100
TZOFFSETTO:+0200
TZNAME:Europe/Paris CEST
END:DAYLIGHT
BEGIN:DAYLIGHT
DTSTART:20220327T030000
RDATE:20221030T020000
TZOFFSETFROM:+0100
TZOFFSETTO:+0200
TZNAME:Europe/Paris CEST
END:DAYLIGHT
BEGIN:DAYLIGHT
DTSTART:20230326T030000
RDATE:20231029T020000
TZOFFSETFROM:+0100
TZOFFSETTO:+0200
TZNAME:Europe/Paris CEST
END:DAYLIGHT
BEGIN:DAYLIGHT
DTSTART:20240331T030000
RDATE:20241027T020000
TZOFFSETFROM:+0100
TZOFFSETTO:+0200
TZNAME:Europe/Paris CEST
END:DAYLIGHT
BEGIN:DAYLIGHT
DTSTART:20250330T030000
RDATE:20251026T020000
TZOFFSETFROM:+0100
TZOFFSETTO:+0200
TZNAME:Europe/Paris CEST
END:DAYLIGHT
BEGIN:DAYLIGHT
DTSTART:20260329T030000
RDATE:20261025T020000
TZOFFSETFROM:+0100
TZOFFSETTO:+0200
TZNAME:Europe/Paris CEST
END:DAYLIGHT
END:VTIMEZONE
BEGIN:VEVENT
UID:4ad903cb560a5f752a6acc7f1aa593cb
CATEGORIES:Opens et Promos (alpin)
CREATED:20161202T134851
SUMMARY:PROMO U8 - Masters Fête de la Neige
URL;VALUE=URI:https://skivosges.net/agenda/a-venir/detailevenement/689/-/promo-u8-masters
 -fete-de-la-neige?tmpl=component
DESCRIPTION:PROMO U8 - Masters Fête de la Neige\n - Codex évenement AMVT0310\n - Lieu :
  CHAMP DU FEU\n - Station : CHAMP DU FEU\n - Organisateur : 14003 SKI CLUB 
 BARR\n - Courriel : RegularLabs.EmailProtector.unCloak("ep_b46ecb60");\n - 
 Téléphone : 03 88 49 04Période d'inscription à l'evènement du samedi 21 jan
 vier 2017 à 01:00 au vendredi 27 janvier 2017 à 20:00 (Inscriptions impossi
 bles).Le type de titres Fédéraux autorisé n'est pas défini. Veuillez contac
 ter l'organisateur et lui signaler le problème.Epreuves :\n - Le samedi 28 
 janvier 2017\n - Codex épreuve AMVM0311\n - (P)\n - Le samedi 28 janvier 20
 17\n - Codex épreuve AMVF0311\n - (P)\n - Le samedi 28 janvier 2017\n - Cod
 ex épreuve AMVM0312\n - (P)\n - Le samedi 28 janvier 2017\n - Codex épreuve
  AMVF0312\n - (P)\n - Le samedi 28 janvier 2017\n - Codex épreuve AMVM0313\
 n - (P)\n - Le samedi 28 janvier 2017\n - Codex épreuve AMVF0313\n - (P)\n 
 - Voir les informations dans l'agenda... (/index.php?option=com_jevents&amp
 ;task=icalevent.detail&amp;evid=684&amp;Itemid=6289) Cet évènement a été im
 porté depuis :https://skivosges.net/agenda/a-venir/detailevenement/689/-/pr
 omo-u8-masters-fete-de-la-neige?tmpl=component (https://skivosges.net/agend
 a/a-venir/detailevenement/689/-/promo-u8-masters-fete-de-la-neige?tmpl=comp
 onent)
X-ALT-DESC;FMTTYPE=text/html:<!-- #gskiepreuve code généré par le plugin jevents pour GskiEpreuves. Ne p
 as modifier cette ligne, ni tout le contenu suivant  #gskiepreuve --><div c
 lass="gski-evenement_infos"><div class="gski-evenement-nom">PROMO U8 - Mast
 ers Fête de la Neige</div><div class="gski-evenement-report"></div><ul clas
 s="gski-evenement-liste-infos"><li>Codex évenement AMVT0310</li><li>Lieu : 
 CHAMP DU FEU</li><li>Station : CHAMP DU FEU</li><li>Organisateur : 14003 SK
 I CLUB BARR</li><li>Courriel : <!-- Cette adresse électronique est protégée
  contre les robots spammeurs. --><span class="cloaked_email ep_b46ecb60"><s
 pan data-ep-b="&#114;&#46;f&#114;" data-ep-a="&#99;&#111;&#110;t"><span dat
 a-ep-b="&#45;&#98;&#97;r" data-ep-a="&#97;c&#116;&#64;"><span data-ep-b="&#
 99;&#108;&#117;&#98;" data-ep-a="&#115;&#107;&#105;-"></span></span></span>
 </span><script>RegularLabs.EmailProtector.unCloak("ep_b46ecb60");</script><
 /li><li>Téléphone : 03 88 49 04</li></ul><div class="gski-evenement-infos-2
 "><div class="gski-evenement-info-inscriptions"><div class="gski-evenement-
 inscriptions-periodes">Période d'inscription à l'evènement du samedi 21 jan
 vier 2017 à 01:00 au vendredi 27 janvier 2017 à 20:00 <span class="gski-eve
 nement-inscriptions-impossibles">(Inscriptions impossibles).</span><div cla
 ss="gski-evenement-inscriptions-types-titres">Le type de titres Fédéraux au
 torisé n'est pas défini. Veuillez contacter l'organisateur et lui signaler 
 le problème.</div></div></div><div class="gski-evenement-epreuves"><div cla
 ss="gski-evenement-epreuves-titres">Epreuves :</div><ul class="gski-eveneme
 nt-epreuves-list"><li><div class="gski-epreuve-date">Le samedi 28 janvier 2
 017</div><ul class="gski-epreuve-liste-infos"><li>Codex épreuve AMVM0311</l
 i><li>(P)</li></ul></li><li><div class="gski-epreuve-date">Le samedi 28 jan
 vier 2017</div><ul class="gski-epreuve-liste-infos"><li>Codex épreuve AMVF0
 311</li><li>(P)</li></ul></li><li><div class="gski-epreuve-date">Le samedi 
 28 janvier 2017</div><ul class="gski-epreuve-liste-infos"><li>Codex épreuve
  AMVM0312</li><li>(P)</li></ul></li><li><div class="gski-epreuve-date">Le s
 amedi 28 janvier 2017</div><ul class="gski-epreuve-liste-infos"><li>Codex é
 preuve AMVF0312</li><li>(P)</li></ul></li><li><div class="gski-epreuve-date
 ">Le samedi 28 janvier 2017</div><ul class="gski-epreuve-liste-infos"><li>C
 odex épreuve AMVM0313</li><li>(P)</li></ul></li><li><div class="gski-epreuv
 e-date">Le samedi 28 janvier 2017</div><ul class="gski-epreuve-liste-infos"
 ><li>Codex épreuve AMVF0313</li><li>(P)</li></ul></li></ul></div><div class
 ="gskiepreuves-links"><ul><li><a href="https://skivosges.net/index.php?opti
 on=com_jevents&task=icalevent.detail&evid=684&Itemid=6289">Voir les informa
 tions dans l'agenda...</a></li></ul></div></div"><!-- #/gskiepreuve fin du 
 dode généré par le plugin jevents pour GskiEpreuves. . Ne pas modifier cett
 e ligne, ni tout le contenu précedant.  #/gskiepreuve --> <a href="https://
 skivosges.net/agenda/a-venir/detailevenement/689/-/promo-u8-masters-fete-de
 -la-neige?tmpl=component">Cet évènement a été importé depuis :https://skivo
 sges.net/agenda/a-venir/detailevenement/689/-/promo-u8-masters-fete-de-la-n
 eige?tmpl=component</a>DTSTAMP:20260424T083658
DTSTART;TZID=Europe/Paris;VALUE=DATE:20170128
DTEND;TZID=Europe/Paris;VALUE=DATE:20170129
SEQUENCE:0
TRANSP:OPAQUE
END:VEVENT
END:VCALENDAR