BEGIN:VCALENDAR
VERSION:2.0
PRODID:-//jEvents 2.0 for Joomla//EN
CALSCALE:GREGORIAN
METHOD:PUBLISH
BEGIN:VTIMEZONE
TZID:Europe/Paris
BEGIN:STANDARD
DTSTART:20160128T000000
RDATE:20160327T030000
TZOFFSETFROM:+0200
TZOFFSETTO:+0100
TZNAME:Europe/Paris CET
END:STANDARD
BEGIN:STANDARD
DTSTART:20161030T020000
RDATE:20170326T030000
TZOFFSETFROM:+0200
TZOFFSETTO:+0100
TZNAME:Europe/Paris CET
END:STANDARD
BEGIN:STANDARD
DTSTART:20171029T020000
RDATE:20180325T030000
TZOFFSETFROM:+0200
TZOFFSETTO:+0100
TZNAME:Europe/Paris CET
END:STANDARD
BEGIN:STANDARD
DTSTART:20181028T020000
RDATE:20190331T030000
TZOFFSETFROM:+0200
TZOFFSETTO:+0100
TZNAME:Europe/Paris CET
END:STANDARD
BEGIN:STANDARD
DTSTART:20191027T020000
RDATE:20200329T030000
TZOFFSETFROM:+0200
TZOFFSETTO:+0100
TZNAME:Europe/Paris CET
END:STANDARD
BEGIN:STANDARD
DTSTART:20201025T020000
RDATE:20210328T030000
TZOFFSETFROM:+0200
TZOFFSETTO:+0100
TZNAME:Europe/Paris CET
END:STANDARD
BEGIN:STANDARD
DTSTART:20211031T020000
RDATE:20220327T030000
TZOFFSETFROM:+0200
TZOFFSETTO:+0100
TZNAME:Europe/Paris CET
END:STANDARD
BEGIN:STANDARD
DTSTART:20221030T020000
RDATE:20230326T030000
TZOFFSETFROM:+0200
TZOFFSETTO:+0100
TZNAME:Europe/Paris CET
END:STANDARD
BEGIN:STANDARD
DTSTART:20231029T020000
RDATE:20240331T030000
TZOFFSETFROM:+0200
TZOFFSETTO:+0100
TZNAME:Europe/Paris CET
END:STANDARD
BEGIN:STANDARD
DTSTART:20241027T020000
RDATE:20250330T030000
TZOFFSETFROM:+0200
TZOFFSETTO:+0100
TZNAME:Europe/Paris CET
END:STANDARD
BEGIN:STANDARD
DTSTART:20251026T020000
RDATE:20260329T030000
TZOFFSETFROM:+0200
TZOFFSETTO:+0100
TZNAME:Europe/Paris CET
END:STANDARD
BEGIN:STANDARD
DTSTART:20261025T020000
RDATE:20270328T030000
TZOFFSETFROM:+0200
TZOFFSETTO:+0100
TZNAME:Europe/Paris CET
END:STANDARD
BEGIN:DAYLIGHT
DTSTART:20160327T030000
RDATE:20161030T020000
TZOFFSETFROM:+0100
TZOFFSETTO:+0200
TZNAME:Europe/Paris CEST
END:DAYLIGHT
BEGIN:DAYLIGHT
DTSTART:20170326T030000
RDATE:20171029T020000
TZOFFSETFROM:+0100
TZOFFSETTO:+0200
TZNAME:Europe/Paris CEST
END:DAYLIGHT
BEGIN:DAYLIGHT
DTSTART:20180325T030000
RDATE:20181028T020000
TZOFFSETFROM:+0100
TZOFFSETTO:+0200
TZNAME:Europe/Paris CEST
END:DAYLIGHT
BEGIN:DAYLIGHT
DTSTART:20190331T030000
RDATE:20191027T020000
TZOFFSETFROM:+0100
TZOFFSETTO:+0200
TZNAME:Europe/Paris CEST
END:DAYLIGHT
BEGIN:DAYLIGHT
DTSTART:20200329T030000
RDATE:20201025T020000
TZOFFSETFROM:+0100
TZOFFSETTO:+0200
TZNAME:Europe/Paris CEST
END:DAYLIGHT
BEGIN:DAYLIGHT
DTSTART:20210328T030000
RDATE:20211031T020000
TZOFFSETFROM:+0100
TZOFFSETTO:+0200
TZNAME:Europe/Paris CEST
END:DAYLIGHT
BEGIN:DAYLIGHT
DTSTART:20220327T030000
RDATE:20221030T020000
TZOFFSETFROM:+0100
TZOFFSETTO:+0200
TZNAME:Europe/Paris CEST
END:DAYLIGHT
BEGIN:DAYLIGHT
DTSTART:20230326T030000
RDATE:20231029T020000
TZOFFSETFROM:+0100
TZOFFSETTO:+0200
TZNAME:Europe/Paris CEST
END:DAYLIGHT
BEGIN:DAYLIGHT
DTSTART:20240331T030000
RDATE:20241027T020000
TZOFFSETFROM:+0100
TZOFFSETTO:+0200
TZNAME:Europe/Paris CEST
END:DAYLIGHT
BEGIN:DAYLIGHT
DTSTART:20250330T030000
RDATE:20251026T020000
TZOFFSETFROM:+0100
TZOFFSETTO:+0200
TZNAME:Europe/Paris CEST
END:DAYLIGHT
BEGIN:DAYLIGHT
DTSTART:20260329T030000
RDATE:20261025T020000
TZOFFSETFROM:+0100
TZOFFSETTO:+0200
TZNAME:Europe/Paris CEST
END:DAYLIGHT
END:VTIMEZONE
BEGIN:VEVENT
UID:a4451f87c5abef4b9cd87b93620240b4
CATEGORIES:Circuit Massif Adultes (alpin)
CREATED:20161202T134851
SUMMARY:GPA   U16 à Masters G. Prix Domaine Welty J-Michel
URL;VALUE=URI:https://skivosges.net/agenda/a-venir/detailevenement/692/-/gpa-u16-a-master
 s-g-prix-domaine-welty-j-michel?tmpl=component
DESCRIPTION:<!-- #gskiepreuve code généré par le plugin jevents pour GskiEpreuves. Ne p
 as modifier cette ligne, ni tout le contenu suivant  #gskiepreuve --><div c
 lass="gski-evenement_infos"><div class="gski-evenement-nom">GPA   U16 à Mas
 ters G. Prix Domaine Welty J-Michel</div><div class="gski-evenement-report"
 ></div><ul class="gski-evenement-liste-infos"><li>Codex évenement AMVT0320<
 /li><li>Circuit : Grand Prix Adultes</li><li>Lieu : MARKSTEIN</li><li>Stati
 on : MARKSTEIN</li><li>Organisateur : 14186 S.C VALLEE DE WESSERLING</li><l
 i>Courriel : <!-- Cette adresse électronique est protégée contre les robots
  spammeurs. --><span class="cloaked_email ep_82fb959a"><span data-ep-a="&#1
 15;&#99;v&#119;" data-ep-b="m"><span data-ep-a="&#101;&#115;&#115;&#101;" d
 ata-ep-b="&#108;&#46;&#99;o"><span data-ep-b="g&#64;&#97;&#111;" data-ep-a=
 "&#114;l&#105;&#110;"></span></span></span></span><script>RegularLabs.Email
 Protector.unCloak("ep_82fb959a");</script></li><li>Téléphone : 03 89 82 78 
 08</li><li>Télécopie : 03 89 82 78 08</li></ul><div class="gski-evenement-i
 nfos-2"><div class="gski-evenement-info-inscriptions"><div class="gski-even
 ement-inscriptions-periodes">Période d'inscription à l'evènement du lundi 2
 3 janvier 2017 à 22:00 au samedi 28 janvier 2017 à 00:00 <span class="gski-
 evenement-inscriptions-impossibles">(Inscriptions impossibles).</span><div 
 class="gski-evenement-inscriptions-types-titres">Le type de titres Fédéraux
  autorisé n'est pas défini. Veuillez contacter l'organisateur et lui signal
 er le problème.</div></div></div><div class="gski-evenement-epreuves"><div 
 class="gski-evenement-epreuves-titres">Epreuves :</div><ul class="gski-even
 ement-epreuves-list"><li><div class="gski-epreuve-date">Le samedi 28 janvie
 r 2017</div><ul class="gski-epreuve-liste-infos"><li>Codex épreuve AMVM0321
 </li><li>Slalom</li><li>Circuit : Grand Prix Adultes</li></ul></li><li><div
  class="gski-epreuve-date">Le samedi 28 janvier 2017</div><ul class="gski-e
 preuve-liste-infos"><li>Codex épreuve AMVF0321</li><li>Slalom</li><li>Circu
 it : Grand Prix Adultes</li></ul></li><li><div class="gski-epreuve-date">Le
  samedi 28 janvier 2017</div><ul class="gski-epreuve-liste-infos"><li>Codex
  épreuve AMVM0322</li><li>Slalom</li><li>Circuit : Grand Prix Adultes</li><
 /ul></li><li><div class="gski-epreuve-date">Le samedi 28 janvier 2017</div>
 <ul class="gski-epreuve-liste-infos"><li>Codex épreuve AMVF0322</li><li>Sla
 lom</li><li>Circuit : Grand Prix Adultes</li></ul></li></ul></div><div clas
 s="gskiepreuves-links"><ul><li><a href="/index.php?option=com_jevents&task=
 icalevent.detail&evid=687&Itemid=6289">Voir les informations dans l'agenda.
 ..</a></li><li><a href="/index.php?option=com_gskiepreuves&view=afficheresu
 ltats&format_option=tous&filter[search]=AMVT0320&filter[date_debut]=28-01-2
 017&filter[date_fin]=28-01-2017&code_activite=ALP&Itemid=6289">Vers les rés
 ultats...</a></li></ul></div></div"><!-- #/gskiepreuve fin du dode généré p
 ar le plugin jevents pour GskiEpreuves. . Ne pas modifier cette ligne, ni t
 out le contenu précedant.  #/gskiepreuve --> <a href="https://skivosges.net
 /agenda/a-venir/detailevenement/692/-/gpa-u16-a-masters-g-prix-domaine-welt
 y-j-michel?tmpl=component">Cet évènement a été importé depuis :https://skiv
 osges.net/agenda/a-venir/detailevenement/692/-/gpa-u16-a-masters-g-prix-dom
 aine-welty-j-michel?tmpl=component</a>
X-ALT-DESC;FMTTYPE=text/html:<!-- #gskiepreuve code généré par le plugin jevents pour GskiEpreuves. Ne p
 as modifier cette ligne, ni tout le contenu suivant  #gskiepreuve --><div c
 lass="gski-evenement_infos"><div class="gski-evenement-nom">GPA   U16 à Mas
 ters G. Prix Domaine Welty J-Michel</div><div class="gski-evenement-report"
 ></div><ul class="gski-evenement-liste-infos"><li>Codex évenement AMVT0320<
 /li><li>Circuit : Grand Prix Adultes</li><li>Lieu : MARKSTEIN</li><li>Stati
 on : MARKSTEIN</li><li>Organisateur : 14186 S.C VALLEE DE WESSERLING</li><l
 i>Courriel : <!-- Cette adresse électronique est protégée contre les robots
  spammeurs. --><span class="cloaked_email ep_82fb959a"><span data-ep-a="&#1
 15;&#99;v&#119;" data-ep-b="m"><span data-ep-a="&#101;&#115;&#115;&#101;" d
 ata-ep-b="&#108;&#46;&#99;o"><span data-ep-b="g&#64;&#97;&#111;" data-ep-a=
 "&#114;l&#105;&#110;"></span></span></span></span><script>RegularLabs.Email
 Protector.unCloak("ep_82fb959a");</script></li><li>Téléphone : 03 89 82 78 
 08</li><li>Télécopie : 03 89 82 78 08</li></ul><div class="gski-evenement-i
 nfos-2"><div class="gski-evenement-info-inscriptions"><div class="gski-even
 ement-inscriptions-periodes">Période d'inscription à l'evènement du lundi 2
 3 janvier 2017 à 22:00 au samedi 28 janvier 2017 à 00:00 <span class="gski-
 evenement-inscriptions-impossibles">(Inscriptions impossibles).</span><div 
 class="gski-evenement-inscriptions-types-titres">Le type de titres Fédéraux
  autorisé n'est pas défini. Veuillez contacter l'organisateur et lui signal
 er le problème.</div></div></div><div class="gski-evenement-epreuves"><div 
 class="gski-evenement-epreuves-titres">Epreuves :</div><ul class="gski-even
 ement-epreuves-list"><li><div class="gski-epreuve-date">Le samedi 28 janvie
 r 2017</div><ul class="gski-epreuve-liste-infos"><li>Codex épreuve AMVM0321
 </li><li>Slalom</li><li>Circuit : Grand Prix Adultes</li></ul></li><li><div
  class="gski-epreuve-date">Le samedi 28 janvier 2017</div><ul class="gski-e
 preuve-liste-infos"><li>Codex épreuve AMVF0321</li><li>Slalom</li><li>Circu
 it : Grand Prix Adultes</li></ul></li><li><div class="gski-epreuve-date">Le
  samedi 28 janvier 2017</div><ul class="gski-epreuve-liste-infos"><li>Codex
  épreuve AMVM0322</li><li>Slalom</li><li>Circuit : Grand Prix Adultes</li><
 /ul></li><li><div class="gski-epreuve-date">Le samedi 28 janvier 2017</div>
 <ul class="gski-epreuve-liste-infos"><li>Codex épreuve AMVF0322</li><li>Sla
 lom</li><li>Circuit : Grand Prix Adultes</li></ul></li></ul></div><div clas
 s="gskiepreuves-links"><ul><li><a href="https://skivosges.net/index.php?opt
 ion=com_jevents&task=icalevent.detail&evid=687&Itemid=6289">Voir les inform
 ations dans l'agenda...</a></li><li><a href="https://skivosges.net/index.ph
 p?option=com_gskiepreuves&view=afficheresultats&format_option=tous&filter[s
 earch]=AMVT0320&filter[date_debut]=28-01-2017&filter[date_fin]=28-01-2017&c
 ode_activite=ALP&Itemid=6289">Vers les résultats...</a></li></ul></div></di
 v"><!-- #/gskiepreuve fin du dode généré par le plugin jevents pour GskiEpr
 euves. . Ne pas modifier cette ligne, ni tout le contenu précedant.  #/gski
 epreuve --> <a href="https://skivosges.net/agenda/a-venir/detailevenement/6
 92/-/gpa-u16-a-masters-g-prix-domaine-welty-j-michel?tmpl=component">Cet év
 ènement a été importé depuis :https://skivosges.net/agenda/a-venir/detailev
 enement/692/-/gpa-u16-a-masters-g-prix-domaine-welty-j-michel?tmpl=componen
 t</a>DTSTAMP:20260424T074010
DTSTART;TZID=Europe/Paris;VALUE=DATE:20170128
DTEND;TZID=Europe/Paris;VALUE=DATE:20170129
SEQUENCE:0
TRANSP:OPAQUE
END:VEVENT
END:VCALENDAR