BEGIN:VCALENDAR
VERSION:2.0
PRODID:-//jEvents 2.0 for Joomla//EN
CALSCALE:GREGORIAN
METHOD:PUBLISH
BEGIN:VTIMEZONE
TZID:Europe/Paris
BEGIN:STANDARD
DTSTART:20160128T000000
RDATE:20160327T030000
TZOFFSETFROM:+0200
TZOFFSETTO:+0100
TZNAME:Europe/Paris CET
END:STANDARD
BEGIN:STANDARD
DTSTART:20161030T020000
RDATE:20170326T030000
TZOFFSETFROM:+0200
TZOFFSETTO:+0100
TZNAME:Europe/Paris CET
END:STANDARD
BEGIN:STANDARD
DTSTART:20171029T020000
RDATE:20180325T030000
TZOFFSETFROM:+0200
TZOFFSETTO:+0100
TZNAME:Europe/Paris CET
END:STANDARD
BEGIN:STANDARD
DTSTART:20181028T020000
RDATE:20190331T030000
TZOFFSETFROM:+0200
TZOFFSETTO:+0100
TZNAME:Europe/Paris CET
END:STANDARD
BEGIN:STANDARD
DTSTART:20191027T020000
RDATE:20200329T030000
TZOFFSETFROM:+0200
TZOFFSETTO:+0100
TZNAME:Europe/Paris CET
END:STANDARD
BEGIN:STANDARD
DTSTART:20201025T020000
RDATE:20210328T030000
TZOFFSETFROM:+0200
TZOFFSETTO:+0100
TZNAME:Europe/Paris CET
END:STANDARD
BEGIN:STANDARD
DTSTART:20211031T020000
RDATE:20220327T030000
TZOFFSETFROM:+0200
TZOFFSETTO:+0100
TZNAME:Europe/Paris CET
END:STANDARD
BEGIN:STANDARD
DTSTART:20221030T020000
RDATE:20230326T030000
TZOFFSETFROM:+0200
TZOFFSETTO:+0100
TZNAME:Europe/Paris CET
END:STANDARD
BEGIN:STANDARD
DTSTART:20231029T020000
RDATE:20240331T030000
TZOFFSETFROM:+0200
TZOFFSETTO:+0100
TZNAME:Europe/Paris CET
END:STANDARD
BEGIN:STANDARD
DTSTART:20241027T020000
RDATE:20250330T030000
TZOFFSETFROM:+0200
TZOFFSETTO:+0100
TZNAME:Europe/Paris CET
END:STANDARD
BEGIN:STANDARD
DTSTART:20251026T020000
RDATE:20260329T030000
TZOFFSETFROM:+0200
TZOFFSETTO:+0100
TZNAME:Europe/Paris CET
END:STANDARD
BEGIN:STANDARD
DTSTART:20261025T020000
RDATE:20270328T030000
TZOFFSETFROM:+0200
TZOFFSETTO:+0100
TZNAME:Europe/Paris CET
END:STANDARD
BEGIN:DAYLIGHT
DTSTART:20160327T030000
RDATE:20161030T020000
TZOFFSETFROM:+0100
TZOFFSETTO:+0200
TZNAME:Europe/Paris CEST
END:DAYLIGHT
BEGIN:DAYLIGHT
DTSTART:20170326T030000
RDATE:20171029T020000
TZOFFSETFROM:+0100
TZOFFSETTO:+0200
TZNAME:Europe/Paris CEST
END:DAYLIGHT
BEGIN:DAYLIGHT
DTSTART:20180325T030000
RDATE:20181028T020000
TZOFFSETFROM:+0100
TZOFFSETTO:+0200
TZNAME:Europe/Paris CEST
END:DAYLIGHT
BEGIN:DAYLIGHT
DTSTART:20190331T030000
RDATE:20191027T020000
TZOFFSETFROM:+0100
TZOFFSETTO:+0200
TZNAME:Europe/Paris CEST
END:DAYLIGHT
BEGIN:DAYLIGHT
DTSTART:20200329T030000
RDATE:20201025T020000
TZOFFSETFROM:+0100
TZOFFSETTO:+0200
TZNAME:Europe/Paris CEST
END:DAYLIGHT
BEGIN:DAYLIGHT
DTSTART:20210328T030000
RDATE:20211031T020000
TZOFFSETFROM:+0100
TZOFFSETTO:+0200
TZNAME:Europe/Paris CEST
END:DAYLIGHT
BEGIN:DAYLIGHT
DTSTART:20220327T030000
RDATE:20221030T020000
TZOFFSETFROM:+0100
TZOFFSETTO:+0200
TZNAME:Europe/Paris CEST
END:DAYLIGHT
BEGIN:DAYLIGHT
DTSTART:20230326T030000
RDATE:20231029T020000
TZOFFSETFROM:+0100
TZOFFSETTO:+0200
TZNAME:Europe/Paris CEST
END:DAYLIGHT
BEGIN:DAYLIGHT
DTSTART:20240331T030000
RDATE:20241027T020000
TZOFFSETFROM:+0100
TZOFFSETTO:+0200
TZNAME:Europe/Paris CEST
END:DAYLIGHT
BEGIN:DAYLIGHT
DTSTART:20250330T030000
RDATE:20251026T020000
TZOFFSETFROM:+0100
TZOFFSETTO:+0200
TZNAME:Europe/Paris CEST
END:DAYLIGHT
BEGIN:DAYLIGHT
DTSTART:20260329T030000
RDATE:20261025T020000
TZOFFSETFROM:+0100
TZOFFSETTO:+0200
TZNAME:Europe/Paris CEST
END:DAYLIGHT
END:VTIMEZONE
BEGIN:VEVENT
UID:a02f0f80361c75b73b9c0f0973be92ea
CATEGORIES:Compétition Ski de Fond
CREATED:20161202T134851
SUMMARY:LA NORDIQUE DES CRETES  CHAMPIONNATS DE FRANCE ESPRIT RACING
URL;VALUE=URI:https://skivosges.net/agenda/a-venir/detailevenement/693/-/la-nordique-des-
 cretes-championnats-de-france-esprit-racing?tmpl=component
DESCRIPTION:LA NORDIQUE DES CRETES  CHAMPIONNATS DE FRANCE ESPRIT RACING\n - Codex éven
 ement FNAT0200\n - Lieu : MARKSTEIN\n - Station : MARKSTEIN\n - Organisateu
 r : 14044 TOURING CLUB MULHOUSE\n - Courriel : RegularLabs.EmailProtector.u
 nCloak("ep_d1598fea");\n - Téléphone : 03 89 59 55 56Période d'inscription 
 à l'evènement du samedi 21 janvier 2017 à 01:00 au jeudi 26 janvier 2017 à 
 13:00 (Inscriptions impossibles).Le type de titres Fédéraux autorisé n'est 
 pas défini. Veuillez contacter l'organisateur et lui signaler le problème.E
 preuves :\n - Le samedi 28 janvier 2017\n - Codex épreuve FNAF0201\n - Mass
  Start (Depart ligne)\n - Le samedi 28 janvier 2017\n - Codex épreuve FNAM0
 201\n - Mass Start (Depart ligne)\n - Le samedi 28 janvier 2017\n - Codex é
 preuve FNAM0202\n - Mass Start (Depart ligne)\n - Le samedi 28 janvier 2017
 \n - Codex épreuve FNAF0202\n - Mass Start (Depart ligne)\n - Le samedi 28 
 janvier 2017\n - Codex épreuve FNAF0203\n - Fond Populaire (depart en ligne
 )\n - Le samedi 28 janvier 2017\n - Codex épreuve FNAM0203\n - Fond Populai
 re (depart en ligne)\n - Voir les informations dans l'agenda... (/index.php
 ?option=com_jevents&amp;task=icalevent.detail&amp;evid=688&amp;Itemid=6289)
 \n - Vers les résultats... (/index.php?option=com_gskiepreuves&amp;view=aff
 icheresultats&amp;format_option=tous&amp;filter[search]=FNAT0200&amp;filter
 [date_debut]=28-01-2017&amp;filter[date_fin]=28-01-2017&amp;code_activite=F
 OND&amp;Itemid=6289) Cet évènement a été importé depuis :https://skivosges.
 net/agenda/a-venir/detailevenement/693/-/la-nordique-des-cretes-championnat
 s-de-france-esprit-racing?tmpl=component (https://skivosges.net/agenda/a-ve
 nir/detailevenement/693/-/la-nordique-des-cretes-championnats-de-france-esp
 rit-racing?tmpl=component)
X-ALT-DESC;FMTTYPE=text/html:<!-- #gskiepreuve code généré par le plugin jevents pour GskiEpreuves. Ne p
 as modifier cette ligne, ni tout le contenu suivant  #gskiepreuve --><div c
 lass="gski-evenement_infos"><div class="gski-evenement-nom">LA NORDIQUE DES
  CRETES  CHAMPIONNATS DE FRANCE ESPRIT RACING</div><div class="gski-eveneme
 nt-report"></div><ul class="gski-evenement-liste-infos"><li>Codex évenement
  FNAT0200</li><li>Lieu : MARKSTEIN</li><li>Station : MARKSTEIN</li><li>Orga
 nisateur : 14044 TOURING CLUB MULHOUSE</li><li>Courriel : <!-- Cette adress
 e électronique est protégée contre les robots spammeurs. --><span class="cl
 oaked_email ep_d1598fea"><span data-ep-a="yv&#101;s" data-ep-b="t"><span da
 ta-ep-a="&#46;&#98;&#111;u" data-ep-b="&#114;.&#110;e"><span data-ep-b="&#6
 4;&#101;v&#104;" data-ep-a="&#118;&#105;&#101;&#114;"></span></span></span>
 </span><script>RegularLabs.EmailProtector.unCloak("ep_d1598fea");</script><
 /li><li>Téléphone : 03 89 59 55 56</li></ul><div class="gski-evenement-info
 s-2"><div class="gski-evenement-info-inscriptions"><div class="gski-eveneme
 nt-inscriptions-periodes">Période d'inscription à l'evènement du samedi 21 
 janvier 2017 à 01:00 au jeudi 26 janvier 2017 à 13:00 <span class="gski-eve
 nement-inscriptions-impossibles">(Inscriptions impossibles).</span><div cla
 ss="gski-evenement-inscriptions-types-titres">Le type de titres Fédéraux au
 torisé n'est pas défini. Veuillez contacter l'organisateur et lui signaler 
 le problème.</div></div></div><div class="gski-evenement-epreuves"><div cla
 ss="gski-evenement-epreuves-titres">Epreuves :</div><ul class="gski-eveneme
 nt-epreuves-list"><li><div class="gski-epreuve-date">Le samedi 28 janvier 2
 017</div><ul class="gski-epreuve-liste-infos"><li>Codex épreuve FNAF0201</l
 i><li>Mass Start (Depart ligne)</li></ul></li><li><div class="gski-epreuve-
 date">Le samedi 28 janvier 2017</div><ul class="gski-epreuve-liste-infos"><
 li>Codex épreuve FNAM0201</li><li>Mass Start (Depart ligne)</li></ul></li><
 li><div class="gski-epreuve-date">Le samedi 28 janvier 2017</div><ul class=
 "gski-epreuve-liste-infos"><li>Codex épreuve FNAM0202</li><li>Mass Start (D
 epart ligne)</li></ul></li><li><div class="gski-epreuve-date">Le samedi 28 
 janvier 2017</div><ul class="gski-epreuve-liste-infos"><li>Codex épreuve FN
 AF0202</li><li>Mass Start (Depart ligne)</li></ul></li><li><div class="gski
 -epreuve-date">Le samedi 28 janvier 2017</div><ul class="gski-epreuve-liste
 -infos"><li>Codex épreuve FNAF0203</li><li>Fond Populaire (depart en ligne)
 </li></ul></li><li><div class="gski-epreuve-date">Le samedi 28 janvier 2017
 </div><ul class="gski-epreuve-liste-infos"><li>Codex épreuve FNAM0203</li><
 li>Fond Populaire (depart en ligne)</li></ul></li></ul></div><div class="gs
 kiepreuves-links"><ul><li><a href="https://skivosges.net/index.php?option=c
 om_jevents&task=icalevent.detail&evid=688&Itemid=6289">Voir les information
 s dans l'agenda...</a></li><li><a href="https://skivosges.net/index.php?opt
 ion=com_gskiepreuves&view=afficheresultats&format_option=tous&filter[search
 ]=FNAT0200&filter[date_debut]=28-01-2017&filter[date_fin]=28-01-2017&code_a
 ctivite=FOND&Itemid=6289">Vers les résultats...</a></li></ul></div></div"><
 !-- #/gskiepreuve fin du dode généré par le plugin jevents pour GskiEpreuve
 s. . Ne pas modifier cette ligne, ni tout le contenu précedant.  #/gskiepre
 uve --> <a href="https://skivosges.net/agenda/a-venir/detailevenement/693/-
 /la-nordique-des-cretes-championnats-de-france-esprit-racing?tmpl=component
 ">Cet évènement a été importé depuis :https://skivosges.net/agenda/a-venir/
 detailevenement/693/-/la-nordique-des-cretes-championnats-de-france-esprit-
 racing?tmpl=component</a>DTSTAMP:20260424T083659
DTSTART;TZID=Europe/Paris;VALUE=DATE:20170128
DTEND;TZID=Europe/Paris;VALUE=DATE:20170129
SEQUENCE:0
TRANSP:OPAQUE
END:VEVENT
END:VCALENDAR