BEGIN:VCALENDAR
VERSION:2.0
PRODID:-//jEvents 2.0 for Joomla//EN
CALSCALE:GREGORIAN
METHOD:PUBLISH
BEGIN:VTIMEZONE
TZID:Europe/Paris
BEGIN:STANDARD
DTSTART:20160128T000000
RDATE:20160327T030000
TZOFFSETFROM:+0200
TZOFFSETTO:+0100
TZNAME:Europe/Paris CET
END:STANDARD
BEGIN:STANDARD
DTSTART:20161030T020000
RDATE:20170326T030000
TZOFFSETFROM:+0200
TZOFFSETTO:+0100
TZNAME:Europe/Paris CET
END:STANDARD
BEGIN:STANDARD
DTSTART:20171029T020000
RDATE:20180325T030000
TZOFFSETFROM:+0200
TZOFFSETTO:+0100
TZNAME:Europe/Paris CET
END:STANDARD
BEGIN:STANDARD
DTSTART:20181028T020000
RDATE:20190331T030000
TZOFFSETFROM:+0200
TZOFFSETTO:+0100
TZNAME:Europe/Paris CET
END:STANDARD
BEGIN:STANDARD
DTSTART:20191027T020000
RDATE:20200329T030000
TZOFFSETFROM:+0200
TZOFFSETTO:+0100
TZNAME:Europe/Paris CET
END:STANDARD
BEGIN:STANDARD
DTSTART:20201025T020000
RDATE:20210328T030000
TZOFFSETFROM:+0200
TZOFFSETTO:+0100
TZNAME:Europe/Paris CET
END:STANDARD
BEGIN:STANDARD
DTSTART:20211031T020000
RDATE:20220327T030000
TZOFFSETFROM:+0200
TZOFFSETTO:+0100
TZNAME:Europe/Paris CET
END:STANDARD
BEGIN:STANDARD
DTSTART:20221030T020000
RDATE:20230326T030000
TZOFFSETFROM:+0200
TZOFFSETTO:+0100
TZNAME:Europe/Paris CET
END:STANDARD
BEGIN:STANDARD
DTSTART:20231029T020000
RDATE:20240331T030000
TZOFFSETFROM:+0200
TZOFFSETTO:+0100
TZNAME:Europe/Paris CET
END:STANDARD
BEGIN:STANDARD
DTSTART:20241027T020000
RDATE:20250330T030000
TZOFFSETFROM:+0200
TZOFFSETTO:+0100
TZNAME:Europe/Paris CET
END:STANDARD
BEGIN:STANDARD
DTSTART:20251026T020000
RDATE:20260329T030000
TZOFFSETFROM:+0200
TZOFFSETTO:+0100
TZNAME:Europe/Paris CET
END:STANDARD
BEGIN:STANDARD
DTSTART:20261025T020000
RDATE:20270328T030000
TZOFFSETFROM:+0200
TZOFFSETTO:+0100
TZNAME:Europe/Paris CET
END:STANDARD
BEGIN:DAYLIGHT
DTSTART:20160327T030000
RDATE:20161030T020000
TZOFFSETFROM:+0100
TZOFFSETTO:+0200
TZNAME:Europe/Paris CEST
END:DAYLIGHT
BEGIN:DAYLIGHT
DTSTART:20170326T030000
RDATE:20171029T020000
TZOFFSETFROM:+0100
TZOFFSETTO:+0200
TZNAME:Europe/Paris CEST
END:DAYLIGHT
BEGIN:DAYLIGHT
DTSTART:20180325T030000
RDATE:20181028T020000
TZOFFSETFROM:+0100
TZOFFSETTO:+0200
TZNAME:Europe/Paris CEST
END:DAYLIGHT
BEGIN:DAYLIGHT
DTSTART:20190331T030000
RDATE:20191027T020000
TZOFFSETFROM:+0100
TZOFFSETTO:+0200
TZNAME:Europe/Paris CEST
END:DAYLIGHT
BEGIN:DAYLIGHT
DTSTART:20200329T030000
RDATE:20201025T020000
TZOFFSETFROM:+0100
TZOFFSETTO:+0200
TZNAME:Europe/Paris CEST
END:DAYLIGHT
BEGIN:DAYLIGHT
DTSTART:20210328T030000
RDATE:20211031T020000
TZOFFSETFROM:+0100
TZOFFSETTO:+0200
TZNAME:Europe/Paris CEST
END:DAYLIGHT
BEGIN:DAYLIGHT
DTSTART:20220327T030000
RDATE:20221030T020000
TZOFFSETFROM:+0100
TZOFFSETTO:+0200
TZNAME:Europe/Paris CEST
END:DAYLIGHT
BEGIN:DAYLIGHT
DTSTART:20230326T030000
RDATE:20231029T020000
TZOFFSETFROM:+0100
TZOFFSETTO:+0200
TZNAME:Europe/Paris CEST
END:DAYLIGHT
BEGIN:DAYLIGHT
DTSTART:20240331T030000
RDATE:20241027T020000
TZOFFSETFROM:+0100
TZOFFSETTO:+0200
TZNAME:Europe/Paris CEST
END:DAYLIGHT
BEGIN:DAYLIGHT
DTSTART:20250330T030000
RDATE:20251026T020000
TZOFFSETFROM:+0100
TZOFFSETTO:+0200
TZNAME:Europe/Paris CEST
END:DAYLIGHT
BEGIN:DAYLIGHT
DTSTART:20260329T030000
RDATE:20261025T020000
TZOFFSETFROM:+0100
TZOFFSETTO:+0200
TZNAME:Europe/Paris CEST
END:DAYLIGHT
END:VTIMEZONE
BEGIN:VEVENT
UID:72eb64ec0a1d30d1cb7064afebe8a972
CATEGORIES:Compétition Ski de Fond
CREATED:20161202T134851
SUMMARY:Nordique des Cretes
URL;VALUE=URI:https://skivosges.net/agenda/a-venir/detailevenement/694/-/nordique-des-cre
 tes?tmpl=component
DESCRIPTION:Nordique des Cretes\n - Codex évenement FMVT0260\n - Lieu : MARKSTEIN\n - S
 tation : MARKSTEIN\n - Organisateur : Période d'inscription à l'evènement d
 u mercredi 04 janvier 2017 à 01:00 au jeudi 26 janvier 2017 à 00:55 (Inscri
 ptions impossibles).Le type de titres Fédéraux autorisé n'est pas défini. V
 euillez contacter l'organisateur et lui signaler le problème.Epreuves :\n -
  Le samedi 28 janvier 2017\n - Codex épreuve FMVF0261\n - Depart Individuel
 \n - Le samedi 28 janvier 2017\n - Codex épreuve FMVM0261\n - Depart Indivi
 duel\n - Le samedi 28 janvier 2017\n - Codex épreuve FMVF0262\n - Depart In
 dividuel\n - Le samedi 28 janvier 2017\n - Codex épreuve FMVM0262\n - Depar
 t Individuel\n - Voir les informations dans l'agenda... (/index.php?option=
 com_jevents&amp;task=icalevent.detail&amp;evid=689&amp;Itemid=6289)\n - Ver
 s les résultats... (/index.php?option=com_gskiepreuves&amp;view=afficheresu
 ltats&amp;format_option=tous&amp;filter[search]=FMVT0260&amp;filter[date_de
 but]=28-01-2017&amp;filter[date_fin]=28-01-2017&amp;code_activite=FOND&amp;
 Itemid=6289) Cet évènement a été importé depuis :https://skivosges.net/agen
 da/a-venir/detailevenement/694/-/nordique-des-cretes?tmpl=component (https:
 //skivosges.net/agenda/a-venir/detailevenement/694/-/nordique-des-cretes?tm
 pl=component)
X-ALT-DESC;FMTTYPE=text/html:<!-- #gskiepreuve code généré par le plugin jevents pour GskiEpreuves. Ne p
 as modifier cette ligne, ni tout le contenu suivant  #gskiepreuve --><div c
 lass="gski-evenement_infos"><div class="gski-evenement-nom">Nordique des Cr
 etes</div><div class="gski-evenement-report"></div><ul class="gski-evenemen
 t-liste-infos"><li>Codex évenement FMVT0260</li><li>Lieu : MARKSTEIN</li><l
 i>Station : MARKSTEIN</li><li>Organisateur : </li></ul><div class="gski-eve
 nement-infos-2"><div class="gski-evenement-info-inscriptions"><div class="g
 ski-evenement-inscriptions-periodes">Période d'inscription à l'evènement du
  mercredi 04 janvier 2017 à 01:00 au jeudi 26 janvier 2017 à 00:55 <span cl
 ass="gski-evenement-inscriptions-impossibles">(Inscriptions impossibles).</
 span><div class="gski-evenement-inscriptions-types-titres">Le type de titre
 s Fédéraux autorisé n'est pas défini. Veuillez contacter l'organisateur et 
 lui signaler le problème.</div></div></div><div class="gski-evenement-epreu
 ves"><div class="gski-evenement-epreuves-titres">Epreuves :</div><ul class=
 "gski-evenement-epreuves-list"><li><div class="gski-epreuve-date">Le samedi
  28 janvier 2017</div><ul class="gski-epreuve-liste-infos"><li>Codex épreuv
 e FMVF0261</li><li>Depart Individuel</li></ul></li><li><div class="gski-epr
 euve-date">Le samedi 28 janvier 2017</div><ul class="gski-epreuve-liste-inf
 os"><li>Codex épreuve FMVM0261</li><li>Depart Individuel</li></ul></li><li>
 <div class="gski-epreuve-date">Le samedi 28 janvier 2017</div><ul class="gs
 ki-epreuve-liste-infos"><li>Codex épreuve FMVF0262</li><li>Depart Individue
 l</li></ul></li><li><div class="gski-epreuve-date">Le samedi 28 janvier 201
 7</div><ul class="gski-epreuve-liste-infos"><li>Codex épreuve FMVM0262</li>
 <li>Depart Individuel</li></ul></li></ul></div><div class="gskiepreuves-lin
 ks"><ul><li><a href="https://skivosges.net/index.php?option=com_jevents&tas
 k=icalevent.detail&evid=689&Itemid=6289">Voir les informations dans l'agend
 a...</a></li><li><a href="https://skivosges.net/index.php?option=com_gskiep
 reuves&view=afficheresultats&format_option=tous&filter[search]=FMVT0260&fil
 ter[date_debut]=28-01-2017&filter[date_fin]=28-01-2017&code_activite=FOND&I
 temid=6289">Vers les résultats...</a></li></ul></div></div"><!-- #/gskiepre
 uve fin du dode généré par le plugin jevents pour GskiEpreuves. . Ne pas mo
 difier cette ligne, ni tout le contenu précedant.  #/gskiepreuve --> <a hre
 f="https://skivosges.net/agenda/a-venir/detailevenement/694/-/nordique-des-
 cretes?tmpl=component">Cet évènement a été importé depuis :https://skivosge
 s.net/agenda/a-venir/detailevenement/694/-/nordique-des-cretes?tmpl=compone
 nt</a>DTSTAMP:20260424T083659
DTSTART;TZID=Europe/Paris;VALUE=DATE:20170128
DTEND;TZID=Europe/Paris;VALUE=DATE:20170129
SEQUENCE:0
TRANSP:OPAQUE
END:VEVENT
END:VCALENDAR