BEGIN:VCALENDAR
VERSION:2.0
PRODID:-//jEvents 2.0 for Joomla//EN
CALSCALE:GREGORIAN
METHOD:PUBLISH
BEGIN:VTIMEZONE
TZID:Europe/Paris
BEGIN:STANDARD
DTSTART:20160128T000000
RDATE:20160327T030000
TZOFFSETFROM:+0200
TZOFFSETTO:+0100
TZNAME:Europe/Paris CET
END:STANDARD
BEGIN:STANDARD
DTSTART:20161030T020000
RDATE:20170326T030000
TZOFFSETFROM:+0200
TZOFFSETTO:+0100
TZNAME:Europe/Paris CET
END:STANDARD
BEGIN:STANDARD
DTSTART:20171029T020000
RDATE:20180325T030000
TZOFFSETFROM:+0200
TZOFFSETTO:+0100
TZNAME:Europe/Paris CET
END:STANDARD
BEGIN:STANDARD
DTSTART:20181028T020000
RDATE:20190331T030000
TZOFFSETFROM:+0200
TZOFFSETTO:+0100
TZNAME:Europe/Paris CET
END:STANDARD
BEGIN:STANDARD
DTSTART:20191027T020000
RDATE:20200329T030000
TZOFFSETFROM:+0200
TZOFFSETTO:+0100
TZNAME:Europe/Paris CET
END:STANDARD
BEGIN:STANDARD
DTSTART:20201025T020000
RDATE:20210328T030000
TZOFFSETFROM:+0200
TZOFFSETTO:+0100
TZNAME:Europe/Paris CET
END:STANDARD
BEGIN:STANDARD
DTSTART:20211031T020000
RDATE:20220327T030000
TZOFFSETFROM:+0200
TZOFFSETTO:+0100
TZNAME:Europe/Paris CET
END:STANDARD
BEGIN:STANDARD
DTSTART:20221030T020000
RDATE:20230326T030000
TZOFFSETFROM:+0200
TZOFFSETTO:+0100
TZNAME:Europe/Paris CET
END:STANDARD
BEGIN:STANDARD
DTSTART:20231029T020000
RDATE:20240331T030000
TZOFFSETFROM:+0200
TZOFFSETTO:+0100
TZNAME:Europe/Paris CET
END:STANDARD
BEGIN:STANDARD
DTSTART:20241027T020000
RDATE:20250330T030000
TZOFFSETFROM:+0200
TZOFFSETTO:+0100
TZNAME:Europe/Paris CET
END:STANDARD
BEGIN:STANDARD
DTSTART:20251026T020000
RDATE:20260329T030000
TZOFFSETFROM:+0200
TZOFFSETTO:+0100
TZNAME:Europe/Paris CET
END:STANDARD
BEGIN:STANDARD
DTSTART:20261025T020000
RDATE:20270328T030000
TZOFFSETFROM:+0200
TZOFFSETTO:+0100
TZNAME:Europe/Paris CET
END:STANDARD
BEGIN:DAYLIGHT
DTSTART:20160327T030000
RDATE:20161030T020000
TZOFFSETFROM:+0100
TZOFFSETTO:+0200
TZNAME:Europe/Paris CEST
END:DAYLIGHT
BEGIN:DAYLIGHT
DTSTART:20170326T030000
RDATE:20171029T020000
TZOFFSETFROM:+0100
TZOFFSETTO:+0200
TZNAME:Europe/Paris CEST
END:DAYLIGHT
BEGIN:DAYLIGHT
DTSTART:20180325T030000
RDATE:20181028T020000
TZOFFSETFROM:+0100
TZOFFSETTO:+0200
TZNAME:Europe/Paris CEST
END:DAYLIGHT
BEGIN:DAYLIGHT
DTSTART:20190331T030000
RDATE:20191027T020000
TZOFFSETFROM:+0100
TZOFFSETTO:+0200
TZNAME:Europe/Paris CEST
END:DAYLIGHT
BEGIN:DAYLIGHT
DTSTART:20200329T030000
RDATE:20201025T020000
TZOFFSETFROM:+0100
TZOFFSETTO:+0200
TZNAME:Europe/Paris CEST
END:DAYLIGHT
BEGIN:DAYLIGHT
DTSTART:20210328T030000
RDATE:20211031T020000
TZOFFSETFROM:+0100
TZOFFSETTO:+0200
TZNAME:Europe/Paris CEST
END:DAYLIGHT
BEGIN:DAYLIGHT
DTSTART:20220327T030000
RDATE:20221030T020000
TZOFFSETFROM:+0100
TZOFFSETTO:+0200
TZNAME:Europe/Paris CEST
END:DAYLIGHT
BEGIN:DAYLIGHT
DTSTART:20230326T030000
RDATE:20231029T020000
TZOFFSETFROM:+0100
TZOFFSETTO:+0200
TZNAME:Europe/Paris CEST
END:DAYLIGHT
BEGIN:DAYLIGHT
DTSTART:20240331T030000
RDATE:20241027T020000
TZOFFSETFROM:+0100
TZOFFSETTO:+0200
TZNAME:Europe/Paris CEST
END:DAYLIGHT
BEGIN:DAYLIGHT
DTSTART:20250330T030000
RDATE:20251026T020000
TZOFFSETFROM:+0100
TZOFFSETTO:+0200
TZNAME:Europe/Paris CEST
END:DAYLIGHT
BEGIN:DAYLIGHT
DTSTART:20260329T030000
RDATE:20261025T020000
TZOFFSETFROM:+0100
TZOFFSETTO:+0200
TZNAME:Europe/Paris CEST
END:DAYLIGHT
END:VTIMEZONE
BEGIN:VEVENT
UID:1034bd37fb17be7e67462b96415b493f
CATEGORIES:Compétition Saut
CREATED:20161202T134851
SUMMARY:Markstein Championnat du Ha
URL;VALUE=URI:https://skivosges.net/agenda/a-venir/detailevenement/696/-/markstein-champi
 onnat-du-ha?tmpl=component
DESCRIPTION:Markstein Championnat du Ha\n - Codex évenement TMVT0130\n - Lieu : MARKSTE
 IN\n - Station : MARKSTEIN\n - Organisateur : 14145 SKI CLUB KRUTHPériode d
 'inscription à l'evènement du samedi 21 janvier 2017 à 01:00 au jeudi 26 ja
 nvier 2017 à 13:00 (Inscriptions impossibles).Le type de titres Fédéraux au
 torisé n'est pas défini. Veuillez contacter l'organisateur et lui signaler 
 le problème.Epreuves :\n - Le samedi 28 janvier 2017\n - Codex épreuve TMVF
 0131\n - Saut Special\n - Le samedi 28 janvier 2017\n - Codex épreuve TMVF0
 132\n - Saut Special\n - Le samedi 28 janvier 2017\n - Codex épreuve TMVM01
 31\n - Saut Special\n - Le samedi 28 janvier 2017\n - Codex épreuve TMVM013
 2\n - Saut Special\n - Voir les informations dans l'agenda... (/index.php?o
 ption=com_jevents&amp;task=icalevent.detail&amp;evid=691&amp;Itemid=6289) C
 et évènement a été importé depuis :https://skivosges.net/agenda/a-venir/det
 ailevenement/696/-/markstein-championnat-du-ha?tmpl=component (https://skiv
 osges.net/agenda/a-venir/detailevenement/696/-/markstein-championnat-du-ha?
 tmpl=component)
X-ALT-DESC;FMTTYPE=text/html:<!-- #gskiepreuve code généré par le plugin jevents pour GskiEpreuves. Ne p
 as modifier cette ligne, ni tout le contenu suivant  #gskiepreuve --><div c
 lass="gski-evenement_infos"><div class="gski-evenement-nom">Markstein Champ
 ionnat du Ha</div><div class="gski-evenement-report"></div><ul class="gski-
 evenement-liste-infos"><li>Codex évenement TMVT0130</li><li>Lieu : MARKSTEI
 N</li><li>Station : MARKSTEIN</li><li>Organisateur : 14145 SKI CLUB KRUTH</
 li></ul><div class="gski-evenement-infos-2"><div class="gski-evenement-info
 -inscriptions"><div class="gski-evenement-inscriptions-periodes">Période d'
 inscription à l'evènement du samedi 21 janvier 2017 à 01:00 au jeudi 26 jan
 vier 2017 à 13:00 <span class="gski-evenement-inscriptions-impossibles">(In
 scriptions impossibles).</span><div class="gski-evenement-inscriptions-type
 s-titres">Le type de titres Fédéraux autorisé n'est pas défini. Veuillez co
 ntacter l'organisateur et lui signaler le problème.</div></div></div><div c
 lass="gski-evenement-epreuves"><div class="gski-evenement-epreuves-titres">
 Epreuves :</div><ul class="gski-evenement-epreuves-list"><li><div class="gs
 ki-epreuve-date">Le samedi 28 janvier 2017</div><ul class="gski-epreuve-lis
 te-infos"><li>Codex épreuve TMVF0131</li><li>Saut Special</li></ul></li><li
 ><div class="gski-epreuve-date">Le samedi 28 janvier 2017</div><ul class="g
 ski-epreuve-liste-infos"><li>Codex épreuve TMVF0132</li><li>Saut Special</l
 i></ul></li><li><div class="gski-epreuve-date">Le samedi 28 janvier 2017</d
 iv><ul class="gski-epreuve-liste-infos"><li>Codex épreuve TMVM0131</li><li>
 Saut Special</li></ul></li><li><div class="gski-epreuve-date">Le samedi 28 
 janvier 2017</div><ul class="gski-epreuve-liste-infos"><li>Codex épreuve TM
 VM0132</li><li>Saut Special</li></ul></li></ul></div><div class="gskiepreuv
 es-links"><ul><li><a href="https://skivosges.net/index.php?option=com_jeven
 ts&task=icalevent.detail&evid=691&Itemid=6289">Voir les informations dans l
 'agenda...</a></li></ul></div></div"><!-- #/gskiepreuve fin du dode généré 
 par le plugin jevents pour GskiEpreuves. . Ne pas modifier cette ligne, ni 
 tout le contenu précedant.  #/gskiepreuve --> <a href="https://skivosges.ne
 t/agenda/a-venir/detailevenement/696/-/markstein-championnat-du-ha?tmpl=com
 ponent">Cet évènement a été importé depuis :https://skivosges.net/agenda/a-
 venir/detailevenement/696/-/markstein-championnat-du-ha?tmpl=component</a>DTSTAMP:20260424T083658
DTSTART;TZID=Europe/Paris;VALUE=DATE:20170128
DTEND;TZID=Europe/Paris;VALUE=DATE:20170129
SEQUENCE:0
TRANSP:OPAQUE
END:VEVENT
END:VCALENDAR