BEGIN:VCALENDAR
VERSION:2.0
PRODID:-//jEvents 2.0 for Joomla//EN
CALSCALE:GREGORIAN
METHOD:PUBLISH
BEGIN:VTIMEZONE
TZID:Europe/Paris
BEGIN:STANDARD
DTSTART:20160129T000000
RDATE:20160327T030000
TZOFFSETFROM:+0200
TZOFFSETTO:+0100
TZNAME:Europe/Paris CET
END:STANDARD
BEGIN:STANDARD
DTSTART:20161030T020000
RDATE:20170326T030000
TZOFFSETFROM:+0200
TZOFFSETTO:+0100
TZNAME:Europe/Paris CET
END:STANDARD
BEGIN:STANDARD
DTSTART:20171029T020000
RDATE:20180325T030000
TZOFFSETFROM:+0200
TZOFFSETTO:+0100
TZNAME:Europe/Paris CET
END:STANDARD
BEGIN:STANDARD
DTSTART:20181028T020000
RDATE:20190331T030000
TZOFFSETFROM:+0200
TZOFFSETTO:+0100
TZNAME:Europe/Paris CET
END:STANDARD
BEGIN:STANDARD
DTSTART:20191027T020000
RDATE:20200329T030000
TZOFFSETFROM:+0200
TZOFFSETTO:+0100
TZNAME:Europe/Paris CET
END:STANDARD
BEGIN:STANDARD
DTSTART:20201025T020000
RDATE:20210328T030000
TZOFFSETFROM:+0200
TZOFFSETTO:+0100
TZNAME:Europe/Paris CET
END:STANDARD
BEGIN:STANDARD
DTSTART:20211031T020000
RDATE:20220327T030000
TZOFFSETFROM:+0200
TZOFFSETTO:+0100
TZNAME:Europe/Paris CET
END:STANDARD
BEGIN:STANDARD
DTSTART:20221030T020000
RDATE:20230326T030000
TZOFFSETFROM:+0200
TZOFFSETTO:+0100
TZNAME:Europe/Paris CET
END:STANDARD
BEGIN:STANDARD
DTSTART:20231029T020000
RDATE:20240331T030000
TZOFFSETFROM:+0200
TZOFFSETTO:+0100
TZNAME:Europe/Paris CET
END:STANDARD
BEGIN:STANDARD
DTSTART:20241027T020000
RDATE:20250330T030000
TZOFFSETFROM:+0200
TZOFFSETTO:+0100
TZNAME:Europe/Paris CET
END:STANDARD
BEGIN:STANDARD
DTSTART:20251026T020000
RDATE:20260329T030000
TZOFFSETFROM:+0200
TZOFFSETTO:+0100
TZNAME:Europe/Paris CET
END:STANDARD
BEGIN:STANDARD
DTSTART:20261025T020000
RDATE:20270328T030000
TZOFFSETFROM:+0200
TZOFFSETTO:+0100
TZNAME:Europe/Paris CET
END:STANDARD
BEGIN:DAYLIGHT
DTSTART:20160327T030000
RDATE:20161030T020000
TZOFFSETFROM:+0100
TZOFFSETTO:+0200
TZNAME:Europe/Paris CEST
END:DAYLIGHT
BEGIN:DAYLIGHT
DTSTART:20170326T030000
RDATE:20171029T020000
TZOFFSETFROM:+0100
TZOFFSETTO:+0200
TZNAME:Europe/Paris CEST
END:DAYLIGHT
BEGIN:DAYLIGHT
DTSTART:20180325T030000
RDATE:20181028T020000
TZOFFSETFROM:+0100
TZOFFSETTO:+0200
TZNAME:Europe/Paris CEST
END:DAYLIGHT
BEGIN:DAYLIGHT
DTSTART:20190331T030000
RDATE:20191027T020000
TZOFFSETFROM:+0100
TZOFFSETTO:+0200
TZNAME:Europe/Paris CEST
END:DAYLIGHT
BEGIN:DAYLIGHT
DTSTART:20200329T030000
RDATE:20201025T020000
TZOFFSETFROM:+0100
TZOFFSETTO:+0200
TZNAME:Europe/Paris CEST
END:DAYLIGHT
BEGIN:DAYLIGHT
DTSTART:20210328T030000
RDATE:20211031T020000
TZOFFSETFROM:+0100
TZOFFSETTO:+0200
TZNAME:Europe/Paris CEST
END:DAYLIGHT
BEGIN:DAYLIGHT
DTSTART:20220327T030000
RDATE:20221030T020000
TZOFFSETFROM:+0100
TZOFFSETTO:+0200
TZNAME:Europe/Paris CEST
END:DAYLIGHT
BEGIN:DAYLIGHT
DTSTART:20230326T030000
RDATE:20231029T020000
TZOFFSETFROM:+0100
TZOFFSETTO:+0200
TZNAME:Europe/Paris CEST
END:DAYLIGHT
BEGIN:DAYLIGHT
DTSTART:20240331T030000
RDATE:20241027T020000
TZOFFSETFROM:+0100
TZOFFSETTO:+0200
TZNAME:Europe/Paris CEST
END:DAYLIGHT
BEGIN:DAYLIGHT
DTSTART:20250330T030000
RDATE:20251026T020000
TZOFFSETFROM:+0100
TZOFFSETTO:+0200
TZNAME:Europe/Paris CEST
END:DAYLIGHT
BEGIN:DAYLIGHT
DTSTART:20260329T030000
RDATE:20261025T020000
TZOFFSETFROM:+0100
TZOFFSETTO:+0200
TZNAME:Europe/Paris CEST
END:DAYLIGHT
END:VTIMEZONE
BEGIN:VEVENT
UID:cdb1b93c5371dbd114e17f81c3707b07
CATEGORIES:Compétition Ski de Fond
CREATED:20161202T134851
SUMMARY:CHALLENGE NATIONAL NORDIQUE U14
URL;VALUE=URI:https://skivosges.net/agenda/a-venir/detailevenement/701/-/challenge-nation
 al-nordique-u14?tmpl=component
DESCRIPTION:CHALLENGE NATIONAL NORDIQUE U14\n - Codex évenement FNAT0070\n - Lieu : GER
 ARDMER\n - Station : GERARDMER\n - Organisateur : 14469 A.S GERARDMER SKI N
 ORDIQUE\n - Courriel : RegularLabs.EmailProtector.unCloak("ep_4fd5e99c");Pé
 riode d'inscription à l'evènement du dimanche 22 janvier 2017 à 01:00 au ve
 ndredi 27 janvier 2017 à 13:00 (Inscriptions impossibles).Le type de titres
  Fédéraux autorisé n'est pas défini. Veuillez contacter l'organisateur et l
 ui signaler le problème.Epreuves :\n - Le dimanche 29 janvier 2017\n - Code
 x épreuve FNAF0071\n - Depart Individuel\n - Le dimanche 29 janvier 2017\n 
 - Codex épreuve FNAM0071\n - Depart Individuel\n - Voir les informations da
 ns l'agenda... (/index.php?option=com_jevents&amp;task=icalevent.detail&amp
 ;evid=696&amp;Itemid=6289)\n - Vers les résultats... (/index.php?option=com
 _gskiepreuves&amp;view=afficheresultats&amp;format_option=tous&amp;filter[s
 earch]=FNAT0070&amp;filter[date_debut]=29-01-2017&amp;filter[date_fin]=29-0
 1-2017&amp;code_activite=FOND&amp;Itemid=6289) Cet évènement a été importé 
 depuis :https://skivosges.net/agenda/a-venir/detailevenement/701/-/challeng
 e-national-nordique-u14?tmpl=component
X-ALT-DESC;FMTTYPE=text/html:<!-- #gskiepreuve code généré par le plugin jevents pour GskiEpreuves. Ne p
 as modifier cette ligne, ni tout le contenu suivant  #gskiepreuve --><div c
 lass="gski-evenement_infos"><div class="gski-evenement-nom">CHALLENGE NATIO
 NAL NORDIQUE U14</div><div class="gski-evenement-report"></div><ul class="g
 ski-evenement-liste-infos"><li>Codex évenement FNAT0070</li><li>Lieu : GERA
 RDMER</li><li>Station : GERARDMER</li><li>Organisateur : 14469 A.S GERARDME
 R SKI NORDIQUE</li><li>Courriel : <!-- Cette adresse électronique est proté
 gée contre les robots spammeurs. --><span class="cloaked_email ep_4fd5e99c"
 ><span data-ep-b="&#111;&#46;&#102;&#114;" data-ep-a="&#104;&#101;&#114;&#1
 18;"><span data-ep-a="&#101;&#46;&#112;o" data-ep-b="n&#97;&#100;o"><span d
 ata-ep-a="&#105;&#114;&#111;&#116;" data-ep-b="&#51;&#64;&#119;a"></span></
 span></span></span><script>RegularLabs.EmailProtector.unCloak("ep_4fd5e99c"
 );</script></li></ul><div class="gski-evenement-infos-2"><div class="gski-e
 venement-info-inscriptions"><div class="gski-evenement-inscriptions-periode
 s">Période d'inscription à l'evènement du dimanche 22 janvier 2017 à 01:00 
 au vendredi 27 janvier 2017 à 13:00 <span class="gski-evenement-inscription
 s-impossibles">(Inscriptions impossibles).</span><div class="gski-evenement
 -inscriptions-types-titres">Le type de titres Fédéraux autorisé n'est pas d
 éfini. Veuillez contacter l'organisateur et lui signaler le problème.</div>
 </div></div><div class="gski-evenement-epreuves"><div class="gski-evenement
 -epreuves-titres">Epreuves :</div><ul class="gski-evenement-epreuves-list">
 <li><div class="gski-epreuve-date">Le dimanche 29 janvier 2017</div><ul cla
 ss="gski-epreuve-liste-infos"><li>Codex épreuve FNAF0071</li><li>Depart Ind
 ividuel</li></ul></li><li><div class="gski-epreuve-date">Le dimanche 29 jan
 vier 2017</div><ul class="gski-epreuve-liste-infos"><li>Codex épreuve FNAM0
 071</li><li>Depart Individuel</li></ul></li></ul></div><div class="gskiepre
 uves-links"><ul><li><a href="https://skivosges.net/index.php?option=com_jev
 ents&task=icalevent.detail&evid=696&Itemid=6289">Voir les informations dans
  l'agenda...</a></li><li><a href="https://skivosges.net/index.php?option=co
 m_gskiepreuves&view=afficheresultats&format_option=tous&filter[search]=FNAT
 0070&filter[date_debut]=29-01-2017&filter[date_fin]=29-01-2017&code_activit
 e=FOND&Itemid=6289">Vers les résultats...</a></li></ul></div></div"><!-- #/
 gskiepreuve fin du dode généré par le plugin jevents pour GskiEpreuves. . N
 e pas modifier cette ligne, ni tout le contenu précedant.  #/gskiepreuve --
 > <a href="https://skivosges.net/agenda/a-venir/detailevenement/701/-/chall
 enge-national-nordique-u14?tmpl=component">Cet évènement a été importé depu
 is :https://skivosges.net/agenda/a-venir/detailevenement/701/-/challenge-na
 tional-nordique-u14?tmpl=component</a>DTSTAMP:20260424T083703
DTSTART;TZID=Europe/Paris;VALUE=DATE:20170129
DTEND;TZID=Europe/Paris;VALUE=DATE:20170130
SEQUENCE:0
TRANSP:OPAQUE
END:VEVENT
END:VCALENDAR