BEGIN:VCALENDAR
VERSION:2.0
PRODID:-//jEvents 2.0 for Joomla//EN
CALSCALE:GREGORIAN
METHOD:PUBLISH
BEGIN:VTIMEZONE
TZID:Europe/Paris
BEGIN:STANDARD
DTSTART:20160203T000000
RDATE:20160327T030000
TZOFFSETFROM:+0200
TZOFFSETTO:+0100
TZNAME:Europe/Paris CET
END:STANDARD
BEGIN:STANDARD
DTSTART:20161030T020000
RDATE:20170326T030000
TZOFFSETFROM:+0200
TZOFFSETTO:+0100
TZNAME:Europe/Paris CET
END:STANDARD
BEGIN:STANDARD
DTSTART:20171029T020000
RDATE:20180325T030000
TZOFFSETFROM:+0200
TZOFFSETTO:+0100
TZNAME:Europe/Paris CET
END:STANDARD
BEGIN:STANDARD
DTSTART:20181028T020000
RDATE:20190331T030000
TZOFFSETFROM:+0200
TZOFFSETTO:+0100
TZNAME:Europe/Paris CET
END:STANDARD
BEGIN:STANDARD
DTSTART:20191027T020000
RDATE:20200329T030000
TZOFFSETFROM:+0200
TZOFFSETTO:+0100
TZNAME:Europe/Paris CET
END:STANDARD
BEGIN:STANDARD
DTSTART:20201025T020000
RDATE:20210328T030000
TZOFFSETFROM:+0200
TZOFFSETTO:+0100
TZNAME:Europe/Paris CET
END:STANDARD
BEGIN:STANDARD
DTSTART:20211031T020000
RDATE:20220327T030000
TZOFFSETFROM:+0200
TZOFFSETTO:+0100
TZNAME:Europe/Paris CET
END:STANDARD
BEGIN:STANDARD
DTSTART:20221030T020000
RDATE:20230326T030000
TZOFFSETFROM:+0200
TZOFFSETTO:+0100
TZNAME:Europe/Paris CET
END:STANDARD
BEGIN:STANDARD
DTSTART:20231029T020000
RDATE:20240331T030000
TZOFFSETFROM:+0200
TZOFFSETTO:+0100
TZNAME:Europe/Paris CET
END:STANDARD
BEGIN:STANDARD
DTSTART:20241027T020000
RDATE:20250330T030000
TZOFFSETFROM:+0200
TZOFFSETTO:+0100
TZNAME:Europe/Paris CET
END:STANDARD
BEGIN:STANDARD
DTSTART:20251026T020000
RDATE:20260329T030000
TZOFFSETFROM:+0200
TZOFFSETTO:+0100
TZNAME:Europe/Paris CET
END:STANDARD
BEGIN:STANDARD
DTSTART:20261025T020000
RDATE:20270328T030000
TZOFFSETFROM:+0200
TZOFFSETTO:+0100
TZNAME:Europe/Paris CET
END:STANDARD
BEGIN:DAYLIGHT
DTSTART:20160327T030000
RDATE:20161030T020000
TZOFFSETFROM:+0100
TZOFFSETTO:+0200
TZNAME:Europe/Paris CEST
END:DAYLIGHT
BEGIN:DAYLIGHT
DTSTART:20170326T030000
RDATE:20171029T020000
TZOFFSETFROM:+0100
TZOFFSETTO:+0200
TZNAME:Europe/Paris CEST
END:DAYLIGHT
BEGIN:DAYLIGHT
DTSTART:20180325T030000
RDATE:20181028T020000
TZOFFSETFROM:+0100
TZOFFSETTO:+0200
TZNAME:Europe/Paris CEST
END:DAYLIGHT
BEGIN:DAYLIGHT
DTSTART:20190331T030000
RDATE:20191027T020000
TZOFFSETFROM:+0100
TZOFFSETTO:+0200
TZNAME:Europe/Paris CEST
END:DAYLIGHT
BEGIN:DAYLIGHT
DTSTART:20200329T030000
RDATE:20201025T020000
TZOFFSETFROM:+0100
TZOFFSETTO:+0200
TZNAME:Europe/Paris CEST
END:DAYLIGHT
BEGIN:DAYLIGHT
DTSTART:20210328T030000
RDATE:20211031T020000
TZOFFSETFROM:+0100
TZOFFSETTO:+0200
TZNAME:Europe/Paris CEST
END:DAYLIGHT
BEGIN:DAYLIGHT
DTSTART:20220327T030000
RDATE:20221030T020000
TZOFFSETFROM:+0100
TZOFFSETTO:+0200
TZNAME:Europe/Paris CEST
END:DAYLIGHT
BEGIN:DAYLIGHT
DTSTART:20230326T030000
RDATE:20231029T020000
TZOFFSETFROM:+0100
TZOFFSETTO:+0200
TZNAME:Europe/Paris CEST
END:DAYLIGHT
BEGIN:DAYLIGHT
DTSTART:20240331T030000
RDATE:20241027T020000
TZOFFSETFROM:+0100
TZOFFSETTO:+0200
TZNAME:Europe/Paris CEST
END:DAYLIGHT
BEGIN:DAYLIGHT
DTSTART:20250330T030000
RDATE:20251026T020000
TZOFFSETFROM:+0100
TZOFFSETTO:+0200
TZNAME:Europe/Paris CEST
END:DAYLIGHT
BEGIN:DAYLIGHT
DTSTART:20260329T030000
RDATE:20261025T020000
TZOFFSETFROM:+0100
TZOFFSETTO:+0200
TZNAME:Europe/Paris CEST
END:DAYLIGHT
END:VTIMEZONE
BEGIN:VEVENT
UID:7baad6a7b8ddcf138b7a22fad75d50f3
CATEGORIES:Circuit Massif Masters (alpin)
CREATED:20161202T134851
SUMMARY:GPM  Esprit Racing  Mémorial
URL;VALUE=URI:https://skivosges.net/agenda/a-venir/detailevenement/704/-/gpm-esprit-racin
 g-memorial?tmpl=component
DESCRIPTION:GPM  Esprit Racing  Mémorial\n - Codex évenement AMVT0380\n - Circuit : Gra
 nd Prix Masters\n - Lieu : MARKSTEIN\n - Station : MARKSTEIN\n - Organisate
 ur : 14145 SKI CLUB KRUTH\n - Courriel : RegularLabs.EmailProtector.unCloak
 ("ep_964073dc");\n - Téléphone : 03 89 38 26 79Période d'inscription à l'ev
 ènement du mercredi 11 janvier 2017 à 01:00 au jeudi 02 février 2017 à 19:0
 0 (Inscriptions impossibles).Le type de titres Fédéraux autorisé n'est pas 
 défini. Veuillez contacter l'organisateur et lui signaler le problème.Epreu
 ves :\n - Le vendredi 03 février 2017\n - Codex épreuve AMVM0381\n - Slalom
 \n - Circuit : Grand Prix Masters\n - Le vendredi 03 février 2017\n - Codex
  épreuve AMVF0381\n - Slalom\n - Circuit : Grand Prix Masters\n - Voir les 
 informations dans l'agenda... (/index.php?option=com_jevents&amp;task=icale
 vent.detail&amp;evid=699&amp;Itemid=6289)\n - Vers les résultats... (/index
 .php?option=com_gskiepreuves&amp;view=afficheresultats&amp;format_option=to
 us&amp;filter[search]=AMVT0380&amp;filter[date_debut]=03-02-2017&amp;filter
 [date_fin]=03-02-2017&amp;code_activite=ALP&amp;Itemid=6289) Cet évènement 
 a été importé depuis :https://skivosges.net/agenda/a-venir/detailevenement/
 704/-/gpm-esprit-racing-memorial?tmpl=component (https://skivosges.net/agen
 da/a-venir/detailevenement/704/-/gpm-esprit-racing-memorial?tmpl=component)
X-ALT-DESC;FMTTYPE=text/html:<!-- #gskiepreuve code généré par le plugin jevents pour GskiEpreuves. Ne p
 as modifier cette ligne, ni tout le contenu suivant  #gskiepreuve --><div c
 lass="gski-evenement_infos"><div class="gski-evenement-nom">GPM  Esprit Rac
 ing  Mémorial</div><div class="gski-evenement-report"></div><ul class="gski
 -evenement-liste-infos"><li>Codex évenement AMVT0380</li><li>Circuit : Gran
 d Prix Masters</li><li>Lieu : MARKSTEIN</li><li>Station : MARKSTEIN</li><li
 >Organisateur : 14145 SKI CLUB KRUTH</li><li>Courriel : <!-- Cette adresse 
 électronique est protégée contre les robots spammeurs. --><span class="cloa
 ked_email ep_964073dc"><span data-ep-b="&#111;m" data-ep-a="&#106;l&#98;&#6
 4;"><span data-ep-a="&#115;k&#105;&#45;" data-ep-b="&#116;&#104;&#46;&#99;"
 ><span data-ep-b="-&#107;&#114;&#117;" data-ep-a="c&#108;&#117;&#98;"></spa
 n></span></span></span><script>RegularLabs.EmailProtector.unCloak("ep_96407
 3dc");</script></li><li>Téléphone : 03 89 38 26 79</li></ul><div class="gsk
 i-evenement-infos-2"><div class="gski-evenement-info-inscriptions"><div cla
 ss="gski-evenement-inscriptions-periodes">Période d'inscription à l'evèneme
 nt du mercredi 11 janvier 2017 à 01:00 au jeudi 02 février 2017 à 19:00 <sp
 an class="gski-evenement-inscriptions-impossibles">(Inscriptions impossible
 s).</span><div class="gski-evenement-inscriptions-types-titres">Le type de 
 titres Fédéraux autorisé n'est pas défini. Veuillez contacter l'organisateu
 r et lui signaler le problème.</div></div></div><div class="gski-evenement-
 epreuves"><div class="gski-evenement-epreuves-titres">Epreuves :</div><ul c
 lass="gski-evenement-epreuves-list"><li><div class="gski-epreuve-date">Le v
 endredi 03 février 2017</div><ul class="gski-epreuve-liste-infos"><li>Codex
  épreuve AMVM0381</li><li>Slalom</li><li>Circuit : Grand Prix Masters</li><
 /ul></li><li><div class="gski-epreuve-date">Le vendredi 03 février 2017</di
 v><ul class="gski-epreuve-liste-infos"><li>Codex épreuve AMVF0381</li><li>S
 lalom</li><li>Circuit : Grand Prix Masters</li></ul></li></ul></div><div cl
 ass="gskiepreuves-links"><ul><li><a href="https://skivosges.net/index.php?o
 ption=com_jevents&task=icalevent.detail&evid=699&Itemid=6289">Voir les info
 rmations dans l'agenda...</a></li><li><a href="https://skivosges.net/index.
 php?option=com_gskiepreuves&view=afficheresultats&format_option=tous&filter
 [search]=AMVT0380&filter[date_debut]=03-02-2017&filter[date_fin]=03-02-2017
 &code_activite=ALP&Itemid=6289">Vers les résultats...</a></li></ul></div></
 div"><!-- #/gskiepreuve fin du dode généré par le plugin jevents pour GskiE
 preuves. . Ne pas modifier cette ligne, ni tout le contenu précedant.  #/gs
 kiepreuve --> <a href="https://skivosges.net/agenda/a-venir/detailevenement
 /704/-/gpm-esprit-racing-memorial?tmpl=component">Cet évènement a été impor
 té depuis :https://skivosges.net/agenda/a-venir/detailevenement/704/-/gpm-e
 sprit-racing-memorial?tmpl=component</a>DTSTAMP:20260424T083701
DTSTART;TZID=Europe/Paris;VALUE=DATE:20170203
DTEND;TZID=Europe/Paris;VALUE=DATE:20170204
SEQUENCE:0
TRANSP:OPAQUE
END:VEVENT
END:VCALENDAR