BEGIN:VCALENDAR
VERSION:2.0
PRODID:-//jEvents 2.0 for Joomla//EN
CALSCALE:GREGORIAN
METHOD:PUBLISH
BEGIN:VTIMEZONE
TZID:Europe/Paris
BEGIN:STANDARD
DTSTART:20160204T000000
RDATE:20160327T030000
TZOFFSETFROM:+0200
TZOFFSETTO:+0100
TZNAME:Europe/Paris CET
END:STANDARD
BEGIN:STANDARD
DTSTART:20161030T020000
RDATE:20170326T030000
TZOFFSETFROM:+0200
TZOFFSETTO:+0100
TZNAME:Europe/Paris CET
END:STANDARD
BEGIN:STANDARD
DTSTART:20171029T020000
RDATE:20180325T030000
TZOFFSETFROM:+0200
TZOFFSETTO:+0100
TZNAME:Europe/Paris CET
END:STANDARD
BEGIN:STANDARD
DTSTART:20181028T020000
RDATE:20190331T030000
TZOFFSETFROM:+0200
TZOFFSETTO:+0100
TZNAME:Europe/Paris CET
END:STANDARD
BEGIN:STANDARD
DTSTART:20191027T020000
RDATE:20200329T030000
TZOFFSETFROM:+0200
TZOFFSETTO:+0100
TZNAME:Europe/Paris CET
END:STANDARD
BEGIN:STANDARD
DTSTART:20201025T020000
RDATE:20210328T030000
TZOFFSETFROM:+0200
TZOFFSETTO:+0100
TZNAME:Europe/Paris CET
END:STANDARD
BEGIN:STANDARD
DTSTART:20211031T020000
RDATE:20220327T030000
TZOFFSETFROM:+0200
TZOFFSETTO:+0100
TZNAME:Europe/Paris CET
END:STANDARD
BEGIN:STANDARD
DTSTART:20221030T020000
RDATE:20230326T030000
TZOFFSETFROM:+0200
TZOFFSETTO:+0100
TZNAME:Europe/Paris CET
END:STANDARD
BEGIN:STANDARD
DTSTART:20231029T020000
RDATE:20240331T030000
TZOFFSETFROM:+0200
TZOFFSETTO:+0100
TZNAME:Europe/Paris CET
END:STANDARD
BEGIN:STANDARD
DTSTART:20241027T020000
RDATE:20250330T030000
TZOFFSETFROM:+0200
TZOFFSETTO:+0100
TZNAME:Europe/Paris CET
END:STANDARD
BEGIN:STANDARD
DTSTART:20251026T020000
RDATE:20260329T030000
TZOFFSETFROM:+0200
TZOFFSETTO:+0100
TZNAME:Europe/Paris CET
END:STANDARD
BEGIN:STANDARD
DTSTART:20261025T020000
RDATE:20270328T030000
TZOFFSETFROM:+0200
TZOFFSETTO:+0100
TZNAME:Europe/Paris CET
END:STANDARD
BEGIN:DAYLIGHT
DTSTART:20160327T030000
RDATE:20161030T020000
TZOFFSETFROM:+0100
TZOFFSETTO:+0200
TZNAME:Europe/Paris CEST
END:DAYLIGHT
BEGIN:DAYLIGHT
DTSTART:20170326T030000
RDATE:20171029T020000
TZOFFSETFROM:+0100
TZOFFSETTO:+0200
TZNAME:Europe/Paris CEST
END:DAYLIGHT
BEGIN:DAYLIGHT
DTSTART:20180325T030000
RDATE:20181028T020000
TZOFFSETFROM:+0100
TZOFFSETTO:+0200
TZNAME:Europe/Paris CEST
END:DAYLIGHT
BEGIN:DAYLIGHT
DTSTART:20190331T030000
RDATE:20191027T020000
TZOFFSETFROM:+0100
TZOFFSETTO:+0200
TZNAME:Europe/Paris CEST
END:DAYLIGHT
BEGIN:DAYLIGHT
DTSTART:20200329T030000
RDATE:20201025T020000
TZOFFSETFROM:+0100
TZOFFSETTO:+0200
TZNAME:Europe/Paris CEST
END:DAYLIGHT
BEGIN:DAYLIGHT
DTSTART:20210328T030000
RDATE:20211031T020000
TZOFFSETFROM:+0100
TZOFFSETTO:+0200
TZNAME:Europe/Paris CEST
END:DAYLIGHT
BEGIN:DAYLIGHT
DTSTART:20220327T030000
RDATE:20221030T020000
TZOFFSETFROM:+0100
TZOFFSETTO:+0200
TZNAME:Europe/Paris CEST
END:DAYLIGHT
BEGIN:DAYLIGHT
DTSTART:20230326T030000
RDATE:20231029T020000
TZOFFSETFROM:+0100
TZOFFSETTO:+0200
TZNAME:Europe/Paris CEST
END:DAYLIGHT
BEGIN:DAYLIGHT
DTSTART:20240331T030000
RDATE:20241027T020000
TZOFFSETFROM:+0100
TZOFFSETTO:+0200
TZNAME:Europe/Paris CEST
END:DAYLIGHT
BEGIN:DAYLIGHT
DTSTART:20250330T030000
RDATE:20251026T020000
TZOFFSETFROM:+0100
TZOFFSETTO:+0200
TZNAME:Europe/Paris CEST
END:DAYLIGHT
BEGIN:DAYLIGHT
DTSTART:20260329T030000
RDATE:20261025T020000
TZOFFSETFROM:+0100
TZOFFSETTO:+0200
TZNAME:Europe/Paris CEST
END:DAYLIGHT
END:VTIMEZONE
BEGIN:VEVENT
UID:925f1647df0c935d6b6ac48a2b0094c1
CATEGORIES:Compétition Ski Alpin
CREATED:20161202T134851
SUMMARY:Ski Chrono National Tour Technique d Alsace *** ANNULE(E) ***
URL;VALUE=URI:https://skivosges.net/agenda/a-venir/detailevenement/705/-/ski-chrono-natio
 nal-tour-technique-d-alsace-annule-e?tmpl=component
DESCRIPTION:Ski Chrono National Tour Technique d Alsace (Epreuve annulée)\n - Codex éve
 nement ----\n - Organisateur : \n - Courriel : RegularLabs.EmailProtector.u
 nCloak("ep_15826c1e");\n - Téléphone : 33(388) 19 04 8Période d'inscription
  à l'evènement du samedi 28 janvier 2017 à 01:00 au jeudi 02 février 2017 à
  13:00 (Inscriptions impossibles).Le type de titres Fédéraux autorisé n'est
  pas défini. Veuillez contacter l'organisateur et lui signaler le problème.
 Epreuves :\n - Le samedi 04 février 2017\n - Codex épreuve 1669\n - Slalom\
 n - Le dimanche 05 février 2017\n - Codex épreuve 1671\n - Slalom\n - Le lu
 ndi 06 février 2017\n - Codex épreuve 1672\n - Slalom Geant\n - Le mardi 07
  février 2017\n - Codex épreuve 1673\n - Slalom Geant\n - Voir les informat
 ions dans l'agenda... (/index.php?option=com_jevents&amp;task=icalevent.det
 ail&amp;evid=700&amp;Itemid=6289) Cet évènement a été importé depuis :https
 ://skivosges.net/agenda/a-venir/detailevenement/705/-/ski-chrono-national-t
 our-technique-d-alsace-annule-e?tmpl=component (https://skivosges.net/agend
 a/a-venir/detailevenement/705/-/ski-chrono-national-tour-technique-d-alsace
 -annule-e?tmpl=component)
X-ALT-DESC;FMTTYPE=text/html:<!-- #gskiepreuve code généré par le plugin jevents pour GskiEpreuves. Ne p
 as modifier cette ligne, ni tout le contenu suivant  #gskiepreuve --><div c
 lass="gski-evenement_infos"><div class="gski-evenement-nom">Ski Chrono Nati
 onal Tour Technique d Alsace</div><div class="gski-evenement-report"> <font
  class="gskiattention">(Epreuve annulée)</font></div><ul class="gski-evenem
 ent-liste-infos"><li>Codex évenement ----</li><li>Organisateur : </li><li>C
 ourriel : <!-- Cette adresse électronique est protégée contre les robots sp
 ammeurs. --><span class="cloaked_email ep_15826c1e"><span data-ep-a="m&#46;
 &#101;" data-ep-b="&#46;fr"><span data-ep-a="i&#115;e" data-ep-b="d&#111;o"
 ><span data-ep-a="&#110;&#64;&#119;" data-ep-b="&#97;na"></span></span></sp
 an></span><script>RegularLabs.EmailProtector.unCloak("ep_15826c1e");</scrip
 t></li><li>Téléphone : 33(388) 19 04 8</li></ul><div class="gski-evenement-
 infos-2"><div class="gski-evenement-info-inscriptions"><div class="gski-eve
 nement-inscriptions-periodes">Période d'inscription à l'evènement du samedi
  28 janvier 2017 à 01:00 au jeudi 02 février 2017 à 13:00 <span class="gski
 -evenement-inscriptions-impossibles">(Inscriptions impossibles).</span><div
  class="gski-evenement-inscriptions-types-titres">Le type de titres Fédérau
 x autorisé n'est pas défini. Veuillez contacter l'organisateur et lui signa
 ler le problème.</div></div></div><div class="gski-evenement-epreuves"><div
  class="gski-evenement-epreuves-titres">Epreuves :</div><ul class="gski-eve
 nement-epreuves-list"><li><div class="gski-epreuve-date">Le samedi 04 févri
 er 2017</div><ul class="gski-epreuve-liste-infos"><li>Codex épreuve 1669</l
 i><li>Slalom</li></ul></li><li><div class="gski-epreuve-date">Le dimanche 0
 5 février 2017</div><ul class="gski-epreuve-liste-infos"><li>Codex épreuve 
 1671</li><li>Slalom</li></ul></li><li><div class="gski-epreuve-date">Le lun
 di 06 février 2017</div><ul class="gski-epreuve-liste-infos"><li>Codex épre
 uve 1672</li><li>Slalom Geant</li></ul></li><li><div class="gski-epreuve-da
 te">Le mardi 07 février 2017</div><ul class="gski-epreuve-liste-infos"><li>
 Codex épreuve 1673</li><li>Slalom Geant</li></ul></li></ul></div><div class
 ="gskiepreuves-links"><ul><li><a href="https://skivosges.net/index.php?opti
 on=com_jevents&task=icalevent.detail&evid=700&Itemid=6289">Voir les informa
 tions dans l'agenda...</a></li></ul></div></div"><!-- #/gskiepreuve fin du 
 dode généré par le plugin jevents pour GskiEpreuves. . Ne pas modifier cett
 e ligne, ni tout le contenu précedant.  #/gskiepreuve --> <a href="https://
 skivosges.net/agenda/a-venir/detailevenement/705/-/ski-chrono-national-tour
 -technique-d-alsace-annule-e?tmpl=component">Cet évènement a été importé de
 puis :https://skivosges.net/agenda/a-venir/detailevenement/705/-/ski-chrono
 -national-tour-technique-d-alsace-annule-e?tmpl=component</a>DTSTAMP:20260424T083635
DTSTART;TZID=Europe/Paris;VALUE=DATE:20170204
DTEND;TZID=Europe/Paris;VALUE=DATE:20170208
SEQUENCE:0
TRANSP:OPAQUE
END:VEVENT
END:VCALENDAR