BEGIN:VCALENDAR
VERSION:2.0
PRODID:-//jEvents 2.0 for Joomla//EN
CALSCALE:GREGORIAN
METHOD:PUBLISH
BEGIN:VTIMEZONE
TZID:Europe/Paris
BEGIN:STANDARD
DTSTART:20160204T000000
RDATE:20160327T030000
TZOFFSETFROM:+0200
TZOFFSETTO:+0100
TZNAME:Europe/Paris CET
END:STANDARD
BEGIN:STANDARD
DTSTART:20161030T020000
RDATE:20170326T030000
TZOFFSETFROM:+0200
TZOFFSETTO:+0100
TZNAME:Europe/Paris CET
END:STANDARD
BEGIN:STANDARD
DTSTART:20171029T020000
RDATE:20180325T030000
TZOFFSETFROM:+0200
TZOFFSETTO:+0100
TZNAME:Europe/Paris CET
END:STANDARD
BEGIN:STANDARD
DTSTART:20181028T020000
RDATE:20190331T030000
TZOFFSETFROM:+0200
TZOFFSETTO:+0100
TZNAME:Europe/Paris CET
END:STANDARD
BEGIN:STANDARD
DTSTART:20191027T020000
RDATE:20200329T030000
TZOFFSETFROM:+0200
TZOFFSETTO:+0100
TZNAME:Europe/Paris CET
END:STANDARD
BEGIN:STANDARD
DTSTART:20201025T020000
RDATE:20210328T030000
TZOFFSETFROM:+0200
TZOFFSETTO:+0100
TZNAME:Europe/Paris CET
END:STANDARD
BEGIN:STANDARD
DTSTART:20211031T020000
RDATE:20220327T030000
TZOFFSETFROM:+0200
TZOFFSETTO:+0100
TZNAME:Europe/Paris CET
END:STANDARD
BEGIN:STANDARD
DTSTART:20221030T020000
RDATE:20230326T030000
TZOFFSETFROM:+0200
TZOFFSETTO:+0100
TZNAME:Europe/Paris CET
END:STANDARD
BEGIN:STANDARD
DTSTART:20231029T020000
RDATE:20240331T030000
TZOFFSETFROM:+0200
TZOFFSETTO:+0100
TZNAME:Europe/Paris CET
END:STANDARD
BEGIN:STANDARD
DTSTART:20241027T020000
RDATE:20250330T030000
TZOFFSETFROM:+0200
TZOFFSETTO:+0100
TZNAME:Europe/Paris CET
END:STANDARD
BEGIN:STANDARD
DTSTART:20251026T020000
RDATE:20260329T030000
TZOFFSETFROM:+0200
TZOFFSETTO:+0100
TZNAME:Europe/Paris CET
END:STANDARD
BEGIN:STANDARD
DTSTART:20261025T020000
RDATE:20270328T030000
TZOFFSETFROM:+0200
TZOFFSETTO:+0100
TZNAME:Europe/Paris CET
END:STANDARD
BEGIN:DAYLIGHT
DTSTART:20160327T030000
RDATE:20161030T020000
TZOFFSETFROM:+0100
TZOFFSETTO:+0200
TZNAME:Europe/Paris CEST
END:DAYLIGHT
BEGIN:DAYLIGHT
DTSTART:20170326T030000
RDATE:20171029T020000
TZOFFSETFROM:+0100
TZOFFSETTO:+0200
TZNAME:Europe/Paris CEST
END:DAYLIGHT
BEGIN:DAYLIGHT
DTSTART:20180325T030000
RDATE:20181028T020000
TZOFFSETFROM:+0100
TZOFFSETTO:+0200
TZNAME:Europe/Paris CEST
END:DAYLIGHT
BEGIN:DAYLIGHT
DTSTART:20190331T030000
RDATE:20191027T020000
TZOFFSETFROM:+0100
TZOFFSETTO:+0200
TZNAME:Europe/Paris CEST
END:DAYLIGHT
BEGIN:DAYLIGHT
DTSTART:20200329T030000
RDATE:20201025T020000
TZOFFSETFROM:+0100
TZOFFSETTO:+0200
TZNAME:Europe/Paris CEST
END:DAYLIGHT
BEGIN:DAYLIGHT
DTSTART:20210328T030000
RDATE:20211031T020000
TZOFFSETFROM:+0100
TZOFFSETTO:+0200
TZNAME:Europe/Paris CEST
END:DAYLIGHT
BEGIN:DAYLIGHT
DTSTART:20220327T030000
RDATE:20221030T020000
TZOFFSETFROM:+0100
TZOFFSETTO:+0200
TZNAME:Europe/Paris CEST
END:DAYLIGHT
BEGIN:DAYLIGHT
DTSTART:20230326T030000
RDATE:20231029T020000
TZOFFSETFROM:+0100
TZOFFSETTO:+0200
TZNAME:Europe/Paris CEST
END:DAYLIGHT
BEGIN:DAYLIGHT
DTSTART:20240331T030000
RDATE:20241027T020000
TZOFFSETFROM:+0100
TZOFFSETTO:+0200
TZNAME:Europe/Paris CEST
END:DAYLIGHT
BEGIN:DAYLIGHT
DTSTART:20250330T030000
RDATE:20251026T020000
TZOFFSETFROM:+0100
TZOFFSETTO:+0200
TZNAME:Europe/Paris CEST
END:DAYLIGHT
BEGIN:DAYLIGHT
DTSTART:20260329T030000
RDATE:20261025T020000
TZOFFSETFROM:+0100
TZOFFSETTO:+0200
TZNAME:Europe/Paris CEST
END:DAYLIGHT
END:VTIMEZONE
BEGIN:VEVENT
UID:56ab2e0284f94c21eb770ceff1b3710f
CATEGORIES:Compétition Ski de Fond
CREATED:20161202T134851
SUMMARY:2ème Rencontre Nordique Foyers Massif
URL;VALUE=URI:https://skivosges.net/agenda/a-venir/detailevenement/707/-/2eme-rencontre-n
 ordique-foyers-massif?tmpl=component
DESCRIPTION:2ème Rencontre Nordique Foyers Massif\n - Codex évenement FMVT0120\n - Lieu
  : LAC BLANC\n - Station : LAC BLANC\n - Organisateur : 14379 LAC BLANC SKI
  NORDIQUE CV ORBEYPériode d'inscription à l'evènement du samedi 28 janvier 
 2017 à 01:00 au jeudi 02 février 2017 à 13:00 (Inscriptions impossibles).Le
  type de titres Fédéraux autorisé n'est pas défini. Veuillez contacter l'or
 ganisateur et lui signaler le problème.Epreuves :\n - Le samedi 04 février 
 2017\n - Codex épreuve FMVF0121\n - Depart Individuel\n - Le samedi 04 févr
 ier 2017\n - Codex épreuve FMVM0121\n - Depart Individuel\n - Le samedi 04 
 février 2017\n - Codex épreuve FMVF0122\n - Depart Individuel\n - Le samedi
  04 février 2017\n - Codex épreuve FMVM0122\n - Depart Individuel\n - Voir 
 les informations dans l'agenda... (/index.php?option=com_jevents&amp;task=i
 calevent.detail&amp;evid=702&amp;Itemid=6289) Cet évènement a été importé d
 epuis :https://skivosges.net/agenda/a-venir/detailevenement/707/-/2eme-renc
 ontre-nordique-foyers-massif?tmpl=component (https://skivosges.net/agenda/a
 -venir/detailevenement/707/-/2eme-rencontre-nordique-foyers-massif?tmpl=com
 ponent)
X-ALT-DESC;FMTTYPE=text/html:<!-- #gskiepreuve code généré par le plugin jevents pour GskiEpreuves. Ne p
 as modifier cette ligne, ni tout le contenu suivant  #gskiepreuve --><div c
 lass="gski-evenement_infos"><div class="gski-evenement-nom">2ème Rencontre 
 Nordique Foyers Massif</div><div class="gski-evenement-report"></div><ul cl
 ass="gski-evenement-liste-infos"><li>Codex évenement FMVT0120</li><li>Lieu 
 : LAC BLANC</li><li>Station : LAC BLANC</li><li>Organisateur : 14379 LAC BL
 ANC SKI NORDIQUE CV ORBEY</li></ul><div class="gski-evenement-infos-2"><div
  class="gski-evenement-info-inscriptions"><div class="gski-evenement-inscri
 ptions-periodes">Période d'inscription à l'evènement du samedi 28 janvier 2
 017 à 01:00 au jeudi 02 février 2017 à 13:00 <span class="gski-evenement-in
 scriptions-impossibles">(Inscriptions impossibles).</span><div class="gski-
 evenement-inscriptions-types-titres">Le type de titres Fédéraux autorisé n'
 est pas défini. Veuillez contacter l'organisateur et lui signaler le problè
 me.</div></div></div><div class="gski-evenement-epreuves"><div class="gski-
 evenement-epreuves-titres">Epreuves :</div><ul class="gski-evenement-epreuv
 es-list"><li><div class="gski-epreuve-date">Le samedi 04 février 2017</div>
 <ul class="gski-epreuve-liste-infos"><li>Codex épreuve FMVF0121</li><li>Dep
 art Individuel</li></ul></li><li><div class="gski-epreuve-date">Le samedi 0
 4 février 2017</div><ul class="gski-epreuve-liste-infos"><li>Codex épreuve 
 FMVM0121</li><li>Depart Individuel</li></ul></li><li><div class="gski-epreu
 ve-date">Le samedi 04 février 2017</div><ul class="gski-epreuve-liste-infos
 "><li>Codex épreuve FMVF0122</li><li>Depart Individuel</li></ul></li><li><d
 iv class="gski-epreuve-date">Le samedi 04 février 2017</div><ul class="gski
 -epreuve-liste-infos"><li>Codex épreuve FMVM0122</li><li>Depart Individuel<
 /li></ul></li></ul></div><div class="gskiepreuves-links"><ul><li><a href="h
 ttps://skivosges.net/index.php?option=com_jevents&task=icalevent.detail&evi
 d=702&Itemid=6289">Voir les informations dans l'agenda...</a></li></ul></di
 v></div"><!-- #/gskiepreuve fin du dode généré par le plugin jevents pour G
 skiEpreuves. . Ne pas modifier cette ligne, ni tout le contenu précedant.  
 #/gskiepreuve --> <a href="https://skivosges.net/agenda/a-venir/detailevene
 ment/707/-/2eme-rencontre-nordique-foyers-massif?tmpl=component">Cet évènem
 ent a été importé depuis :https://skivosges.net/agenda/a-venir/detailevenem
 ent/707/-/2eme-rencontre-nordique-foyers-massif?tmpl=component</a>DTSTAMP:20260424T083652
DTSTART;TZID=Europe/Paris;VALUE=DATE:20170204
DTEND;TZID=Europe/Paris;VALUE=DATE:20170205
SEQUENCE:0
TRANSP:OPAQUE
END:VEVENT
END:VCALENDAR