BEGIN:VCALENDAR
VERSION:2.0
PRODID:-//jEvents 2.0 for Joomla//EN
CALSCALE:GREGORIAN
METHOD:PUBLISH
BEGIN:VTIMEZONE
TZID:Europe/Paris
BEGIN:STANDARD
DTSTART:20160205T000000
RDATE:20160327T030000
TZOFFSETFROM:+0200
TZOFFSETTO:+0100
TZNAME:Europe/Paris CET
END:STANDARD
BEGIN:STANDARD
DTSTART:20161030T020000
RDATE:20170326T030000
TZOFFSETFROM:+0200
TZOFFSETTO:+0100
TZNAME:Europe/Paris CET
END:STANDARD
BEGIN:STANDARD
DTSTART:20171029T020000
RDATE:20180325T030000
TZOFFSETFROM:+0200
TZOFFSETTO:+0100
TZNAME:Europe/Paris CET
END:STANDARD
BEGIN:STANDARD
DTSTART:20181028T020000
RDATE:20190331T030000
TZOFFSETFROM:+0200
TZOFFSETTO:+0100
TZNAME:Europe/Paris CET
END:STANDARD
BEGIN:STANDARD
DTSTART:20191027T020000
RDATE:20200329T030000
TZOFFSETFROM:+0200
TZOFFSETTO:+0100
TZNAME:Europe/Paris CET
END:STANDARD
BEGIN:STANDARD
DTSTART:20201025T020000
RDATE:20210328T030000
TZOFFSETFROM:+0200
TZOFFSETTO:+0100
TZNAME:Europe/Paris CET
END:STANDARD
BEGIN:STANDARD
DTSTART:20211031T020000
RDATE:20220327T030000
TZOFFSETFROM:+0200
TZOFFSETTO:+0100
TZNAME:Europe/Paris CET
END:STANDARD
BEGIN:STANDARD
DTSTART:20221030T020000
RDATE:20230326T030000
TZOFFSETFROM:+0200
TZOFFSETTO:+0100
TZNAME:Europe/Paris CET
END:STANDARD
BEGIN:STANDARD
DTSTART:20231029T020000
RDATE:20240331T030000
TZOFFSETFROM:+0200
TZOFFSETTO:+0100
TZNAME:Europe/Paris CET
END:STANDARD
BEGIN:STANDARD
DTSTART:20241027T020000
RDATE:20250330T030000
TZOFFSETFROM:+0200
TZOFFSETTO:+0100
TZNAME:Europe/Paris CET
END:STANDARD
BEGIN:STANDARD
DTSTART:20251026T020000
RDATE:20260329T030000
TZOFFSETFROM:+0200
TZOFFSETTO:+0100
TZNAME:Europe/Paris CET
END:STANDARD
BEGIN:STANDARD
DTSTART:20261025T020000
RDATE:20270328T030000
TZOFFSETFROM:+0200
TZOFFSETTO:+0100
TZNAME:Europe/Paris CET
END:STANDARD
BEGIN:DAYLIGHT
DTSTART:20160327T030000
RDATE:20161030T020000
TZOFFSETFROM:+0100
TZOFFSETTO:+0200
TZNAME:Europe/Paris CEST
END:DAYLIGHT
BEGIN:DAYLIGHT
DTSTART:20170326T030000
RDATE:20171029T020000
TZOFFSETFROM:+0100
TZOFFSETTO:+0200
TZNAME:Europe/Paris CEST
END:DAYLIGHT
BEGIN:DAYLIGHT
DTSTART:20180325T030000
RDATE:20181028T020000
TZOFFSETFROM:+0100
TZOFFSETTO:+0200
TZNAME:Europe/Paris CEST
END:DAYLIGHT
BEGIN:DAYLIGHT
DTSTART:20190331T030000
RDATE:20191027T020000
TZOFFSETFROM:+0100
TZOFFSETTO:+0200
TZNAME:Europe/Paris CEST
END:DAYLIGHT
BEGIN:DAYLIGHT
DTSTART:20200329T030000
RDATE:20201025T020000
TZOFFSETFROM:+0100
TZOFFSETTO:+0200
TZNAME:Europe/Paris CEST
END:DAYLIGHT
BEGIN:DAYLIGHT
DTSTART:20210328T030000
RDATE:20211031T020000
TZOFFSETFROM:+0100
TZOFFSETTO:+0200
TZNAME:Europe/Paris CEST
END:DAYLIGHT
BEGIN:DAYLIGHT
DTSTART:20220327T030000
RDATE:20221030T020000
TZOFFSETFROM:+0100
TZOFFSETTO:+0200
TZNAME:Europe/Paris CEST
END:DAYLIGHT
BEGIN:DAYLIGHT
DTSTART:20230326T030000
RDATE:20231029T020000
TZOFFSETFROM:+0100
TZOFFSETTO:+0200
TZNAME:Europe/Paris CEST
END:DAYLIGHT
BEGIN:DAYLIGHT
DTSTART:20240331T030000
RDATE:20241027T020000
TZOFFSETFROM:+0100
TZOFFSETTO:+0200
TZNAME:Europe/Paris CEST
END:DAYLIGHT
BEGIN:DAYLIGHT
DTSTART:20250330T030000
RDATE:20251026T020000
TZOFFSETFROM:+0100
TZOFFSETTO:+0200
TZNAME:Europe/Paris CEST
END:DAYLIGHT
BEGIN:DAYLIGHT
DTSTART:20260329T030000
RDATE:20261025T020000
TZOFFSETFROM:+0100
TZOFFSETTO:+0200
TZNAME:Europe/Paris CEST
END:DAYLIGHT
END:VTIMEZONE
BEGIN:VEVENT
UID:849d54b103cd143516e4e0f1472bade4
CATEGORIES:Circuit Alsace Adultes (alpin)
CREATED:20161202T134851
SUMMARY:CAA Coupe du Vignoble **REPORTE**
URL;VALUE=URI:https://skivosges.net/agenda/a-venir/detailevenement/710/-/caa-coupe-du-vig
 noble-reporte?tmpl=component
DESCRIPTION:CAA Coupe du Vignoble (Epreuve reportée, date à determiner)\n - Codex évene
 ment AMVT0400\n - Circuit : Coupe d'Alsace Adultes\n - Lieu : SCHNEPFENRIED
 \n - Station : SCHNEPFENRIED\n - Organisateur : 14105 SKI CLUB LA RIQUEWIHR
 IENNE\n - Courriel : RegularLabs.EmailProtector.unCloak("ep_af079e9d");\n -
  Téléphone :  course reportéPériode d'inscription à l'evènement du dimanche
  29 janvier 2017 à 01:00 au vendredi 03 février 2017 à 13:00 (Inscriptions 
 impossibles).Le type de titres Fédéraux autorisé n'est pas défini. Veuillez
  contacter l'organisateur et lui signaler le problème.Epreuves :\n - Le dim
 anche 05 février 2017\n - Codex épreuve AMVM0401\n - Slalom\n - Circuit : C
 oupe d'Alsace Adultes\n - Le dimanche 05 février 2017\n - Codex épreuve AMV
 F0401\n - Slalom\n - Circuit : Coupe d'Alsace Adultes\n - Voir les informat
 ions dans l'agenda... (/index.php?option=com_jevents&amp;task=icalevent.det
 ail&amp;evid=705&amp;Itemid=6289) Cet évènement a été importé depuis :https
 ://skivosges.net/agenda/a-venir/detailevenement/710/-/caa-coupe-du-vignoble
 -reporte?tmpl=component
X-ALT-DESC;FMTTYPE=text/html:<!-- #gskiepreuve code généré par le plugin jevents pour GskiEpreuves. Ne p
 as modifier cette ligne, ni tout le contenu suivant  #gskiepreuve --><div c
 lass="gski-evenement_infos"><div class="gski-evenement-nom">CAA Coupe du Vi
 gnoble</div><div class="gski-evenement-report"> <font class="gskiattention"
 >(Epreuve reportée, date à determiner)</font></div><ul class="gski-evenemen
 t-liste-infos"><li>Codex évenement AMVT0400</li><li>Circuit : Coupe d'Alsac
 e Adultes</li><li>Lieu : SCHNEPFENRIED</li><li>Station : SCHNEPFENRIED</li>
 <li>Organisateur : 14105 SKI CLUB LA RIQUEWIHRIENNE</li><li>Courriel : <!--
  Cette adresse électronique est protégée contre les robots spammeurs. --><s
 pan class="cloaked_email ep_af079e9d"><span data-ep-b="" data-ep-a="y&#117;
 &#110;&#103;"><span data-ep-b="&#111;&#46;&#102;&#114;" data-ep-a=".r&#101;
 m"><span data-ep-b="&#110;&#97;&#100;&#111;" data-ep-a="&#121;&#64;wa"></sp
 an></span></span></span><script>RegularLabs.EmailProtector.unCloak("ep_af07
 9e9d");</script></li><li>Téléphone :  course report&eacute;</li></ul><div c
 lass="gski-evenement-infos-2"><div class="gski-evenement-info-inscriptions"
 ><div class="gski-evenement-inscriptions-periodes">Période d'inscription à 
 l'evènement du dimanche 29 janvier 2017 à 01:00 au vendredi 03 février 2017
  à 13:00 <span class="gski-evenement-inscriptions-impossibles">(Inscription
 s impossibles).</span><div class="gski-evenement-inscriptions-types-titres"
 >Le type de titres Fédéraux autorisé n'est pas défini. Veuillez contacter l
 'organisateur et lui signaler le problème.</div></div></div><div class="gsk
 i-evenement-epreuves"><div class="gski-evenement-epreuves-titres">Epreuves 
 :</div><ul class="gski-evenement-epreuves-list"><li><div class="gski-epreuv
 e-date">Le dimanche 05 février 2017</div><ul class="gski-epreuve-liste-info
 s"><li>Codex épreuve AMVM0401</li><li>Slalom</li><li>Circuit : Coupe d'Alsa
 ce Adultes</li></ul></li><li><div class="gski-epreuve-date">Le dimanche 05 
 février 2017</div><ul class="gski-epreuve-liste-infos"><li>Codex épreuve AM
 VF0401</li><li>Slalom</li><li>Circuit : Coupe d'Alsace Adultes</li></ul></l
 i></ul></div><div class="gskiepreuves-links"><ul><li><a href="https://skivo
 sges.net/index.php?option=com_jevents&task=icalevent.detail&evid=705&Itemid
 =6289">Voir les informations dans l'agenda...</a></li></ul></div></div"><!-
 - #/gskiepreuve fin du dode généré par le plugin jevents pour GskiEpreuves.
  . Ne pas modifier cette ligne, ni tout le contenu précedant.  #/gskiepreuv
 e --> <a href="https://skivosges.net/agenda/a-venir/detailevenement/710/-/c
 aa-coupe-du-vignoble-reporte?tmpl=component">Cet évènement a été importé de
 puis :https://skivosges.net/agenda/a-venir/detailevenement/710/-/caa-coupe-
 du-vignoble-reporte?tmpl=component</a>DTSTAMP:20260424T073911
DTSTART;TZID=Europe/Paris;VALUE=DATE:20170205
DTEND;TZID=Europe/Paris;VALUE=DATE:20170206
SEQUENCE:0
TRANSP:OPAQUE
END:VEVENT
END:VCALENDAR