BEGIN:VCALENDAR
VERSION:2.0
PRODID:-//jEvents 2.0 for Joomla//EN
CALSCALE:GREGORIAN
METHOD:PUBLISH
BEGIN:VTIMEZONE
TZID:Europe/Paris
BEGIN:STANDARD
DTSTART:20160217T000000
RDATE:20160327T030000
TZOFFSETFROM:+0200
TZOFFSETTO:+0100
TZNAME:Europe/Paris CET
END:STANDARD
BEGIN:STANDARD
DTSTART:20161030T020000
RDATE:20170326T030000
TZOFFSETFROM:+0200
TZOFFSETTO:+0100
TZNAME:Europe/Paris CET
END:STANDARD
BEGIN:STANDARD
DTSTART:20171029T020000
RDATE:20180325T030000
TZOFFSETFROM:+0200
TZOFFSETTO:+0100
TZNAME:Europe/Paris CET
END:STANDARD
BEGIN:STANDARD
DTSTART:20181028T020000
RDATE:20190331T030000
TZOFFSETFROM:+0200
TZOFFSETTO:+0100
TZNAME:Europe/Paris CET
END:STANDARD
BEGIN:STANDARD
DTSTART:20191027T020000
RDATE:20200329T030000
TZOFFSETFROM:+0200
TZOFFSETTO:+0100
TZNAME:Europe/Paris CET
END:STANDARD
BEGIN:STANDARD
DTSTART:20201025T020000
RDATE:20210328T030000
TZOFFSETFROM:+0200
TZOFFSETTO:+0100
TZNAME:Europe/Paris CET
END:STANDARD
BEGIN:STANDARD
DTSTART:20211031T020000
RDATE:20220327T030000
TZOFFSETFROM:+0200
TZOFFSETTO:+0100
TZNAME:Europe/Paris CET
END:STANDARD
BEGIN:STANDARD
DTSTART:20221030T020000
RDATE:20230326T030000
TZOFFSETFROM:+0200
TZOFFSETTO:+0100
TZNAME:Europe/Paris CET
END:STANDARD
BEGIN:STANDARD
DTSTART:20231029T020000
RDATE:20240331T030000
TZOFFSETFROM:+0200
TZOFFSETTO:+0100
TZNAME:Europe/Paris CET
END:STANDARD
BEGIN:STANDARD
DTSTART:20241027T020000
RDATE:20250330T030000
TZOFFSETFROM:+0200
TZOFFSETTO:+0100
TZNAME:Europe/Paris CET
END:STANDARD
BEGIN:STANDARD
DTSTART:20251026T020000
RDATE:20260329T030000
TZOFFSETFROM:+0200
TZOFFSETTO:+0100
TZNAME:Europe/Paris CET
END:STANDARD
BEGIN:STANDARD
DTSTART:20261025T020000
RDATE:20270328T030000
TZOFFSETFROM:+0200
TZOFFSETTO:+0100
TZNAME:Europe/Paris CET
END:STANDARD
BEGIN:DAYLIGHT
DTSTART:20160327T030000
RDATE:20161030T020000
TZOFFSETFROM:+0100
TZOFFSETTO:+0200
TZNAME:Europe/Paris CEST
END:DAYLIGHT
BEGIN:DAYLIGHT
DTSTART:20170326T030000
RDATE:20171029T020000
TZOFFSETFROM:+0100
TZOFFSETTO:+0200
TZNAME:Europe/Paris CEST
END:DAYLIGHT
BEGIN:DAYLIGHT
DTSTART:20180325T030000
RDATE:20181028T020000
TZOFFSETFROM:+0100
TZOFFSETTO:+0200
TZNAME:Europe/Paris CEST
END:DAYLIGHT
BEGIN:DAYLIGHT
DTSTART:20190331T030000
RDATE:20191027T020000
TZOFFSETFROM:+0100
TZOFFSETTO:+0200
TZNAME:Europe/Paris CEST
END:DAYLIGHT
BEGIN:DAYLIGHT
DTSTART:20200329T030000
RDATE:20201025T020000
TZOFFSETFROM:+0100
TZOFFSETTO:+0200
TZNAME:Europe/Paris CEST
END:DAYLIGHT
BEGIN:DAYLIGHT
DTSTART:20210328T030000
RDATE:20211031T020000
TZOFFSETFROM:+0100
TZOFFSETTO:+0200
TZNAME:Europe/Paris CEST
END:DAYLIGHT
BEGIN:DAYLIGHT
DTSTART:20220327T030000
RDATE:20221030T020000
TZOFFSETFROM:+0100
TZOFFSETTO:+0200
TZNAME:Europe/Paris CEST
END:DAYLIGHT
BEGIN:DAYLIGHT
DTSTART:20230326T030000
RDATE:20231029T020000
TZOFFSETFROM:+0100
TZOFFSETTO:+0200
TZNAME:Europe/Paris CEST
END:DAYLIGHT
BEGIN:DAYLIGHT
DTSTART:20240331T030000
RDATE:20241027T020000
TZOFFSETFROM:+0100
TZOFFSETTO:+0200
TZNAME:Europe/Paris CEST
END:DAYLIGHT
BEGIN:DAYLIGHT
DTSTART:20250330T030000
RDATE:20251026T020000
TZOFFSETFROM:+0100
TZOFFSETTO:+0200
TZNAME:Europe/Paris CEST
END:DAYLIGHT
BEGIN:DAYLIGHT
DTSTART:20260329T030000
RDATE:20261025T020000
TZOFFSETFROM:+0100
TZOFFSETTO:+0200
TZNAME:Europe/Paris CEST
END:DAYLIGHT
END:VTIMEZONE
BEGIN:VEVENT
UID:366546753156845d3428668fe7ca61dc
CATEGORIES:Compétition Saut
CREATED:20161202T134851
SUMMARY:Gérardmer Coupe des Vosges Saut Spécial circuit CV
URL;VALUE=URI:https://skivosges.net/agenda/a-venir/detailevenement/720/-/gerardmer-coupe-
 des-vosges-saut-special-circuit-cv?tmpl=component
DESCRIPTION:Gérardmer Coupe des Vosges Saut Spécial circuit CV\n - Codex évenement TMVT
 0070\n - Organisateur : 14469 A.S GERARDMER SKI NORDIQUEPériode d'inscripti
 on à l'evènement du vendredi 10 février 2017 à 01:00 au mercredi 15 février
  2017 à 13:00 (Inscriptions impossibles).Le type de titres Fédéraux autoris
 é n'est pas défini. Veuillez contacter l'organisateur et lui signaler le pr
 oblème.Epreuves :\n - Le vendredi 17 février 2017\n - Codex épreuve TMVF007
 1\n - Saut Special\n - Le vendredi 17 février 2017\n - Codex épreuve TMVF00
 72\n - Saut Special\n - Le vendredi 17 février 2017\n - Codex épreuve TMVF0
 073\n - Saut Special\n - Le vendredi 17 février 2017\n - Codex épreuve TMVF
 0074\n - Saut Special\n - Le vendredi 17 février 2017\n - Codex épreuve TMV
 F0075\n - Saut Special\n - Le vendredi 17 février 2017\n - Codex épreuve TM
 VF0076\n - Saut Special\n - Le vendredi 17 février 2017\n - Codex épreuve T
 MVM0071\n - Saut Special\n - Le vendredi 17 février 2017\n - Codex épreuve 
 TMVM0072\n - Saut Special\n - Le vendredi 17 février 2017\n - Codex épreuve
  TMVM0073\n - Saut Special\n - Le vendredi 17 février 2017\n - Codex épreuv
 e TMVM0074\n - Saut Special\n - Le vendredi 17 février 2017\n - Codex épreu
 ve TMVM0075\n - Saut Special\n - Le vendredi 17 février 2017\n - Codex épre
 uve TMVM0076\n - Saut Special\n - Voir les informations dans l'agenda... (/
 index.php?option=com_jevents&amp;task=icalevent.detail&amp;evid=715&amp;Ite
 mid=6289) Cet évènement a été importé depuis :https://skivosges.net/agenda/
 a-venir/detailevenement/720/-/gerardmer-coupe-des-vosges-saut-special-circu
 it-cv?tmpl=component (https://skivosges.net/agenda/a-venir/detailevenement/
 720/-/gerardmer-coupe-des-vosges-saut-special-circuit-cv?tmpl=component)
X-ALT-DESC;FMTTYPE=text/html:<!-- #gskiepreuve code généré par le plugin jevents pour GskiEpreuves. Ne p
 as modifier cette ligne, ni tout le contenu suivant  #gskiepreuve --><div c
 lass="gski-evenement_infos"><div class="gski-evenement-nom">Gérardmer Coupe
  des Vosges Saut Spécial circuit CV</div><div class="gski-evenement-report"
 ></div><ul class="gski-evenement-liste-infos"><li>Codex évenement TMVT0070<
 /li><li>Organisateur : 14469 A.S GERARDMER SKI NORDIQUE</li></ul><div class
 ="gski-evenement-infos-2"><div class="gski-evenement-info-inscriptions"><di
 v class="gski-evenement-inscriptions-periodes">Période d'inscription à l'ev
 ènement du vendredi 10 février 2017 à 01:00 au mercredi 15 février 2017 à 1
 3:00 <span class="gski-evenement-inscriptions-impossibles">(Inscriptions im
 possibles).</span><div class="gski-evenement-inscriptions-types-titres">Le 
 type de titres Fédéraux autorisé n'est pas défini. Veuillez contacter l'org
 anisateur et lui signaler le problème.</div></div></div><div class="gski-ev
 enement-epreuves"><div class="gski-evenement-epreuves-titres">Epreuves :</d
 iv><ul class="gski-evenement-epreuves-list"><li><div class="gski-epreuve-da
 te">Le vendredi 17 février 2017</div><ul class="gski-epreuve-liste-infos"><
 li>Codex épreuve TMVF0071</li><li>Saut Special</li></ul></li><li><div class
 ="gski-epreuve-date">Le vendredi 17 février 2017</div><ul class="gski-epreu
 ve-liste-infos"><li>Codex épreuve TMVF0072</li><li>Saut Special</li></ul></
 li><li><div class="gski-epreuve-date">Le vendredi 17 février 2017</div><ul 
 class="gski-epreuve-liste-infos"><li>Codex épreuve TMVF0073</li><li>Saut Sp
 ecial</li></ul></li><li><div class="gski-epreuve-date">Le vendredi 17 févri
 er 2017</div><ul class="gski-epreuve-liste-infos"><li>Codex épreuve TMVF007
 4</li><li>Saut Special</li></ul></li><li><div class="gski-epreuve-date">Le 
 vendredi 17 février 2017</div><ul class="gski-epreuve-liste-infos"><li>Code
 x épreuve TMVF0075</li><li>Saut Special</li></ul></li><li><div class="gski-
 epreuve-date">Le vendredi 17 février 2017</div><ul class="gski-epreuve-list
 e-infos"><li>Codex épreuve TMVF0076</li><li>Saut Special</li></ul></li><li>
 <div class="gski-epreuve-date">Le vendredi 17 février 2017</div><ul class="
 gski-epreuve-liste-infos"><li>Codex épreuve TMVM0071</li><li>Saut Special</
 li></ul></li><li><div class="gski-epreuve-date">Le vendredi 17 février 2017
 </div><ul class="gski-epreuve-liste-infos"><li>Codex épreuve TMVM0072</li><
 li>Saut Special</li></ul></li><li><div class="gski-epreuve-date">Le vendred
 i 17 février 2017</div><ul class="gski-epreuve-liste-infos"><li>Codex épreu
 ve TMVM0073</li><li>Saut Special</li></ul></li><li><div class="gski-epreuve
 -date">Le vendredi 17 février 2017</div><ul class="gski-epreuve-liste-infos
 "><li>Codex épreuve TMVM0074</li><li>Saut Special</li></ul></li><li><div cl
 ass="gski-epreuve-date">Le vendredi 17 février 2017</div><ul class="gski-ep
 reuve-liste-infos"><li>Codex épreuve TMVM0075</li><li>Saut Special</li></ul
 ></li><li><div class="gski-epreuve-date">Le vendredi 17 février 2017</div><
 ul class="gski-epreuve-liste-infos"><li>Codex épreuve TMVM0076</li><li>Saut
  Special</li></ul></li></ul></div><div class="gskiepreuves-links"><ul><li><
 a href="https://skivosges.net/index.php?option=com_jevents&task=icalevent.d
 etail&evid=715&Itemid=6289">Voir les informations dans l'agenda...</a></li>
 </ul></div></div"><!-- #/gskiepreuve fin du dode généré par le plugin jeven
 ts pour GskiEpreuves. . Ne pas modifier cette ligne, ni tout le contenu pré
 cedant.  #/gskiepreuve --> <a href="https://skivosges.net/agenda/a-venir/de
 tailevenement/720/-/gerardmer-coupe-des-vosges-saut-special-circuit-cv?tmpl
 =component">Cet évènement a été importé depuis :https://skivosges.net/agend
 a/a-venir/detailevenement/720/-/gerardmer-coupe-des-vosges-saut-special-cir
 cuit-cv?tmpl=component</a>DTSTAMP:20260424T083714
DTSTART;TZID=Europe/Paris;VALUE=DATE:20170217
DTEND;TZID=Europe/Paris;VALUE=DATE:20170218
SEQUENCE:0
TRANSP:OPAQUE
END:VEVENT
END:VCALENDAR