BEGIN:VCALENDAR
VERSION:2.0
PRODID:-//jEvents 2.0 for Joomla//EN
CALSCALE:GREGORIAN
METHOD:PUBLISH
BEGIN:VTIMEZONE
TZID:Europe/Paris
BEGIN:STANDARD
DTSTART:20160218T000000
RDATE:20160327T030000
TZOFFSETFROM:+0200
TZOFFSETTO:+0100
TZNAME:Europe/Paris CET
END:STANDARD
BEGIN:STANDARD
DTSTART:20161030T020000
RDATE:20170326T030000
TZOFFSETFROM:+0200
TZOFFSETTO:+0100
TZNAME:Europe/Paris CET
END:STANDARD
BEGIN:STANDARD
DTSTART:20171029T020000
RDATE:20180325T030000
TZOFFSETFROM:+0200
TZOFFSETTO:+0100
TZNAME:Europe/Paris CET
END:STANDARD
BEGIN:STANDARD
DTSTART:20181028T020000
RDATE:20190331T030000
TZOFFSETFROM:+0200
TZOFFSETTO:+0100
TZNAME:Europe/Paris CET
END:STANDARD
BEGIN:STANDARD
DTSTART:20191027T020000
RDATE:20200329T030000
TZOFFSETFROM:+0200
TZOFFSETTO:+0100
TZNAME:Europe/Paris CET
END:STANDARD
BEGIN:STANDARD
DTSTART:20201025T020000
RDATE:20210328T030000
TZOFFSETFROM:+0200
TZOFFSETTO:+0100
TZNAME:Europe/Paris CET
END:STANDARD
BEGIN:STANDARD
DTSTART:20211031T020000
RDATE:20220327T030000
TZOFFSETFROM:+0200
TZOFFSETTO:+0100
TZNAME:Europe/Paris CET
END:STANDARD
BEGIN:STANDARD
DTSTART:20221030T020000
RDATE:20230326T030000
TZOFFSETFROM:+0200
TZOFFSETTO:+0100
TZNAME:Europe/Paris CET
END:STANDARD
BEGIN:STANDARD
DTSTART:20231029T020000
RDATE:20240331T030000
TZOFFSETFROM:+0200
TZOFFSETTO:+0100
TZNAME:Europe/Paris CET
END:STANDARD
BEGIN:STANDARD
DTSTART:20241027T020000
RDATE:20250330T030000
TZOFFSETFROM:+0200
TZOFFSETTO:+0100
TZNAME:Europe/Paris CET
END:STANDARD
BEGIN:STANDARD
DTSTART:20251026T020000
RDATE:20260329T030000
TZOFFSETFROM:+0200
TZOFFSETTO:+0100
TZNAME:Europe/Paris CET
END:STANDARD
BEGIN:STANDARD
DTSTART:20261025T020000
RDATE:20270328T030000
TZOFFSETFROM:+0200
TZOFFSETTO:+0100
TZNAME:Europe/Paris CET
END:STANDARD
BEGIN:DAYLIGHT
DTSTART:20160327T030000
RDATE:20161030T020000
TZOFFSETFROM:+0100
TZOFFSETTO:+0200
TZNAME:Europe/Paris CEST
END:DAYLIGHT
BEGIN:DAYLIGHT
DTSTART:20170326T030000
RDATE:20171029T020000
TZOFFSETFROM:+0100
TZOFFSETTO:+0200
TZNAME:Europe/Paris CEST
END:DAYLIGHT
BEGIN:DAYLIGHT
DTSTART:20180325T030000
RDATE:20181028T020000
TZOFFSETFROM:+0100
TZOFFSETTO:+0200
TZNAME:Europe/Paris CEST
END:DAYLIGHT
BEGIN:DAYLIGHT
DTSTART:20190331T030000
RDATE:20191027T020000
TZOFFSETFROM:+0100
TZOFFSETTO:+0200
TZNAME:Europe/Paris CEST
END:DAYLIGHT
BEGIN:DAYLIGHT
DTSTART:20200329T030000
RDATE:20201025T020000
TZOFFSETFROM:+0100
TZOFFSETTO:+0200
TZNAME:Europe/Paris CEST
END:DAYLIGHT
BEGIN:DAYLIGHT
DTSTART:20210328T030000
RDATE:20211031T020000
TZOFFSETFROM:+0100
TZOFFSETTO:+0200
TZNAME:Europe/Paris CEST
END:DAYLIGHT
BEGIN:DAYLIGHT
DTSTART:20220327T030000
RDATE:20221030T020000
TZOFFSETFROM:+0100
TZOFFSETTO:+0200
TZNAME:Europe/Paris CEST
END:DAYLIGHT
BEGIN:DAYLIGHT
DTSTART:20230326T030000
RDATE:20231029T020000
TZOFFSETFROM:+0100
TZOFFSETTO:+0200
TZNAME:Europe/Paris CEST
END:DAYLIGHT
BEGIN:DAYLIGHT
DTSTART:20240331T030000
RDATE:20241027T020000
TZOFFSETFROM:+0100
TZOFFSETTO:+0200
TZNAME:Europe/Paris CEST
END:DAYLIGHT
BEGIN:DAYLIGHT
DTSTART:20250330T030000
RDATE:20251026T020000
TZOFFSETFROM:+0100
TZOFFSETTO:+0200
TZNAME:Europe/Paris CEST
END:DAYLIGHT
BEGIN:DAYLIGHT
DTSTART:20260329T030000
RDATE:20261025T020000
TZOFFSETFROM:+0100
TZOFFSETTO:+0200
TZNAME:Europe/Paris CEST
END:DAYLIGHT
END:VTIMEZONE
BEGIN:VEVENT
UID:228e3bbc1ed51545032773528eb0701d
CATEGORIES:Compétition Ski Alpin
CREATED:20161202T134851
SUMMARY:COUPE DE BRONZE ET COURSE OPEN PRIX ACW
URL;VALUE=URI:https://skivosges.net/agenda/a-venir/detailevenement/721/-/coupe-de-bronze-
 et-course-open-prix-acw?tmpl=component
DESCRIPTION:COUPE DE BRONZE ET COURSE OPEN PRIX ACW\n - Codex évenement AMVT0460\n - Li
 eu : GERARDMER\n - Station : GERARDMER\n - Organisateur : 14089 GERARDMER S
 KI ALPIN\n - Courriel : RegularLabs.EmailProtector.unCloak("ep_f42a0cd3");\
 n - Téléphone : 03 29 60 98 04Période d'inscription à l'evènement du samedi
  11 février 2017 à 01:00 au vendredi 17 février 2017 à 18:00 (Inscriptions 
 impossibles).Le type de titres Fédéraux autorisé n'est pas défini. Veuillez
  contacter l'organisateur et lui signaler le problème.Epreuves :\n - Le sam
 edi 18 février 2017\n - Codex épreuve AMVM0461\n - Slalom Geant\n - Le same
 di 18 février 2017\n - Codex épreuve AMVF0461\n - Slalom Geant\n - Le samed
 i 18 février 2017\n - Codex épreuve AMVM0462\n - Slalom Geant\n - Le samedi
  18 février 2017\n - Codex épreuve AMVF0462\n - Slalom Geant\n - Le samedi 
 18 février 2017\n - Codex épreuve AMVM0463\n - Slalom Geant\n - Le samedi 1
 8 février 2017\n - Codex épreuve AMVF0463\n - Slalom Geant\n - Voir les inf
 ormations dans l'agenda... (/index.php?option=com_jevents&amp;task=icaleven
 t.detail&amp;evid=716&amp;Itemid=6289)\n - Vers les résultats... (/index.ph
 p?option=com_gskiepreuves&amp;view=afficheresultats&amp;format_option=tous&
 amp;filter[search]=AMVT0460&amp;filter[date_debut]=18-02-2017&amp;filter[da
 te_fin]=18-02-2017&amp;code_activite=ALP&amp;Itemid=6289) Cet évènement a é
 té importé depuis :https://skivosges.net/agenda/a-venir/detailevenement/721
 /-/coupe-de-bronze-et-course-open-prix-acw?tmpl=component
X-ALT-DESC;FMTTYPE=text/html:<!-- #gskiepreuve code généré par le plugin jevents pour GskiEpreuves. Ne p
 as modifier cette ligne, ni tout le contenu suivant  #gskiepreuve --><div c
 lass="gski-evenement_infos"><div class="gski-evenement-nom">COUPE DE BRONZE
  ET COURSE OPEN PRIX ACW</div><div class="gski-evenement-report"></div><ul 
 class="gski-evenement-liste-infos"><li>Codex évenement AMVT0460</li><li>Lie
 u : GERARDMER</li><li>Station : GERARDMER</li><li>Organisateur : 14089 GERA
 RDMER SKI ALPIN</li><li>Courriel : <!-- Cette adresse électronique est prot
 égée contre les robots spammeurs. --><span class="cloaked_email ep_f42a0cd3
 "><span data-ep-a="a&#115;&#103;&#115;&#107;" data-ep-b="&#102;r"><span dat
 a-ep-a="&#105;.g&#101;&#114;" data-ep-b="&#97;&#100;&#111;o&#46;"><span dat
 a-ep-b="&#114;&#64;w&#97;&#110;" data-ep-a="&#97;rdm&#101;"></span></span><
 /span></span><script>RegularLabs.EmailProtector.unCloak("ep_f42a0cd3");</sc
 ript></li><li>Téléphone : 03 29 60 98 04</li></ul><div class="gski-evenemen
 t-infos-2"><div class="gski-evenement-info-inscriptions"><div class="gski-e
 venement-inscriptions-periodes">Période d'inscription à l'evènement du same
 di 11 février 2017 à 01:00 au vendredi 17 février 2017 à 18:00 <span class=
 "gski-evenement-inscriptions-impossibles">(Inscriptions impossibles).</span
 ><div class="gski-evenement-inscriptions-types-titres">Le type de titres Fé
 déraux autorisé n'est pas défini. Veuillez contacter l'organisateur et lui 
 signaler le problème.</div></div></div><div class="gski-evenement-epreuves"
 ><div class="gski-evenement-epreuves-titres">Epreuves :</div><ul class="gsk
 i-evenement-epreuves-list"><li><div class="gski-epreuve-date">Le samedi 18 
 février 2017</div><ul class="gski-epreuve-liste-infos"><li>Codex épreuve AM
 VM0461</li><li>Slalom Geant</li></ul></li><li><div class="gski-epreuve-date
 ">Le samedi 18 février 2017</div><ul class="gski-epreuve-liste-infos"><li>C
 odex épreuve AMVF0461</li><li>Slalom Geant</li></ul></li><li><div class="gs
 ki-epreuve-date">Le samedi 18 février 2017</div><ul class="gski-epreuve-lis
 te-infos"><li>Codex épreuve AMVM0462</li><li>Slalom Geant</li></ul></li><li
 ><div class="gski-epreuve-date">Le samedi 18 février 2017</div><ul class="g
 ski-epreuve-liste-infos"><li>Codex épreuve AMVF0462</li><li>Slalom Geant</l
 i></ul></li><li><div class="gski-epreuve-date">Le samedi 18 février 2017</d
 iv><ul class="gski-epreuve-liste-infos"><li>Codex épreuve AMVM0463</li><li>
 Slalom Geant</li></ul></li><li><div class="gski-epreuve-date">Le samedi 18 
 février 2017</div><ul class="gski-epreuve-liste-infos"><li>Codex épreuve AM
 VF0463</li><li>Slalom Geant</li></ul></li></ul></div><div class="gskiepreuv
 es-links"><ul><li><a href="https://skivosges.net/index.php?option=com_jeven
 ts&task=icalevent.detail&evid=716&Itemid=6289">Voir les informations dans l
 'agenda...</a></li><li><a href="https://skivosges.net/index.php?option=com_
 gskiepreuves&view=afficheresultats&format_option=tous&filter[search]=AMVT04
 60&filter[date_debut]=18-02-2017&filter[date_fin]=18-02-2017&code_activite=
 ALP&Itemid=6289">Vers les résultats...</a></li></ul></div></div"><!-- #/gsk
 iepreuve fin du dode généré par le plugin jevents pour GskiEpreuves. . Ne p
 as modifier cette ligne, ni tout le contenu précedant.  #/gskiepreuve --> <
 a href="https://skivosges.net/agenda/a-venir/detailevenement/721/-/coupe-de
 -bronze-et-course-open-prix-acw?tmpl=component">Cet évènement a été importé
  depuis :https://skivosges.net/agenda/a-venir/detailevenement/721/-/coupe-d
 e-bronze-et-course-open-prix-acw?tmpl=component</a>DTSTAMP:20260424T083657
DTSTART;TZID=Europe/Paris;VALUE=DATE:20170218
DTEND;TZID=Europe/Paris;VALUE=DATE:20170219
SEQUENCE:0
TRANSP:OPAQUE
END:VEVENT
END:VCALENDAR