BEGIN:VCALENDAR
VERSION:2.0
PRODID:-//jEvents 2.0 for Joomla//EN
CALSCALE:GREGORIAN
METHOD:PUBLISH
BEGIN:VTIMEZONE
TZID:Europe/Paris
BEGIN:STANDARD
DTSTART:20160218T000000
RDATE:20160327T030000
TZOFFSETFROM:+0200
TZOFFSETTO:+0100
TZNAME:Europe/Paris CET
END:STANDARD
BEGIN:STANDARD
DTSTART:20161030T020000
RDATE:20170326T030000
TZOFFSETFROM:+0200
TZOFFSETTO:+0100
TZNAME:Europe/Paris CET
END:STANDARD
BEGIN:STANDARD
DTSTART:20171029T020000
RDATE:20180325T030000
TZOFFSETFROM:+0200
TZOFFSETTO:+0100
TZNAME:Europe/Paris CET
END:STANDARD
BEGIN:STANDARD
DTSTART:20181028T020000
RDATE:20190331T030000
TZOFFSETFROM:+0200
TZOFFSETTO:+0100
TZNAME:Europe/Paris CET
END:STANDARD
BEGIN:STANDARD
DTSTART:20191027T020000
RDATE:20200329T030000
TZOFFSETFROM:+0200
TZOFFSETTO:+0100
TZNAME:Europe/Paris CET
END:STANDARD
BEGIN:STANDARD
DTSTART:20201025T020000
RDATE:20210328T030000
TZOFFSETFROM:+0200
TZOFFSETTO:+0100
TZNAME:Europe/Paris CET
END:STANDARD
BEGIN:STANDARD
DTSTART:20211031T020000
RDATE:20220327T030000
TZOFFSETFROM:+0200
TZOFFSETTO:+0100
TZNAME:Europe/Paris CET
END:STANDARD
BEGIN:STANDARD
DTSTART:20221030T020000
RDATE:20230326T030000
TZOFFSETFROM:+0200
TZOFFSETTO:+0100
TZNAME:Europe/Paris CET
END:STANDARD
BEGIN:STANDARD
DTSTART:20231029T020000
RDATE:20240331T030000
TZOFFSETFROM:+0200
TZOFFSETTO:+0100
TZNAME:Europe/Paris CET
END:STANDARD
BEGIN:STANDARD
DTSTART:20241027T020000
RDATE:20250330T030000
TZOFFSETFROM:+0200
TZOFFSETTO:+0100
TZNAME:Europe/Paris CET
END:STANDARD
BEGIN:STANDARD
DTSTART:20251026T020000
RDATE:20260329T030000
TZOFFSETFROM:+0200
TZOFFSETTO:+0100
TZNAME:Europe/Paris CET
END:STANDARD
BEGIN:STANDARD
DTSTART:20261025T020000
RDATE:20270328T030000
TZOFFSETFROM:+0200
TZOFFSETTO:+0100
TZNAME:Europe/Paris CET
END:STANDARD
BEGIN:DAYLIGHT
DTSTART:20160327T030000
RDATE:20161030T020000
TZOFFSETFROM:+0100
TZOFFSETTO:+0200
TZNAME:Europe/Paris CEST
END:DAYLIGHT
BEGIN:DAYLIGHT
DTSTART:20170326T030000
RDATE:20171029T020000
TZOFFSETFROM:+0100
TZOFFSETTO:+0200
TZNAME:Europe/Paris CEST
END:DAYLIGHT
BEGIN:DAYLIGHT
DTSTART:20180325T030000
RDATE:20181028T020000
TZOFFSETFROM:+0100
TZOFFSETTO:+0200
TZNAME:Europe/Paris CEST
END:DAYLIGHT
BEGIN:DAYLIGHT
DTSTART:20190331T030000
RDATE:20191027T020000
TZOFFSETFROM:+0100
TZOFFSETTO:+0200
TZNAME:Europe/Paris CEST
END:DAYLIGHT
BEGIN:DAYLIGHT
DTSTART:20200329T030000
RDATE:20201025T020000
TZOFFSETFROM:+0100
TZOFFSETTO:+0200
TZNAME:Europe/Paris CEST
END:DAYLIGHT
BEGIN:DAYLIGHT
DTSTART:20210328T030000
RDATE:20211031T020000
TZOFFSETFROM:+0100
TZOFFSETTO:+0200
TZNAME:Europe/Paris CEST
END:DAYLIGHT
BEGIN:DAYLIGHT
DTSTART:20220327T030000
RDATE:20221030T020000
TZOFFSETFROM:+0100
TZOFFSETTO:+0200
TZNAME:Europe/Paris CEST
END:DAYLIGHT
BEGIN:DAYLIGHT
DTSTART:20230326T030000
RDATE:20231029T020000
TZOFFSETFROM:+0100
TZOFFSETTO:+0200
TZNAME:Europe/Paris CEST
END:DAYLIGHT
BEGIN:DAYLIGHT
DTSTART:20240331T030000
RDATE:20241027T020000
TZOFFSETFROM:+0100
TZOFFSETTO:+0200
TZNAME:Europe/Paris CEST
END:DAYLIGHT
BEGIN:DAYLIGHT
DTSTART:20250330T030000
RDATE:20251026T020000
TZOFFSETFROM:+0100
TZOFFSETTO:+0200
TZNAME:Europe/Paris CEST
END:DAYLIGHT
BEGIN:DAYLIGHT
DTSTART:20260329T030000
RDATE:20261025T020000
TZOFFSETFROM:+0100
TZOFFSETTO:+0200
TZNAME:Europe/Paris CEST
END:DAYLIGHT
END:VTIMEZONE
BEGIN:VEVENT
UID:129b0c6e70143de3b95ff7e5e4c8d310
CATEGORIES:Opens et Promos (alpin)
CREATED:20161202T134851
SUMMARY:PROMO Course des Familles et Open **REPORTE**
URL;VALUE=URI:https://skivosges.net/agenda/a-venir/detailevenement/722/-/promo-course-des
 -familles-et-open-reporte?tmpl=component
DESCRIPTION:PROMO Course des Familles et Open (Epreuve reportée, date à determiner)\n -
  Codex évenement AMVT0470\n - Lieu : MARKSTEIN\n - Station : MARKSTEIN\n - 
 Organisateur : 14186 S.C VALLEE DE WESSERLING\n - Courriel : RegularLabs.Em
 ailProtector.unCloak("ep_38146943");\n - Téléphone : 03 89 82 78 08\n - Tél
 écopie : 03 89 82 78 08Période d'inscription à l'evènement du lundi 13 févr
 ier 2017 à 10:00 au jeudi 16 février 2017 à 21:00 (Inscriptions impossibles
 ).Le type de titres Fédéraux autorisé n'est pas défini. Veuillez contacter 
 l'organisateur et lui signaler le problème.Epreuves :\n - Le samedi 18 févr
 ier 2017\n - Codex épreuve AMVM0471\n - Slalom Geant\n - Le samedi 18 févri
 er 2017\n - Codex épreuve AMVF0471\n - Slalom Geant\n - Le samedi 18 févrie
 r 2017\n - Codex épreuve AMVM0472\n - Slalom Geant\n - Le samedi 18 février
  2017\n - Codex épreuve AMVF0472\n - Slalom Geant\n - Le samedi 18 février 
 2017\n - Codex épreuve AMVF0473\n - Slalom Geant\n - Catégorie(s) : U8 (Fil
 les)\n - Le samedi 18 février 2017\n - Codex épreuve AMVM0473\n - Slalom Ge
 ant\n - Catégorie(s) : U8 (Garçons)\n - Le samedi 18 février 2017\n - Codex
  épreuve AMVM0474\n - Slalom Geant\n - Catégorie(s) : U10 a U16 (Garçons)\n
  - Le samedi 18 février 2017\n - Codex épreuve AMVF0474\n - Slalom Geant\n 
 - Catégorie(s) : U10 a U16 (Filles)\n - Voir les informations dans l'agenda
 ... (/index.php?option=com_jevents&amp;task=icalevent.detail&amp;evid=717&a
 mp;Itemid=6289) Cet évènement a été importé depuis :https://skivosges.net/a
 genda/a-venir/detailevenement/722/-/promo-course-des-familles-et-open-repor
 te?tmpl=component (https://skivosges.net/agenda/a-venir/detailevenement/722
 /-/promo-course-des-familles-et-open-reporte?tmpl=component)
X-ALT-DESC;FMTTYPE=text/html:<!-- #gskiepreuve code généré par le plugin jevents pour GskiEpreuves. Ne p
 as modifier cette ligne, ni tout le contenu suivant  #gskiepreuve --><div c
 lass="gski-evenement_infos"><div class="gski-evenement-nom">PROMO Course de
 s Familles et Open</div><div class="gski-evenement-report"> <font class="gs
 kiattention">(Epreuve reportée, date à determiner)</font></div><ul class="g
 ski-evenement-liste-infos"><li>Codex évenement AMVT0470</li><li>Lieu : MARK
 STEIN</li><li>Station : MARKSTEIN</li><li>Organisateur : 14186 S.C VALLEE D
 E WESSERLING</li><li>Courriel : <!-- Cette adresse électronique est protégé
 e contre les robots spammeurs. --><span class="cloaked_email ep_38146943"><
 span data-ep-b="m" data-ep-a="&#115;&#99;vw"><span data-ep-a="es&#115;&#101
 ;" data-ep-b="l&#46;&#99;o"><span data-ep-b="&#103;&#64;&#97;&#111;" data-e
 p-a="&#114;&#108;&#105;n"></span></span></span></span><script>RegularLabs.E
 mailProtector.unCloak("ep_38146943");</script></li><li>Téléphone : 03 89 82
  78 08</li><li>Télécopie : 03 89 82 78 08</li></ul><div class="gski-eveneme
 nt-infos-2"><div class="gski-evenement-info-inscriptions"><div class="gski-
 evenement-inscriptions-periodes">Période d'inscription à l'evènement du lun
 di 13 février 2017 à 10:00 au jeudi 16 février 2017 à 21:00 <span class="gs
 ki-evenement-inscriptions-impossibles">(Inscriptions impossibles).</span><d
 iv class="gski-evenement-inscriptions-types-titres">Le type de titres Fédér
 aux autorisé n'est pas défini. Veuillez contacter l'organisateur et lui sig
 naler le problème.</div></div></div><div class="gski-evenement-epreuves"><d
 iv class="gski-evenement-epreuves-titres">Epreuves :</div><ul class="gski-e
 venement-epreuves-list"><li><div class="gski-epreuve-date">Le samedi 18 fév
 rier 2017</div><ul class="gski-epreuve-liste-infos"><li>Codex épreuve AMVM0
 471</li><li>Slalom Geant</li></ul></li><li><div class="gski-epreuve-date">L
 e samedi 18 février 2017</div><ul class="gski-epreuve-liste-infos"><li>Code
 x épreuve AMVF0471</li><li>Slalom Geant</li></ul></li><li><div class="gski-
 epreuve-date">Le samedi 18 février 2017</div><ul class="gski-epreuve-liste-
 infos"><li>Codex épreuve AMVM0472</li><li>Slalom Geant</li></ul></li><li><d
 iv class="gski-epreuve-date">Le samedi 18 février 2017</div><ul class="gski
 -epreuve-liste-infos"><li>Codex épreuve AMVF0472</li><li>Slalom Geant</li><
 /ul></li><li><div class="gski-epreuve-date">Le samedi 18 février 2017</div>
 <ul class="gski-epreuve-liste-infos"><li>Codex épreuve AMVF0473</li><li>Sla
 lom Geant</li><li>Catégorie(s) : U8 (Filles)</li></ul></li><li><div class="
 gski-epreuve-date">Le samedi 18 février 2017</div><ul class="gski-epreuve-l
 iste-infos"><li>Codex épreuve AMVM0473</li><li>Slalom Geant</li><li>Catégor
 ie(s) : U8 (Garçons)</li></ul></li><li><div class="gski-epreuve-date">Le sa
 medi 18 février 2017</div><ul class="gski-epreuve-liste-infos"><li>Codex ép
 reuve AMVM0474</li><li>Slalom Geant</li><li>Catégorie(s) : U10 a U16 (Garço
 ns)</li></ul></li><li><div class="gski-epreuve-date">Le samedi 18 février 2
 017</div><ul class="gski-epreuve-liste-infos"><li>Codex épreuve AMVF0474</l
 i><li>Slalom Geant</li><li>Catégorie(s) : U10 a U16 (Filles)</li></ul></li>
 </ul></div><div class="gskiepreuves-links"><ul><li><a href="https://skivosg
 es.net/index.php?option=com_jevents&task=icalevent.detail&evid=717&Itemid=6
 289">Voir les informations dans l'agenda...</a></li></ul></div></div"><!-- 
 #/gskiepreuve fin du dode généré par le plugin jevents pour GskiEpreuves. .
  Ne pas modifier cette ligne, ni tout le contenu précedant.  #/gskiepreuve 
 --> <a href="https://skivosges.net/agenda/a-venir/detailevenement/722/-/pro
 mo-course-des-familles-et-open-reporte?tmpl=component">Cet évènement a été 
 importé depuis :https://skivosges.net/agenda/a-venir/detailevenement/722/-/
 promo-course-des-familles-et-open-reporte?tmpl=component</a>DTSTAMP:20260424T083702
DTSTART;TZID=Europe/Paris;VALUE=DATE:20170218
DTEND;TZID=Europe/Paris;VALUE=DATE:20170219
SEQUENCE:0
TRANSP:OPAQUE
END:VEVENT
END:VCALENDAR