BEGIN:VCALENDAR
VERSION:2.0
PRODID:-//jEvents 2.0 for Joomla//EN
CALSCALE:GREGORIAN
METHOD:PUBLISH
BEGIN:VTIMEZONE
TZID:Europe/Paris
BEGIN:STANDARD
DTSTART:20160218T000000
RDATE:20160327T030000
TZOFFSETFROM:+0200
TZOFFSETTO:+0100
TZNAME:Europe/Paris CET
END:STANDARD
BEGIN:STANDARD
DTSTART:20161030T020000
RDATE:20170326T030000
TZOFFSETFROM:+0200
TZOFFSETTO:+0100
TZNAME:Europe/Paris CET
END:STANDARD
BEGIN:STANDARD
DTSTART:20171029T020000
RDATE:20180325T030000
TZOFFSETFROM:+0200
TZOFFSETTO:+0100
TZNAME:Europe/Paris CET
END:STANDARD
BEGIN:STANDARD
DTSTART:20181028T020000
RDATE:20190331T030000
TZOFFSETFROM:+0200
TZOFFSETTO:+0100
TZNAME:Europe/Paris CET
END:STANDARD
BEGIN:STANDARD
DTSTART:20191027T020000
RDATE:20200329T030000
TZOFFSETFROM:+0200
TZOFFSETTO:+0100
TZNAME:Europe/Paris CET
END:STANDARD
BEGIN:STANDARD
DTSTART:20201025T020000
RDATE:20210328T030000
TZOFFSETFROM:+0200
TZOFFSETTO:+0100
TZNAME:Europe/Paris CET
END:STANDARD
BEGIN:STANDARD
DTSTART:20211031T020000
RDATE:20220327T030000
TZOFFSETFROM:+0200
TZOFFSETTO:+0100
TZNAME:Europe/Paris CET
END:STANDARD
BEGIN:STANDARD
DTSTART:20221030T020000
RDATE:20230326T030000
TZOFFSETFROM:+0200
TZOFFSETTO:+0100
TZNAME:Europe/Paris CET
END:STANDARD
BEGIN:STANDARD
DTSTART:20231029T020000
RDATE:20240331T030000
TZOFFSETFROM:+0200
TZOFFSETTO:+0100
TZNAME:Europe/Paris CET
END:STANDARD
BEGIN:STANDARD
DTSTART:20241027T020000
RDATE:20250330T030000
TZOFFSETFROM:+0200
TZOFFSETTO:+0100
TZNAME:Europe/Paris CET
END:STANDARD
BEGIN:STANDARD
DTSTART:20251026T020000
RDATE:20260329T030000
TZOFFSETFROM:+0200
TZOFFSETTO:+0100
TZNAME:Europe/Paris CET
END:STANDARD
BEGIN:STANDARD
DTSTART:20261025T020000
RDATE:20270328T030000
TZOFFSETFROM:+0200
TZOFFSETTO:+0100
TZNAME:Europe/Paris CET
END:STANDARD
BEGIN:DAYLIGHT
DTSTART:20160327T030000
RDATE:20161030T020000
TZOFFSETFROM:+0100
TZOFFSETTO:+0200
TZNAME:Europe/Paris CEST
END:DAYLIGHT
BEGIN:DAYLIGHT
DTSTART:20170326T030000
RDATE:20171029T020000
TZOFFSETFROM:+0100
TZOFFSETTO:+0200
TZNAME:Europe/Paris CEST
END:DAYLIGHT
BEGIN:DAYLIGHT
DTSTART:20180325T030000
RDATE:20181028T020000
TZOFFSETFROM:+0100
TZOFFSETTO:+0200
TZNAME:Europe/Paris CEST
END:DAYLIGHT
BEGIN:DAYLIGHT
DTSTART:20190331T030000
RDATE:20191027T020000
TZOFFSETFROM:+0100
TZOFFSETTO:+0200
TZNAME:Europe/Paris CEST
END:DAYLIGHT
BEGIN:DAYLIGHT
DTSTART:20200329T030000
RDATE:20201025T020000
TZOFFSETFROM:+0100
TZOFFSETTO:+0200
TZNAME:Europe/Paris CEST
END:DAYLIGHT
BEGIN:DAYLIGHT
DTSTART:20210328T030000
RDATE:20211031T020000
TZOFFSETFROM:+0100
TZOFFSETTO:+0200
TZNAME:Europe/Paris CEST
END:DAYLIGHT
BEGIN:DAYLIGHT
DTSTART:20220327T030000
RDATE:20221030T020000
TZOFFSETFROM:+0100
TZOFFSETTO:+0200
TZNAME:Europe/Paris CEST
END:DAYLIGHT
BEGIN:DAYLIGHT
DTSTART:20230326T030000
RDATE:20231029T020000
TZOFFSETFROM:+0100
TZOFFSETTO:+0200
TZNAME:Europe/Paris CEST
END:DAYLIGHT
BEGIN:DAYLIGHT
DTSTART:20240331T030000
RDATE:20241027T020000
TZOFFSETFROM:+0100
TZOFFSETTO:+0200
TZNAME:Europe/Paris CEST
END:DAYLIGHT
BEGIN:DAYLIGHT
DTSTART:20250330T030000
RDATE:20251026T020000
TZOFFSETFROM:+0100
TZOFFSETTO:+0200
TZNAME:Europe/Paris CEST
END:DAYLIGHT
BEGIN:DAYLIGHT
DTSTART:20260329T030000
RDATE:20261025T020000
TZOFFSETFROM:+0100
TZOFFSETTO:+0200
TZNAME:Europe/Paris CEST
END:DAYLIGHT
END:VTIMEZONE
BEGIN:VEVENT
UID:f2d2b14207b7157747217c3e453cc80a
CATEGORIES:Opens et Promos (alpin)
CREATED:20161202T134851
SUMMARY:OPEN Jeunes VOLA CUP
URL;VALUE=URI:https://skivosges.net/agenda/a-venir/detailevenement/723/-/open-jeunes-vola
 -cup?tmpl=component
DESCRIPTION:OPEN Jeunes VOLA CUP\n - Codex évenement AMVT0480\n - Lieu : MARKSTEIN\n - 
 Station : MARKSTEIN\n - Organisateur : 14356 S.C.O.S.E.G. GUEBWILLER\n - Co
 urriel : RegularLabs.EmailProtector.unCloak("ep_7bdf97e6");\n - Téléphone :
  06 81 99 73 62Période d'inscription à l'evènement du samedi 11 février 201
 7 à 01:00 au vendredi 17 février 2017 à 13:00 (Inscriptions impossibles).Le
  type de titres Fédéraux autorisé n'est pas défini. Veuillez contacter l'or
 ganisateur et lui signaler le problème.Epreuves :\n - Le samedi 18 février 
 2017\n - Codex épreuve AMVM0481\n - Slalom Geant\n - Le samedi 18 février 2
 017\n - Codex épreuve AMVF0481\n - Slalom Geant\n - Le samedi 18 février 20
 17\n - Codex épreuve AMVM0482\n - Slalom Geant\n - Le samedi 18 février 201
 7\n - Codex épreuve AMVF0482\n - Slalom Geant\n - Voir les informations dan
 s l'agenda... (/index.php?option=com_jevents&amp;task=icalevent.detail&amp;
 evid=718&amp;Itemid=6289)\n - Vers les résultats... (/index.php?option=com_
 gskiepreuves&amp;view=afficheresultats&amp;format_option=tous&amp;filter[se
 arch]=AMVT0480&amp;filter[date_debut]=18-02-2017&amp;filter[date_fin]=18-02
 -2017&amp;code_activite=ALP&amp;Itemid=6289) Cet évènement a été importé de
 puis :https://skivosges.net/agenda/a-venir/detailevenement/723/-/open-jeune
 s-vola-cup?tmpl=component (https://skivosges.net/agenda/a-venir/detailevene
 ment/723/-/open-jeunes-vola-cup?tmpl=component)
X-ALT-DESC;FMTTYPE=text/html:<!-- #gskiepreuve code généré par le plugin jevents pour GskiEpreuves. Ne p
 as modifier cette ligne, ni tout le contenu suivant  #gskiepreuve --><div c
 lass="gski-evenement_infos"><div class="gski-evenement-nom">OPEN Jeunes VOL
 A CUP</div><div class="gski-evenement-report"></div><ul class="gski-eveneme
 nt-liste-infos"><li>Codex évenement AMVT0480</li><li>Lieu : MARKSTEIN</li><
 li>Station : MARKSTEIN</li><li>Organisateur : 14356 S.C.O.S.E.G. GUEBWILLER
 </li><li>Courriel : <!-- Cette adresse électronique est protégée contre les
  robots spammeurs. --><span class="cloaked_email ep_7bdf97e6"><span data-ep
 -a="&#103;&#101;&#110;&#103;" data-ep-b="fr"><span data-ep-a="&#46;c&#108;&
 #97;" data-ep-b="&#100;&#111;o."><span data-ep-b="&#119;ana" data-ep-a="&#1
 17;&#100;e&#64;"></span></span></span></span><script>RegularLabs.EmailProte
 ctor.unCloak("ep_7bdf97e6");</script></li><li>Téléphone : 06 81 99 73 62</l
 i></ul><div class="gski-evenement-infos-2"><div class="gski-evenement-info-
 inscriptions"><div class="gski-evenement-inscriptions-periodes">Période d'i
 nscription à l'evènement du samedi 11 février 2017 à 01:00 au vendredi 17 f
 évrier 2017 à 13:00 <span class="gski-evenement-inscriptions-impossibles">(
 Inscriptions impossibles).</span><div class="gski-evenement-inscriptions-ty
 pes-titres">Le type de titres Fédéraux autorisé n'est pas défini. Veuillez 
 contacter l'organisateur et lui signaler le problème.</div></div></div><div
  class="gski-evenement-epreuves"><div class="gski-evenement-epreuves-titres
 ">Epreuves :</div><ul class="gski-evenement-epreuves-list"><li><div class="
 gski-epreuve-date">Le samedi 18 février 2017</div><ul class="gski-epreuve-l
 iste-infos"><li>Codex épreuve AMVM0481</li><li>Slalom Geant</li></ul></li><
 li><div class="gski-epreuve-date">Le samedi 18 février 2017</div><ul class=
 "gski-epreuve-liste-infos"><li>Codex épreuve AMVF0481</li><li>Slalom Geant<
 /li></ul></li><li><div class="gski-epreuve-date">Le samedi 18 février 2017<
 /div><ul class="gski-epreuve-liste-infos"><li>Codex épreuve AMVM0482</li><l
 i>Slalom Geant</li></ul></li><li><div class="gski-epreuve-date">Le samedi 1
 8 février 2017</div><ul class="gski-epreuve-liste-infos"><li>Codex épreuve 
 AMVF0482</li><li>Slalom Geant</li></ul></li></ul></div><div class="gskiepre
 uves-links"><ul><li><a href="https://skivosges.net/index.php?option=com_jev
 ents&task=icalevent.detail&evid=718&Itemid=6289">Voir les informations dans
  l'agenda...</a></li><li><a href="https://skivosges.net/index.php?option=co
 m_gskiepreuves&view=afficheresultats&format_option=tous&filter[search]=AMVT
 0480&filter[date_debut]=18-02-2017&filter[date_fin]=18-02-2017&code_activit
 e=ALP&Itemid=6289">Vers les résultats...</a></li></ul></div></div"><!-- #/g
 skiepreuve fin du dode généré par le plugin jevents pour GskiEpreuves. . Ne
  pas modifier cette ligne, ni tout le contenu précedant.  #/gskiepreuve -->
  <a href="https://skivosges.net/agenda/a-venir/detailevenement/723/-/open-j
 eunes-vola-cup?tmpl=component">Cet évènement a été importé depuis :https://
 skivosges.net/agenda/a-venir/detailevenement/723/-/open-jeunes-vola-cup?tmp
 l=component</a>DTSTAMP:20260424T083659
DTSTART;TZID=Europe/Paris;VALUE=DATE:20170218
DTEND;TZID=Europe/Paris;VALUE=DATE:20170219
SEQUENCE:0
TRANSP:OPAQUE
END:VEVENT
END:VCALENDAR