BEGIN:VCALENDAR
VERSION:2.0
PRODID:-//jEvents 2.0 for Joomla//EN
CALSCALE:GREGORIAN
METHOD:PUBLISH
BEGIN:VTIMEZONE
TZID:Europe/Paris
BEGIN:STANDARD
DTSTART:20160219T000000
RDATE:20160327T030000
TZOFFSETFROM:+0200
TZOFFSETTO:+0100
TZNAME:Europe/Paris CET
END:STANDARD
BEGIN:STANDARD
DTSTART:20161030T020000
RDATE:20170326T030000
TZOFFSETFROM:+0200
TZOFFSETTO:+0100
TZNAME:Europe/Paris CET
END:STANDARD
BEGIN:STANDARD
DTSTART:20171029T020000
RDATE:20180325T030000
TZOFFSETFROM:+0200
TZOFFSETTO:+0100
TZNAME:Europe/Paris CET
END:STANDARD
BEGIN:STANDARD
DTSTART:20181028T020000
RDATE:20190331T030000
TZOFFSETFROM:+0200
TZOFFSETTO:+0100
TZNAME:Europe/Paris CET
END:STANDARD
BEGIN:STANDARD
DTSTART:20191027T020000
RDATE:20200329T030000
TZOFFSETFROM:+0200
TZOFFSETTO:+0100
TZNAME:Europe/Paris CET
END:STANDARD
BEGIN:STANDARD
DTSTART:20201025T020000
RDATE:20210328T030000
TZOFFSETFROM:+0200
TZOFFSETTO:+0100
TZNAME:Europe/Paris CET
END:STANDARD
BEGIN:STANDARD
DTSTART:20211031T020000
RDATE:20220327T030000
TZOFFSETFROM:+0200
TZOFFSETTO:+0100
TZNAME:Europe/Paris CET
END:STANDARD
BEGIN:STANDARD
DTSTART:20221030T020000
RDATE:20230326T030000
TZOFFSETFROM:+0200
TZOFFSETTO:+0100
TZNAME:Europe/Paris CET
END:STANDARD
BEGIN:STANDARD
DTSTART:20231029T020000
RDATE:20240331T030000
TZOFFSETFROM:+0200
TZOFFSETTO:+0100
TZNAME:Europe/Paris CET
END:STANDARD
BEGIN:STANDARD
DTSTART:20241027T020000
RDATE:20250330T030000
TZOFFSETFROM:+0200
TZOFFSETTO:+0100
TZNAME:Europe/Paris CET
END:STANDARD
BEGIN:STANDARD
DTSTART:20251026T020000
RDATE:20260329T030000
TZOFFSETFROM:+0200
TZOFFSETTO:+0100
TZNAME:Europe/Paris CET
END:STANDARD
BEGIN:STANDARD
DTSTART:20261025T020000
RDATE:20270328T030000
TZOFFSETFROM:+0200
TZOFFSETTO:+0100
TZNAME:Europe/Paris CET
END:STANDARD
BEGIN:DAYLIGHT
DTSTART:20160327T030000
RDATE:20161030T020000
TZOFFSETFROM:+0100
TZOFFSETTO:+0200
TZNAME:Europe/Paris CEST
END:DAYLIGHT
BEGIN:DAYLIGHT
DTSTART:20170326T030000
RDATE:20171029T020000
TZOFFSETFROM:+0100
TZOFFSETTO:+0200
TZNAME:Europe/Paris CEST
END:DAYLIGHT
BEGIN:DAYLIGHT
DTSTART:20180325T030000
RDATE:20181028T020000
TZOFFSETFROM:+0100
TZOFFSETTO:+0200
TZNAME:Europe/Paris CEST
END:DAYLIGHT
BEGIN:DAYLIGHT
DTSTART:20190331T030000
RDATE:20191027T020000
TZOFFSETFROM:+0100
TZOFFSETTO:+0200
TZNAME:Europe/Paris CEST
END:DAYLIGHT
BEGIN:DAYLIGHT
DTSTART:20200329T030000
RDATE:20201025T020000
TZOFFSETFROM:+0100
TZOFFSETTO:+0200
TZNAME:Europe/Paris CEST
END:DAYLIGHT
BEGIN:DAYLIGHT
DTSTART:20210328T030000
RDATE:20211031T020000
TZOFFSETFROM:+0100
TZOFFSETTO:+0200
TZNAME:Europe/Paris CEST
END:DAYLIGHT
BEGIN:DAYLIGHT
DTSTART:20220327T030000
RDATE:20221030T020000
TZOFFSETFROM:+0100
TZOFFSETTO:+0200
TZNAME:Europe/Paris CEST
END:DAYLIGHT
BEGIN:DAYLIGHT
DTSTART:20230326T030000
RDATE:20231029T020000
TZOFFSETFROM:+0100
TZOFFSETTO:+0200
TZNAME:Europe/Paris CEST
END:DAYLIGHT
BEGIN:DAYLIGHT
DTSTART:20240331T030000
RDATE:20241027T020000
TZOFFSETFROM:+0100
TZOFFSETTO:+0200
TZNAME:Europe/Paris CEST
END:DAYLIGHT
BEGIN:DAYLIGHT
DTSTART:20250330T030000
RDATE:20251026T020000
TZOFFSETFROM:+0100
TZOFFSETTO:+0200
TZNAME:Europe/Paris CEST
END:DAYLIGHT
BEGIN:DAYLIGHT
DTSTART:20260329T030000
RDATE:20261025T020000
TZOFFSETFROM:+0100
TZOFFSETTO:+0200
TZNAME:Europe/Paris CEST
END:DAYLIGHT
END:VTIMEZONE
BEGIN:VEVENT
UID:7985bc4be5c2ff7df8f77bebd62b5929
CATEGORIES:Circuit Lorraine Jeunes (alpin)
CREATED:20161202T134851
SUMMARY:CLJ Jeunes Prix du Rouge Gazon coupe de bronze et micro coup
URL;VALUE=URI:https://skivosges.net/agenda/a-venir/detailevenement/724/-/clj-jeunes-prix-
 du-rouge-gazon-coupe-de-bronze-et-micro-coup?tmpl=component
DESCRIPTION:CLJ Jeunes Prix du Rouge Gazon coupe de bronze et micro coup\n - Codex éven
 ement AMVT0490\n - Circuit : Coupe de Lorraine Jeunes\n - Lieu : ROUGE GAZO
 N\n - Station : ROUGE GAZON\n - Organisateur : 14063 SKIEURS DE ST MAURICE/
 MOSELLE\n - Courriel : RegularLabs.EmailProtector.unCloak("ep_12050d9b");\n
  - Autres informations : cette course a été faite le 12 fevrierPériode d'in
 scription à l'evènement du jeudi 09 février 2017 à 02:00 au vendredi 10 fév
 rier 2017 à 19:00 (Inscriptions impossibles).Le type de titres Fédéraux aut
 orisé n'est pas défini. Veuillez contacter l'organisateur et lui signaler l
 e problème.Epreuves :\n - Le dimanche 19 février 2017\n - Codex épreuve AMV
 M0491\n - Slalom Geant\n - Circuit : Coupe de Lorraine Jeunes\n - Le dimanc
 he 19 février 2017\n - Codex épreuve AMVF0491\n - Slalom Geant\n - Circuit 
 : Coupe de Lorraine Jeunes\n - Le dimanche 19 février 2017\n - Codex épreuv
 e AMVM0492\n - Slalom Geant\n - Circuit : Coupe de Lorraine Jeunes\n - Le d
 imanche 19 février 2017\n - Codex épreuve AMVF0492\n - Slalom Geant\n - Cir
 cuit : Coupe de Lorraine Jeunes\n - Voir les informations dans l'agenda... 
 (/index.php?option=com_jevents&amp;task=icalevent.detail&amp;evid=719&amp;I
 temid=6289)\n - Vers les résultats... (/index.php?option=com_gskiepreuves&a
 mp;view=afficheresultats&amp;format_option=tous&amp;filter[search]=AMVT0490
 &amp;filter[date_debut]=12-02-2017&amp;filter[date_fin]=12-02-2017&amp;code
 _activite=ALP&amp;Itemid=6289) Cet évènement a été importé depuis :https://
 skivosges.net/agenda/a-venir/detailevenement/724/-/clj-jeunes-prix-du-rouge
 -gazon-coupe-de-bronze-et-micro-coup?tmpl=component (https://skivosges.net/
 agenda/a-venir/detailevenement/724/-/clj-jeunes-prix-du-rouge-gazon-coupe-d
 e-bronze-et-micro-coup?tmpl=component)
X-ALT-DESC;FMTTYPE=text/html:<!-- #gskiepreuve code généré par le plugin jevents pour GskiEpreuves. Ne p
 as modifier cette ligne, ni tout le contenu suivant  #gskiepreuve --><div c
 lass="gski-evenement_infos"><div class="gski-evenement-nom">CLJ Jeunes Prix
  du Rouge Gazon coupe de bronze et micro coup</div><div class="gski-eveneme
 nt-report"></div><ul class="gski-evenement-liste-infos"><li>Codex évenement
  AMVT0490</li><li>Circuit : Coupe de Lorraine Jeunes</li><li>Lieu : ROUGE G
 AZON</li><li>Station : ROUGE GAZON</li><li>Organisateur : 14063 SKIEURS DE 
 ST MAURICE/MOSELLE</li><li>Courriel : <!-- Cette adresse électronique est p
 rotégée contre les robots spammeurs. --><span class="cloaked_email ep_12050
 d9b"><span data-ep-b="" data-ep-a="dan&#105;&#101;"><span data-ep-a="&#108;
 .&#109;&#111;&#114;" data-ep-b="&#111;o.f&#114;"><span data-ep-b="&#119;&#9
 7;nad" data-ep-a="&#101;&#108;25&#64;"></span></span></span></span><script>
 RegularLabs.EmailProtector.unCloak("ep_12050d9b");</script></li><li><span c
 lass="gski-evenement-obs">Autres informations : cette course a &eacute;t&ea
 cute; faite le 12 fevrier</span></li></ul><div class="gski-evenement-infos-
 2"><div class="gski-evenement-info-inscriptions"><div class="gski-evenement
 -inscriptions-periodes">Période d'inscription à l'evènement du jeudi 09 fév
 rier 2017 à 02:00 au vendredi 10 février 2017 à 19:00 <span class="gski-eve
 nement-inscriptions-impossibles">(Inscriptions impossibles).</span><div cla
 ss="gski-evenement-inscriptions-types-titres">Le type de titres Fédéraux au
 torisé n'est pas défini. Veuillez contacter l'organisateur et lui signaler 
 le problème.</div></div></div><div class="gski-evenement-epreuves"><div cla
 ss="gski-evenement-epreuves-titres">Epreuves :</div><ul class="gski-eveneme
 nt-epreuves-list"><li><div class="gski-epreuve-date">Le dimanche 19 février
  2017</div><ul class="gski-epreuve-liste-infos"><li>Codex épreuve AMVM0491<
 /li><li>Slalom Geant</li><li>Circuit : Coupe de Lorraine Jeunes</li></ul></
 li><li><div class="gski-epreuve-date">Le dimanche 19 février 2017</div><ul 
 class="gski-epreuve-liste-infos"><li>Codex épreuve AMVF0491</li><li>Slalom 
 Geant</li><li>Circuit : Coupe de Lorraine Jeunes</li></ul></li><li><div cla
 ss="gski-epreuve-date">Le dimanche 19 février 2017</div><ul class="gski-epr
 euve-liste-infos"><li>Codex épreuve AMVM0492</li><li>Slalom Geant</li><li>C
 ircuit : Coupe de Lorraine Jeunes</li></ul></li><li><div class="gski-epreuv
 e-date">Le dimanche 19 février 2017</div><ul class="gski-epreuve-liste-info
 s"><li>Codex épreuve AMVF0492</li><li>Slalom Geant</li><li>Circuit : Coupe 
 de Lorraine Jeunes</li></ul></li></ul></div><div class="gskiepreuves-links"
 ><ul><li><a href="https://skivosges.net/index.php?option=com_jevents&task=i
 calevent.detail&evid=719&Itemid=6289">Voir les informations dans l'agenda..
 .</a></li><li><a href="https://skivosges.net/index.php?option=com_gskiepreu
 ves&view=afficheresultats&format_option=tous&filter[search]=AMVT0490&filter
 [date_debut]=12-02-2017&filter[date_fin]=12-02-2017&code_activite=ALP&Itemi
 d=6289">Vers les résultats...</a></li></ul></div></div"><!-- #/gskiepreuve 
 fin du dode généré par le plugin jevents pour GskiEpreuves. . Ne pas modifi
 er cette ligne, ni tout le contenu précedant.  #/gskiepreuve --> <a href="h
 ttps://skivosges.net/agenda/a-venir/detailevenement/724/-/clj-jeunes-prix-d
 u-rouge-gazon-coupe-de-bronze-et-micro-coup?tmpl=component">Cet évènement a
  été importé depuis :https://skivosges.net/agenda/a-venir/detailevenement/7
 24/-/clj-jeunes-prix-du-rouge-gazon-coupe-de-bronze-et-micro-coup?tmpl=comp
 onent</a>DTSTAMP:20260424T083704
DTSTART;TZID=Europe/Paris;VALUE=DATE:20170219
DTEND;TZID=Europe/Paris;VALUE=DATE:20170220
SEQUENCE:0
TRANSP:OPAQUE
END:VEVENT
END:VCALENDAR