BEGIN:VCALENDAR
VERSION:2.0
PRODID:-//jEvents 2.0 for Joomla//EN
CALSCALE:GREGORIAN
METHOD:PUBLISH
BEGIN:VTIMEZONE
TZID:Europe/Paris
BEGIN:STANDARD
DTSTART:20160219T000000
RDATE:20160327T030000
TZOFFSETFROM:+0200
TZOFFSETTO:+0100
TZNAME:Europe/Paris CET
END:STANDARD
BEGIN:STANDARD
DTSTART:20161030T020000
RDATE:20170326T030000
TZOFFSETFROM:+0200
TZOFFSETTO:+0100
TZNAME:Europe/Paris CET
END:STANDARD
BEGIN:STANDARD
DTSTART:20171029T020000
RDATE:20180325T030000
TZOFFSETFROM:+0200
TZOFFSETTO:+0100
TZNAME:Europe/Paris CET
END:STANDARD
BEGIN:STANDARD
DTSTART:20181028T020000
RDATE:20190331T030000
TZOFFSETFROM:+0200
TZOFFSETTO:+0100
TZNAME:Europe/Paris CET
END:STANDARD
BEGIN:STANDARD
DTSTART:20191027T020000
RDATE:20200329T030000
TZOFFSETFROM:+0200
TZOFFSETTO:+0100
TZNAME:Europe/Paris CET
END:STANDARD
BEGIN:STANDARD
DTSTART:20201025T020000
RDATE:20210328T030000
TZOFFSETFROM:+0200
TZOFFSETTO:+0100
TZNAME:Europe/Paris CET
END:STANDARD
BEGIN:STANDARD
DTSTART:20211031T020000
RDATE:20220327T030000
TZOFFSETFROM:+0200
TZOFFSETTO:+0100
TZNAME:Europe/Paris CET
END:STANDARD
BEGIN:STANDARD
DTSTART:20221030T020000
RDATE:20230326T030000
TZOFFSETFROM:+0200
TZOFFSETTO:+0100
TZNAME:Europe/Paris CET
END:STANDARD
BEGIN:STANDARD
DTSTART:20231029T020000
RDATE:20240331T030000
TZOFFSETFROM:+0200
TZOFFSETTO:+0100
TZNAME:Europe/Paris CET
END:STANDARD
BEGIN:STANDARD
DTSTART:20241027T020000
RDATE:20250330T030000
TZOFFSETFROM:+0200
TZOFFSETTO:+0100
TZNAME:Europe/Paris CET
END:STANDARD
BEGIN:STANDARD
DTSTART:20251026T020000
RDATE:20260329T030000
TZOFFSETFROM:+0200
TZOFFSETTO:+0100
TZNAME:Europe/Paris CET
END:STANDARD
BEGIN:STANDARD
DTSTART:20261025T020000
RDATE:20270328T030000
TZOFFSETFROM:+0200
TZOFFSETTO:+0100
TZNAME:Europe/Paris CET
END:STANDARD
BEGIN:DAYLIGHT
DTSTART:20160327T030000
RDATE:20161030T020000
TZOFFSETFROM:+0100
TZOFFSETTO:+0200
TZNAME:Europe/Paris CEST
END:DAYLIGHT
BEGIN:DAYLIGHT
DTSTART:20170326T030000
RDATE:20171029T020000
TZOFFSETFROM:+0100
TZOFFSETTO:+0200
TZNAME:Europe/Paris CEST
END:DAYLIGHT
BEGIN:DAYLIGHT
DTSTART:20180325T030000
RDATE:20181028T020000
TZOFFSETFROM:+0100
TZOFFSETTO:+0200
TZNAME:Europe/Paris CEST
END:DAYLIGHT
BEGIN:DAYLIGHT
DTSTART:20190331T030000
RDATE:20191027T020000
TZOFFSETFROM:+0100
TZOFFSETTO:+0200
TZNAME:Europe/Paris CEST
END:DAYLIGHT
BEGIN:DAYLIGHT
DTSTART:20200329T030000
RDATE:20201025T020000
TZOFFSETFROM:+0100
TZOFFSETTO:+0200
TZNAME:Europe/Paris CEST
END:DAYLIGHT
BEGIN:DAYLIGHT
DTSTART:20210328T030000
RDATE:20211031T020000
TZOFFSETFROM:+0100
TZOFFSETTO:+0200
TZNAME:Europe/Paris CEST
END:DAYLIGHT
BEGIN:DAYLIGHT
DTSTART:20220327T030000
RDATE:20221030T020000
TZOFFSETFROM:+0100
TZOFFSETTO:+0200
TZNAME:Europe/Paris CEST
END:DAYLIGHT
BEGIN:DAYLIGHT
DTSTART:20230326T030000
RDATE:20231029T020000
TZOFFSETFROM:+0100
TZOFFSETTO:+0200
TZNAME:Europe/Paris CEST
END:DAYLIGHT
BEGIN:DAYLIGHT
DTSTART:20240331T030000
RDATE:20241027T020000
TZOFFSETFROM:+0100
TZOFFSETTO:+0200
TZNAME:Europe/Paris CEST
END:DAYLIGHT
BEGIN:DAYLIGHT
DTSTART:20250330T030000
RDATE:20251026T020000
TZOFFSETFROM:+0100
TZOFFSETTO:+0200
TZNAME:Europe/Paris CEST
END:DAYLIGHT
BEGIN:DAYLIGHT
DTSTART:20260329T030000
RDATE:20261025T020000
TZOFFSETFROM:+0100
TZOFFSETTO:+0200
TZNAME:Europe/Paris CEST
END:DAYLIGHT
END:VTIMEZONE
BEGIN:VEVENT
UID:346d820270fb996f49217167ff92be70
CATEGORIES:Compétition Ski de Fond
CREATED:20161202T134851
SUMMARY:Coupe Bleu Forêt Chall M. DIDIERLAURENT BigMat Atomic n°5
URL;VALUE=URI:https://skivosges.net/agenda/a-venir/detailevenement/725/-/coupe-bleu-foret
 -chall-m-didierlaurent-bigmat-atomic-n-5?tmpl=component
DESCRIPTION:Coupe Bleu Forêt Chall M. DIDIERLAURENT BigMat Atomic n°5\n - Codex éveneme
 nt FMVT0160\n - Lieu : hautes vannes (croix claudé)\n - COM_GSKIEPREUVES_EP
 REUVE_PISTEcroix claudé\n - Organisateur : 14329 CLUB VOSGIEN VAGNEY ROCHES
 SON\n - Téléphone : 0608347483\n - Autres informations : Départ prologue 1.
 3 km à 9h (toutes les 20s)&lt;br&gt;départs poursuite 5km (U14 et U16F) 10h
 15,&lt;br&gt;U16H et U18 à sen F 10h30,&lt;br&gt;U18 à senH 11h&lt;br&gt;Zo
 ne alternatif imposé (prologue et poursuite)Période d'inscription à l'evène
 ment du dimanche 12 février 2017 à 01:00 au vendredi 17 février 2017 à 19:3
 0 (Inscriptions impossibles).Le type de titres Fédéraux autorisé n'est pas 
 défini. Veuillez contacter l'organisateur et lui signaler le problème.Epreu
 ves :\n - Le dimanche 19 février 2017\n - Codex épreuve FMVF0161\n - Poursu
 ite 2 Jours\n - Le dimanche 19 février 2017\n - Codex épreuve FMVM0161\n - 
 Poursuite 2 Jours\n - Voir les informations dans l'agenda... (/index.php?op
 tion=com_jevents&amp;task=icalevent.detail&amp;evid=720&amp;Itemid=6289)\n 
 - Vers les résultats... (/index.php?option=com_gskiepreuves&amp;view=affich
 eresultats&amp;format_option=tous&amp;filter[search]=FMVT0160&amp;filter[da
 te_debut]=19-02-2017&amp;filter[date_fin]=19-02-2017&amp;code_activite=FOND
 &amp;Itemid=6289) Cet évènement a été importé depuis :https://skivosges.net
 /agenda/a-venir/detailevenement/725/-/coupe-bleu-foret-chall-m-didierlauren
 t-bigmat-atomic-n-5?tmpl=component (https://skivosges.net/agenda/a-venir/de
 tailevenement/725/-/coupe-bleu-foret-chall-m-didierlaurent-bigmat-atomic-n-
 5?tmpl=component)
X-ALT-DESC;FMTTYPE=text/html:<!-- #gskiepreuve code généré par le plugin jevents pour GskiEpreuves. Ne p
 as modifier cette ligne, ni tout le contenu suivant  #gskiepreuve --><div c
 lass="gski-evenement_infos"><div class="gski-evenement-nom">Coupe Bleu Forê
 t Chall M. DIDIERLAURENT BigMat Atomic n°5</div><div class="gski-evenement-
 report"></div><ul class="gski-evenement-liste-infos"><li>Codex évenement FM
 VT0160</li><li>Lieu : hautes vannes (croix claud&eacute;)</li><li>COM_GSKIE
 PREUVES_EPREUVE_PISTEcroix claud&eacute;</li><li>Organisateur : 14329 CLUB 
 VOSGIEN VAGNEY ROCHESSON</li><li>Téléphone : 0608347483</li><li><span class
 ="gski-evenement-obs">Autres informations : D&eacute;part prologue 1.3 km &
 agrave; 9h (toutes les 20s)&lt;br&gt;d&eacute;parts poursuite 5km (U14 et U
 16F) 10h15,&lt;br&gt;U16H et U18 &agrave; sen F 10h30,&lt;br&gt;U18 &agrave
 ; senH 11h&lt;br&gt;Zone alternatif impos&eacute; (prologue et poursuite)</
 span></li></ul><div class="gski-evenement-infos-2"><div class="gski-eveneme
 nt-info-inscriptions"><div class="gski-evenement-inscriptions-periodes">Pér
 iode d'inscription à l'evènement du dimanche 12 février 2017 à 01:00 au ven
 dredi 17 février 2017 à 19:30 <span class="gski-evenement-inscriptions-impo
 ssibles">(Inscriptions impossibles).</span><div class="gski-evenement-inscr
 iptions-types-titres">Le type de titres Fédéraux autorisé n'est pas défini.
  Veuillez contacter l'organisateur et lui signaler le problème.</div></div>
 </div><div class="gski-evenement-epreuves"><div class="gski-evenement-epreu
 ves-titres">Epreuves :</div><ul class="gski-evenement-epreuves-list"><li><d
 iv class="gski-epreuve-date">Le dimanche 19 février 2017</div><ul class="gs
 ki-epreuve-liste-infos"><li>Codex épreuve FMVF0161</li><li>Poursuite 2 Jour
 s</li></ul></li><li><div class="gski-epreuve-date">Le dimanche 19 février 2
 017</div><ul class="gski-epreuve-liste-infos"><li>Codex épreuve FMVM0161</l
 i><li>Poursuite 2 Jours</li></ul></li></ul></div><div class="gskiepreuves-l
 inks"><ul><li><a href="https://skivosges.net/index.php?option=com_jevents&t
 ask=icalevent.detail&evid=720&Itemid=6289">Voir les informations dans l'age
 nda...</a></li><li><a href="https://skivosges.net/index.php?option=com_gski
 epreuves&view=afficheresultats&format_option=tous&filter[search]=FMVT0160&f
 ilter[date_debut]=19-02-2017&filter[date_fin]=19-02-2017&code_activite=FOND
 &Itemid=6289">Vers les résultats...</a></li></ul></div></div"><!-- #/gskiep
 reuve fin du dode généré par le plugin jevents pour GskiEpreuves. . Ne pas 
 modifier cette ligne, ni tout le contenu précedant.  #/gskiepreuve --> <a h
 ref="https://skivosges.net/agenda/a-venir/detailevenement/725/-/coupe-bleu-
 foret-chall-m-didierlaurent-bigmat-atomic-n-5?tmpl=component">Cet évènement
  a été importé depuis :https://skivosges.net/agenda/a-venir/detailevenement
 /725/-/coupe-bleu-foret-chall-m-didierlaurent-bigmat-atomic-n-5?tmpl=compon
 ent</a>DTSTAMP:20260424T083651
DTSTART;TZID=Europe/Paris;VALUE=DATE:20170219
DTEND;TZID=Europe/Paris;VALUE=DATE:20170220
SEQUENCE:0
TRANSP:OPAQUE
END:VEVENT
END:VCALENDAR