BEGIN:VCALENDAR
VERSION:2.0
PRODID:-//jEvents 2.0 for Joomla//EN
CALSCALE:GREGORIAN
METHOD:PUBLISH
BEGIN:VTIMEZONE
TZID:Europe/Paris
BEGIN:STANDARD
DTSTART:20130104T080000
RDATE:20130331T030000
TZOFFSETFROM:+0200
TZOFFSETTO:+0100
TZNAME:Europe/Paris CET
END:STANDARD
BEGIN:STANDARD
DTSTART:20131027T020000
RDATE:20140330T030000
TZOFFSETFROM:+0200
TZOFFSETTO:+0100
TZNAME:Europe/Paris CET
END:STANDARD
BEGIN:STANDARD
DTSTART:20141026T020000
RDATE:20150329T030000
TZOFFSETFROM:+0200
TZOFFSETTO:+0100
TZNAME:Europe/Paris CET
END:STANDARD
BEGIN:STANDARD
DTSTART:20151025T020000
RDATE:20160327T030000
TZOFFSETFROM:+0200
TZOFFSETTO:+0100
TZNAME:Europe/Paris CET
END:STANDARD
BEGIN:STANDARD
DTSTART:20161030T020000
RDATE:20170326T030000
TZOFFSETFROM:+0200
TZOFFSETTO:+0100
TZNAME:Europe/Paris CET
END:STANDARD
BEGIN:STANDARD
DTSTART:20171029T020000
RDATE:20180325T030000
TZOFFSETFROM:+0200
TZOFFSETTO:+0100
TZNAME:Europe/Paris CET
END:STANDARD
BEGIN:STANDARD
DTSTART:20181028T020000
RDATE:20190331T030000
TZOFFSETFROM:+0200
TZOFFSETTO:+0100
TZNAME:Europe/Paris CET
END:STANDARD
BEGIN:STANDARD
DTSTART:20191027T020000
RDATE:20200329T030000
TZOFFSETFROM:+0200
TZOFFSETTO:+0100
TZNAME:Europe/Paris CET
END:STANDARD
BEGIN:STANDARD
DTSTART:20201025T020000
RDATE:20210328T030000
TZOFFSETFROM:+0200
TZOFFSETTO:+0100
TZNAME:Europe/Paris CET
END:STANDARD
BEGIN:STANDARD
DTSTART:20211031T020000
RDATE:20220327T030000
TZOFFSETFROM:+0200
TZOFFSETTO:+0100
TZNAME:Europe/Paris CET
END:STANDARD
BEGIN:STANDARD
DTSTART:20221030T020000
RDATE:20230326T030000
TZOFFSETFROM:+0200
TZOFFSETTO:+0100
TZNAME:Europe/Paris CET
END:STANDARD
BEGIN:STANDARD
DTSTART:20231029T020000
RDATE:20240331T030000
TZOFFSETFROM:+0200
TZOFFSETTO:+0100
TZNAME:Europe/Paris CET
END:STANDARD
BEGIN:STANDARD
DTSTART:20241027T020000
RDATE:20250330T030000
TZOFFSETFROM:+0200
TZOFFSETTO:+0100
TZNAME:Europe/Paris CET
END:STANDARD
BEGIN:STANDARD
DTSTART:20251026T020000
RDATE:20260329T030000
TZOFFSETFROM:+0200
TZOFFSETTO:+0100
TZNAME:Europe/Paris CET
END:STANDARD
BEGIN:STANDARD
DTSTART:20261025T020000
RDATE:20270328T030000
TZOFFSETFROM:+0200
TZOFFSETTO:+0100
TZNAME:Europe/Paris CET
END:STANDARD
BEGIN:DAYLIGHT
DTSTART:20130331T030000
RDATE:20131027T020000
TZOFFSETFROM:+0100
TZOFFSETTO:+0200
TZNAME:Europe/Paris CEST
END:DAYLIGHT
BEGIN:DAYLIGHT
DTSTART:20140330T030000
RDATE:20141026T020000
TZOFFSETFROM:+0100
TZOFFSETTO:+0200
TZNAME:Europe/Paris CEST
END:DAYLIGHT
BEGIN:DAYLIGHT
DTSTART:20150329T030000
RDATE:20151025T020000
TZOFFSETFROM:+0100
TZOFFSETTO:+0200
TZNAME:Europe/Paris CEST
END:DAYLIGHT
BEGIN:DAYLIGHT
DTSTART:20160327T030000
RDATE:20161030T020000
TZOFFSETFROM:+0100
TZOFFSETTO:+0200
TZNAME:Europe/Paris CEST
END:DAYLIGHT
BEGIN:DAYLIGHT
DTSTART:20170326T030000
RDATE:20171029T020000
TZOFFSETFROM:+0100
TZOFFSETTO:+0200
TZNAME:Europe/Paris CEST
END:DAYLIGHT
BEGIN:DAYLIGHT
DTSTART:20180325T030000
RDATE:20181028T020000
TZOFFSETFROM:+0100
TZOFFSETTO:+0200
TZNAME:Europe/Paris CEST
END:DAYLIGHT
BEGIN:DAYLIGHT
DTSTART:20190331T030000
RDATE:20191027T020000
TZOFFSETFROM:+0100
TZOFFSETTO:+0200
TZNAME:Europe/Paris CEST
END:DAYLIGHT
BEGIN:DAYLIGHT
DTSTART:20200329T030000
RDATE:20201025T020000
TZOFFSETFROM:+0100
TZOFFSETTO:+0200
TZNAME:Europe/Paris CEST
END:DAYLIGHT
BEGIN:DAYLIGHT
DTSTART:20210328T030000
RDATE:20211031T020000
TZOFFSETFROM:+0100
TZOFFSETTO:+0200
TZNAME:Europe/Paris CEST
END:DAYLIGHT
BEGIN:DAYLIGHT
DTSTART:20220327T030000
RDATE:20221030T020000
TZOFFSETFROM:+0100
TZOFFSETTO:+0200
TZNAME:Europe/Paris CEST
END:DAYLIGHT
BEGIN:DAYLIGHT
DTSTART:20230326T030000
RDATE:20231029T020000
TZOFFSETFROM:+0100
TZOFFSETTO:+0200
TZNAME:Europe/Paris CEST
END:DAYLIGHT
BEGIN:DAYLIGHT
DTSTART:20240331T030000
RDATE:20241027T020000
TZOFFSETFROM:+0100
TZOFFSETTO:+0200
TZNAME:Europe/Paris CEST
END:DAYLIGHT
BEGIN:DAYLIGHT
DTSTART:20250330T030000
RDATE:20251026T020000
TZOFFSETFROM:+0100
TZOFFSETTO:+0200
TZNAME:Europe/Paris CEST
END:DAYLIGHT
BEGIN:DAYLIGHT
DTSTART:20260329T030000
RDATE:20261025T020000
TZOFFSETFROM:+0100
TZOFFSETTO:+0200
TZNAME:Europe/Paris CEST
END:DAYLIGHT
END:VTIMEZONE
BEGIN:VEVENT
UID:9ef668a15cd7bbf4084e94151aef9541
CATEGORIES:Circuit Lorraine Jeunes (alpin)
CREATED:20131203T122100
SUMMARY:CLJ U10 a U14  Cp du Crédit Agricole-Mémorial Gilles Lemaire / Cpe de Bronze  **REPORTE**
URL;VALUE=URI:https://skivosges.net/agenda/a-venir/detailevenement/73/-/clj-u10-a-u14-cp-
 du-credit-agricole-memorial-gilles-lemaire-cpe-de-bronze-reporte?tmpl=compo
 nent
DESCRIPTION:<strong>CLJ U10 a U14  Cp du Crédit Agricole-Mémorial Gilles Lemaire / Cpe 
 de Bronze </strong> <font class="attention4">(Epreuve reportée)</font> <br 
 /><i>(Coupe de Lorraine Jeunes)</i><br /><br />Lieu : LA BRESSE <br />Piste
  : Stade de Slalom<br />Organisateur : LA BRESSAUDE SECTION SKI  <small>(14
 024 LA BRESSAUDE SECTION SKI)</small><br />Email : <!-- Cette adresse élect
 ronique est protégée contre les robots spammeurs. --><span class="cloaked_e
 mail ep_75214025"><span data-ep-b="&#114;" data-ep-a="ydo"><span data-ep-a=
 "di&#110;" data-ep-b="e&#46;&#102;"><span data-ep-b="&#97;&#110;g" data-ep-
 a="&#64;o&#114;"></span></span></span></span><script>RegularLabs.EmailProte
 ctor.unCloak("ep_75214025");</script><br /><br />Inscriptions en cours sur 
 ce site<ul type="disc"><li>AMVF0111  Slalom <nobr><i>(Coupe de Bronze)</i><
 /nobr> <nobr>U10</nobr> Filles<br />&nbsp;&nbsp;CLJ U10 a U14  Cp du Crédit
  Agricole-Mémorial Gilles Lemaire / Cpe de Bronze </li><li>AMVM0111  Slalom
  <nobr><i>(Coupe de Bronze)</i></nobr> <nobr>U10</nobr> Garçons<br />&nbsp;
 &nbsp;CLJ U10 a U14  Cp du Crédit Agricole-Mémorial Gilles Lemaire / Cpe de
  Bronze </li><li>AMVF0112  Slalom <nobr><i>(Coupe de Bronze)</i></nobr> <no
 br>U12</nobr> Filles<br />&nbsp;&nbsp;CLJ U10 a U14  Cp du Crédit Agricole-
 Mémorial Gilles Lemaire / Cpe de Bronze </li><li>AMVM0112  Slalom <nobr><i>
 (Coupe de Bronze)</i></nobr> <nobr>U12</nobr> Garçons<br />&nbsp;&nbsp;CLJ 
 U10 a U14  Cp du Crédit Agricole-Mémorial Gilles Lemaire / Cpe de Bronze </
 li><li>AMVF0113  Slalom <nobr><i>(Coupe de Bronze)</i></nobr> <nobr>U14</no
 br> Filles<br />&nbsp;&nbsp;CLJ U10 a U14  Cp du Crédit Agricole-Mémorial G
 illes Lemaire / Cpe de Bronze </li><li>AMVM0113  Slalom <nobr><i>(Coupe de 
 Bronze)</i></nobr> <nobr>U14</nobr> Garçons<br />&nbsp;&nbsp;CLJ U10 a U14 
  Cp du Crédit Agricole-Mémorial Gilles Lemaire / Cpe de Bronze </li></ul> <
 a href="https://skivosges.net/agenda/a-venir/detailevenement/73/-/clj-u10-a
 -u14-cp-du-credit-agricole-memorial-gilles-lemaire-cpe-de-bronze-reporte?tm
 pl=component">Cet évènement a été importé depuis :https://skivosges.net/age
 nda/a-venir/detailevenement/73/-/clj-u10-a-u14-cp-du-credit-agricole-memori
 al-gilles-lemaire-cpe-de-bronze-reporte?tmpl=component</a>DTSTAMP:20260424T074016
DTSTART;TZID=Europe/Paris:20140105T080000
DTEND;TZID=Europe/Paris:20140105T170000
SEQUENCE:0
TRANSP:OPAQUE
END:VEVENT
END:VCALENDAR