BEGIN:VCALENDAR
VERSION:2.0
PRODID:-//jEvents 2.0 for Joomla//EN
CALSCALE:GREGORIAN
METHOD:PUBLISH
BEGIN:VTIMEZONE
TZID:Europe/Paris
BEGIN:STANDARD
DTSTART:20160226T000000
RDATE:20160327T030000
TZOFFSETFROM:+0200
TZOFFSETTO:+0100
TZNAME:Europe/Paris CET
END:STANDARD
BEGIN:STANDARD
DTSTART:20161030T020000
RDATE:20170326T030000
TZOFFSETFROM:+0200
TZOFFSETTO:+0100
TZNAME:Europe/Paris CET
END:STANDARD
BEGIN:STANDARD
DTSTART:20171029T020000
RDATE:20180325T030000
TZOFFSETFROM:+0200
TZOFFSETTO:+0100
TZNAME:Europe/Paris CET
END:STANDARD
BEGIN:STANDARD
DTSTART:20181028T020000
RDATE:20190331T030000
TZOFFSETFROM:+0200
TZOFFSETTO:+0100
TZNAME:Europe/Paris CET
END:STANDARD
BEGIN:STANDARD
DTSTART:20191027T020000
RDATE:20200329T030000
TZOFFSETFROM:+0200
TZOFFSETTO:+0100
TZNAME:Europe/Paris CET
END:STANDARD
BEGIN:STANDARD
DTSTART:20201025T020000
RDATE:20210328T030000
TZOFFSETFROM:+0200
TZOFFSETTO:+0100
TZNAME:Europe/Paris CET
END:STANDARD
BEGIN:STANDARD
DTSTART:20211031T020000
RDATE:20220327T030000
TZOFFSETFROM:+0200
TZOFFSETTO:+0100
TZNAME:Europe/Paris CET
END:STANDARD
BEGIN:STANDARD
DTSTART:20221030T020000
RDATE:20230326T030000
TZOFFSETFROM:+0200
TZOFFSETTO:+0100
TZNAME:Europe/Paris CET
END:STANDARD
BEGIN:STANDARD
DTSTART:20231029T020000
RDATE:20240331T030000
TZOFFSETFROM:+0200
TZOFFSETTO:+0100
TZNAME:Europe/Paris CET
END:STANDARD
BEGIN:STANDARD
DTSTART:20241027T020000
RDATE:20250330T030000
TZOFFSETFROM:+0200
TZOFFSETTO:+0100
TZNAME:Europe/Paris CET
END:STANDARD
BEGIN:STANDARD
DTSTART:20251026T020000
RDATE:20260329T030000
TZOFFSETFROM:+0200
TZOFFSETTO:+0100
TZNAME:Europe/Paris CET
END:STANDARD
BEGIN:STANDARD
DTSTART:20261025T020000
RDATE:20270328T030000
TZOFFSETFROM:+0200
TZOFFSETTO:+0100
TZNAME:Europe/Paris CET
END:STANDARD
BEGIN:DAYLIGHT
DTSTART:20160327T030000
RDATE:20161030T020000
TZOFFSETFROM:+0100
TZOFFSETTO:+0200
TZNAME:Europe/Paris CEST
END:DAYLIGHT
BEGIN:DAYLIGHT
DTSTART:20170326T030000
RDATE:20171029T020000
TZOFFSETFROM:+0100
TZOFFSETTO:+0200
TZNAME:Europe/Paris CEST
END:DAYLIGHT
BEGIN:DAYLIGHT
DTSTART:20180325T030000
RDATE:20181028T020000
TZOFFSETFROM:+0100
TZOFFSETTO:+0200
TZNAME:Europe/Paris CEST
END:DAYLIGHT
BEGIN:DAYLIGHT
DTSTART:20190331T030000
RDATE:20191027T020000
TZOFFSETFROM:+0100
TZOFFSETTO:+0200
TZNAME:Europe/Paris CEST
END:DAYLIGHT
BEGIN:DAYLIGHT
DTSTART:20200329T030000
RDATE:20201025T020000
TZOFFSETFROM:+0100
TZOFFSETTO:+0200
TZNAME:Europe/Paris CEST
END:DAYLIGHT
BEGIN:DAYLIGHT
DTSTART:20210328T030000
RDATE:20211031T020000
TZOFFSETFROM:+0100
TZOFFSETTO:+0200
TZNAME:Europe/Paris CEST
END:DAYLIGHT
BEGIN:DAYLIGHT
DTSTART:20220327T030000
RDATE:20221030T020000
TZOFFSETFROM:+0100
TZOFFSETTO:+0200
TZNAME:Europe/Paris CEST
END:DAYLIGHT
BEGIN:DAYLIGHT
DTSTART:20230326T030000
RDATE:20231029T020000
TZOFFSETFROM:+0100
TZOFFSETTO:+0200
TZNAME:Europe/Paris CEST
END:DAYLIGHT
BEGIN:DAYLIGHT
DTSTART:20240331T030000
RDATE:20241027T020000
TZOFFSETFROM:+0100
TZOFFSETTO:+0200
TZNAME:Europe/Paris CEST
END:DAYLIGHT
BEGIN:DAYLIGHT
DTSTART:20250330T030000
RDATE:20251026T020000
TZOFFSETFROM:+0100
TZOFFSETTO:+0200
TZNAME:Europe/Paris CEST
END:DAYLIGHT
BEGIN:DAYLIGHT
DTSTART:20260329T030000
RDATE:20261025T020000
TZOFFSETFROM:+0100
TZOFFSETTO:+0200
TZNAME:Europe/Paris CEST
END:DAYLIGHT
END:VTIMEZONE
BEGIN:VEVENT
UID:a10320ecc713d20abace2510b8d603b6
CATEGORIES:Compétition Saut
CREATED:20161202T134851
SUMMARY:Gérardmer Slalom Saut epreuve inter clubs alpin saut circuit JDS coupe Bronze
URL;VALUE=URI:https://skivosges.net/agenda/a-venir/detailevenement/736/-/gerardmer-slalom
 -saut-epreuve-inter-clubs-alpin-saut-circuit-jds-coupe-bronze?tmpl=componen
 t
DESCRIPTION:<!-- #gskiepreuve code généré par le plugin jevents pour GskiEpreuves. Ne p
 as modifier cette ligne, ni tout le contenu suivant  #gskiepreuve --><div c
 lass="gski-evenement_infos"><div class="gski-evenement-nom">Gérardmer Slalo
 m Saut epreuve inter clubs alpin saut circuit JDS coupe Bronze</div><div cl
 ass="gski-evenement-report"></div><ul class="gski-evenement-liste-infos"><l
 i>Codex évenement TMVT0080</li><li>Lieu : GERARDMER</li><li>Station : GERAR
 DMER</li><li>Organisateur : 14469 A.S GERARDMER SKI NORDIQUE</li></ul><div 
 class="gski-evenement-infos-2"><div class="gski-evenement-info-inscriptions
 "><div class="gski-evenement-inscriptions-periodes">Période d'inscription à
  l'evènement du dimanche 19 février 2017 à 01:00 au vendredi 24 février 201
 7 à 13:00 <span class="gski-evenement-inscriptions-impossibles">(Inscriptio
 ns impossibles).</span><div class="gski-evenement-inscriptions-types-titres
 ">Le type de titres Fédéraux autorisé n'est pas défini. Veuillez contacter 
 l'organisateur et lui signaler le problème.</div></div></div><div class="gs
 ki-evenement-epreuves"><div class="gski-evenement-epreuves-titres">Epreuves
  :</div><ul class="gski-evenement-epreuves-list"><li><div class="gski-epreu
 ve-date">Le dimanche 26 février 2017</div><ul class="gski-epreuve-liste-inf
 os"><li>Codex épreuve TMVF0081</li><li>Saut Special</li></ul></li><li><div 
 class="gski-epreuve-date">Le dimanche 26 février 2017</div><ul class="gski-
 epreuve-liste-infos"><li>Codex épreuve TMVM0081</li><li>Saut Special</li></
 ul></li></ul></div><div class="gskiepreuves-links"><ul><li><a href="/index.
 php?option=com_jevents&task=icalevent.detail&evid=731&Itemid=6289">Voir les
  informations dans l'agenda...</a></li></ul></div></div"><!-- #/gskiepreuve
  fin du dode généré par le plugin jevents pour GskiEpreuves. . Ne pas modif
 ier cette ligne, ni tout le contenu précedant.  #/gskiepreuve --> <a href="
 https://skivosges.net/agenda/a-venir/detailevenement/736/-/gerardmer-slalom
 -saut-epreuve-inter-clubs-alpin-saut-circuit-jds-coupe-bronze?tmpl=componen
 t">Cet évènement a été importé depuis :https://skivosges.net/agenda/a-venir
 /detailevenement/736/-/gerardmer-slalom-saut-epreuve-inter-clubs-alpin-saut
 -circuit-jds-coupe-bronze?tmpl=component</a>
X-ALT-DESC;FMTTYPE=text/html:<!-- #gskiepreuve code généré par le plugin jevents pour GskiEpreuves. Ne p
 as modifier cette ligne, ni tout le contenu suivant  #gskiepreuve --><div c
 lass="gski-evenement_infos"><div class="gski-evenement-nom">Gérardmer Slalo
 m Saut epreuve inter clubs alpin saut circuit JDS coupe Bronze</div><div cl
 ass="gski-evenement-report"></div><ul class="gski-evenement-liste-infos"><l
 i>Codex évenement TMVT0080</li><li>Lieu : GERARDMER</li><li>Station : GERAR
 DMER</li><li>Organisateur : 14469 A.S GERARDMER SKI NORDIQUE</li></ul><div 
 class="gski-evenement-infos-2"><div class="gski-evenement-info-inscriptions
 "><div class="gski-evenement-inscriptions-periodes">Période d'inscription à
  l'evènement du dimanche 19 février 2017 à 01:00 au vendredi 24 février 201
 7 à 13:00 <span class="gski-evenement-inscriptions-impossibles">(Inscriptio
 ns impossibles).</span><div class="gski-evenement-inscriptions-types-titres
 ">Le type de titres Fédéraux autorisé n'est pas défini. Veuillez contacter 
 l'organisateur et lui signaler le problème.</div></div></div><div class="gs
 ki-evenement-epreuves"><div class="gski-evenement-epreuves-titres">Epreuves
  :</div><ul class="gski-evenement-epreuves-list"><li><div class="gski-epreu
 ve-date">Le dimanche 26 février 2017</div><ul class="gski-epreuve-liste-inf
 os"><li>Codex épreuve TMVF0081</li><li>Saut Special</li></ul></li><li><div 
 class="gski-epreuve-date">Le dimanche 26 février 2017</div><ul class="gski-
 epreuve-liste-infos"><li>Codex épreuve TMVM0081</li><li>Saut Special</li></
 ul></li></ul></div><div class="gskiepreuves-links"><ul><li><a href="https:/
 /skivosges.net/index.php?option=com_jevents&task=icalevent.detail&evid=731&
 Itemid=6289">Voir les informations dans l'agenda...</a></li></ul></div></di
 v"><!-- #/gskiepreuve fin du dode généré par le plugin jevents pour GskiEpr
 euves. . Ne pas modifier cette ligne, ni tout le contenu précedant.  #/gski
 epreuve --> <a href="https://skivosges.net/agenda/a-venir/detailevenement/7
 36/-/gerardmer-slalom-saut-epreuve-inter-clubs-alpin-saut-circuit-jds-coupe
 -bronze?tmpl=component">Cet évènement a été importé depuis :https://skivosg
 es.net/agenda/a-venir/detailevenement/736/-/gerardmer-slalom-saut-epreuve-i
 nter-clubs-alpin-saut-circuit-jds-coupe-bronze?tmpl=component</a>DTSTAMP:20260424T074016
DTSTART;TZID=Europe/Paris;VALUE=DATE:20170226
DTEND;TZID=Europe/Paris;VALUE=DATE:20170227
SEQUENCE:0
TRANSP:OPAQUE
END:VEVENT
END:VCALENDAR