BEGIN:VCALENDAR
VERSION:2.0
PRODID:-//jEvents 2.0 for Joomla//EN
CALSCALE:GREGORIAN
METHOD:PUBLISH
BEGIN:VTIMEZONE
TZID:Europe/Paris
BEGIN:STANDARD
DTSTART:20160303T000000
RDATE:20160327T030000
TZOFFSETFROM:+0200
TZOFFSETTO:+0100
TZNAME:Europe/Paris CET
END:STANDARD
BEGIN:STANDARD
DTSTART:20161030T020000
RDATE:20170326T030000
TZOFFSETFROM:+0200
TZOFFSETTO:+0100
TZNAME:Europe/Paris CET
END:STANDARD
BEGIN:STANDARD
DTSTART:20171029T020000
RDATE:20180325T030000
TZOFFSETFROM:+0200
TZOFFSETTO:+0100
TZNAME:Europe/Paris CET
END:STANDARD
BEGIN:STANDARD
DTSTART:20181028T020000
RDATE:20190331T030000
TZOFFSETFROM:+0200
TZOFFSETTO:+0100
TZNAME:Europe/Paris CET
END:STANDARD
BEGIN:STANDARD
DTSTART:20191027T020000
RDATE:20200329T030000
TZOFFSETFROM:+0200
TZOFFSETTO:+0100
TZNAME:Europe/Paris CET
END:STANDARD
BEGIN:STANDARD
DTSTART:20201025T020000
RDATE:20210328T030000
TZOFFSETFROM:+0200
TZOFFSETTO:+0100
TZNAME:Europe/Paris CET
END:STANDARD
BEGIN:STANDARD
DTSTART:20211031T020000
RDATE:20220327T030000
TZOFFSETFROM:+0200
TZOFFSETTO:+0100
TZNAME:Europe/Paris CET
END:STANDARD
BEGIN:STANDARD
DTSTART:20221030T020000
RDATE:20230326T030000
TZOFFSETFROM:+0200
TZOFFSETTO:+0100
TZNAME:Europe/Paris CET
END:STANDARD
BEGIN:STANDARD
DTSTART:20231029T020000
RDATE:20240331T030000
TZOFFSETFROM:+0200
TZOFFSETTO:+0100
TZNAME:Europe/Paris CET
END:STANDARD
BEGIN:STANDARD
DTSTART:20241027T020000
RDATE:20250330T030000
TZOFFSETFROM:+0200
TZOFFSETTO:+0100
TZNAME:Europe/Paris CET
END:STANDARD
BEGIN:STANDARD
DTSTART:20251026T020000
RDATE:20260329T030000
TZOFFSETFROM:+0200
TZOFFSETTO:+0100
TZNAME:Europe/Paris CET
END:STANDARD
BEGIN:STANDARD
DTSTART:20261025T020000
RDATE:20270328T030000
TZOFFSETFROM:+0200
TZOFFSETTO:+0100
TZNAME:Europe/Paris CET
END:STANDARD
BEGIN:DAYLIGHT
DTSTART:20160327T030000
RDATE:20161030T020000
TZOFFSETFROM:+0100
TZOFFSETTO:+0200
TZNAME:Europe/Paris CEST
END:DAYLIGHT
BEGIN:DAYLIGHT
DTSTART:20170326T030000
RDATE:20171029T020000
TZOFFSETFROM:+0100
TZOFFSETTO:+0200
TZNAME:Europe/Paris CEST
END:DAYLIGHT
BEGIN:DAYLIGHT
DTSTART:20180325T030000
RDATE:20181028T020000
TZOFFSETFROM:+0100
TZOFFSETTO:+0200
TZNAME:Europe/Paris CEST
END:DAYLIGHT
BEGIN:DAYLIGHT
DTSTART:20190331T030000
RDATE:20191027T020000
TZOFFSETFROM:+0100
TZOFFSETTO:+0200
TZNAME:Europe/Paris CEST
END:DAYLIGHT
BEGIN:DAYLIGHT
DTSTART:20200329T030000
RDATE:20201025T020000
TZOFFSETFROM:+0100
TZOFFSETTO:+0200
TZNAME:Europe/Paris CEST
END:DAYLIGHT
BEGIN:DAYLIGHT
DTSTART:20210328T030000
RDATE:20211031T020000
TZOFFSETFROM:+0100
TZOFFSETTO:+0200
TZNAME:Europe/Paris CEST
END:DAYLIGHT
BEGIN:DAYLIGHT
DTSTART:20220327T030000
RDATE:20221030T020000
TZOFFSETFROM:+0100
TZOFFSETTO:+0200
TZNAME:Europe/Paris CEST
END:DAYLIGHT
BEGIN:DAYLIGHT
DTSTART:20230326T030000
RDATE:20231029T020000
TZOFFSETFROM:+0100
TZOFFSETTO:+0200
TZNAME:Europe/Paris CEST
END:DAYLIGHT
BEGIN:DAYLIGHT
DTSTART:20240331T030000
RDATE:20241027T020000
TZOFFSETFROM:+0100
TZOFFSETTO:+0200
TZNAME:Europe/Paris CEST
END:DAYLIGHT
BEGIN:DAYLIGHT
DTSTART:20250330T030000
RDATE:20251026T020000
TZOFFSETFROM:+0100
TZOFFSETTO:+0200
TZNAME:Europe/Paris CEST
END:DAYLIGHT
BEGIN:DAYLIGHT
DTSTART:20260329T030000
RDATE:20261025T020000
TZOFFSETFROM:+0100
TZOFFSETTO:+0200
TZNAME:Europe/Paris CEST
END:DAYLIGHT
END:VTIMEZONE
BEGIN:VEVENT
UID:0d82091fb8a765d4bddc26c6f53c91de
CATEGORIES:Compétition Saut
CREATED:20161202T134851
SUMMARY:Xonrupt Jeux du Saut Crédit Mutuel +combiné
URL;VALUE=URI:https://skivosges.net/agenda/a-venir/detailevenement/739/-/xonrupt-jeux-du-
 saut-credit-mutuel-combine?tmpl=component
DESCRIPTION:Xonrupt Jeux du Saut Crédit Mutuel +combiné\n - Codex évenement TMVT0090\n 
 - Organisateur : 14102 SKI CLUB XONRUPTPériode d'inscription à l'evènement 
 du samedi 25 février 2017 à 01:00 au jeudi 02 mars 2017 à 13:00 (Inscriptio
 ns impossibles).Le type de titres Fédéraux autorisé n'est pas défini. Veuil
 lez contacter l'organisateur et lui signaler le problème.Epreuves :\n - Le 
 samedi 04 mars 2017\n - Codex épreuve TMVF0091\n - Saut Special\n - Le same
 di 04 mars 2017\n - Codex épreuve TMVM0091\n - Saut Special\n - Voir les in
 formations dans l'agenda... (/index.php?option=com_jevents&amp;task=icaleve
 nt.detail&amp;evid=734&amp;Itemid=6289) Cet évènement a été importé depuis 
 :https://skivosges.net/agenda/a-venir/detailevenement/739/-/xonrupt-jeux-du
 -saut-credit-mutuel-combine?tmpl=component (https://skivosges.net/agenda/a-
 venir/detailevenement/739/-/xonrupt-jeux-du-saut-credit-mutuel-combine?tmpl
 =component)
X-ALT-DESC;FMTTYPE=text/html:<!-- #gskiepreuve code généré par le plugin jevents pour GskiEpreuves. Ne p
 as modifier cette ligne, ni tout le contenu suivant  #gskiepreuve --><div c
 lass="gski-evenement_infos"><div class="gski-evenement-nom">Xonrupt Jeux du
  Saut Crédit Mutuel +combiné</div><div class="gski-evenement-report"></div>
 <ul class="gski-evenement-liste-infos"><li>Codex évenement TMVT0090</li><li
 >Organisateur : 14102 SKI CLUB XONRUPT</li></ul><div class="gski-evenement-
 infos-2"><div class="gski-evenement-info-inscriptions"><div class="gski-eve
 nement-inscriptions-periodes">Période d'inscription à l'evènement du samedi
  25 février 2017 à 01:00 au jeudi 02 mars 2017 à 13:00 <span class="gski-ev
 enement-inscriptions-impossibles">(Inscriptions impossibles).</span><div cl
 ass="gski-evenement-inscriptions-types-titres">Le type de titres Fédéraux a
 utorisé n'est pas défini. Veuillez contacter l'organisateur et lui signaler
  le problème.</div></div></div><div class="gski-evenement-epreuves"><div cl
 ass="gski-evenement-epreuves-titres">Epreuves :</div><ul class="gski-evenem
 ent-epreuves-list"><li><div class="gski-epreuve-date">Le samedi 04 mars 201
 7</div><ul class="gski-epreuve-liste-infos"><li>Codex épreuve TMVF0091</li>
 <li>Saut Special</li></ul></li><li><div class="gski-epreuve-date">Le samedi
  04 mars 2017</div><ul class="gski-epreuve-liste-infos"><li>Codex épreuve T
 MVM0091</li><li>Saut Special</li></ul></li></ul></div><div class="gskiepreu
 ves-links"><ul><li><a href="https://skivosges.net/index.php?option=com_jeve
 nts&task=icalevent.detail&evid=734&Itemid=6289">Voir les informations dans 
 l'agenda...</a></li></ul></div></div"><!-- #/gskiepreuve fin du dode généré
  par le plugin jevents pour GskiEpreuves. . Ne pas modifier cette ligne, ni
  tout le contenu précedant.  #/gskiepreuve --> <a href="https://skivosges.n
 et/agenda/a-venir/detailevenement/739/-/xonrupt-jeux-du-saut-credit-mutuel-
 combine?tmpl=component">Cet évènement a été importé depuis :https://skivosg
 es.net/agenda/a-venir/detailevenement/739/-/xonrupt-jeux-du-saut-credit-mut
 uel-combine?tmpl=component</a>DTSTAMP:20260424T030411
DTSTART;TZID=Europe/Paris;VALUE=DATE:20170304
DTEND;TZID=Europe/Paris;VALUE=DATE:20170305
SEQUENCE:0
TRANSP:OPAQUE
END:VEVENT
END:VCALENDAR