BEGIN:VCALENDAR
VERSION:2.0
PRODID:-//jEvents 2.0 for Joomla//EN
CALSCALE:GREGORIAN
METHOD:PUBLISH
BEGIN:VTIMEZONE
TZID:Europe/Paris
BEGIN:STANDARD
DTSTART:20160310T000000
RDATE:20160327T030000
TZOFFSETFROM:+0200
TZOFFSETTO:+0100
TZNAME:Europe/Paris CET
END:STANDARD
BEGIN:STANDARD
DTSTART:20161030T020000
RDATE:20170326T030000
TZOFFSETFROM:+0200
TZOFFSETTO:+0100
TZNAME:Europe/Paris CET
END:STANDARD
BEGIN:STANDARD
DTSTART:20171029T020000
RDATE:20180325T030000
TZOFFSETFROM:+0200
TZOFFSETTO:+0100
TZNAME:Europe/Paris CET
END:STANDARD
BEGIN:STANDARD
DTSTART:20181028T020000
RDATE:20190331T030000
TZOFFSETFROM:+0200
TZOFFSETTO:+0100
TZNAME:Europe/Paris CET
END:STANDARD
BEGIN:STANDARD
DTSTART:20191027T020000
RDATE:20200329T030000
TZOFFSETFROM:+0200
TZOFFSETTO:+0100
TZNAME:Europe/Paris CET
END:STANDARD
BEGIN:STANDARD
DTSTART:20201025T020000
RDATE:20210328T030000
TZOFFSETFROM:+0200
TZOFFSETTO:+0100
TZNAME:Europe/Paris CET
END:STANDARD
BEGIN:STANDARD
DTSTART:20211031T020000
RDATE:20220327T030000
TZOFFSETFROM:+0200
TZOFFSETTO:+0100
TZNAME:Europe/Paris CET
END:STANDARD
BEGIN:STANDARD
DTSTART:20221030T020000
RDATE:20230326T030000
TZOFFSETFROM:+0200
TZOFFSETTO:+0100
TZNAME:Europe/Paris CET
END:STANDARD
BEGIN:STANDARD
DTSTART:20231029T020000
RDATE:20240331T030000
TZOFFSETFROM:+0200
TZOFFSETTO:+0100
TZNAME:Europe/Paris CET
END:STANDARD
BEGIN:STANDARD
DTSTART:20241027T020000
RDATE:20250330T030000
TZOFFSETFROM:+0200
TZOFFSETTO:+0100
TZNAME:Europe/Paris CET
END:STANDARD
BEGIN:STANDARD
DTSTART:20251026T020000
RDATE:20260329T030000
TZOFFSETFROM:+0200
TZOFFSETTO:+0100
TZNAME:Europe/Paris CET
END:STANDARD
BEGIN:STANDARD
DTSTART:20261025T020000
RDATE:20270328T030000
TZOFFSETFROM:+0200
TZOFFSETTO:+0100
TZNAME:Europe/Paris CET
END:STANDARD
BEGIN:DAYLIGHT
DTSTART:20160327T030000
RDATE:20161030T020000
TZOFFSETFROM:+0100
TZOFFSETTO:+0200
TZNAME:Europe/Paris CEST
END:DAYLIGHT
BEGIN:DAYLIGHT
DTSTART:20170326T030000
RDATE:20171029T020000
TZOFFSETFROM:+0100
TZOFFSETTO:+0200
TZNAME:Europe/Paris CEST
END:DAYLIGHT
BEGIN:DAYLIGHT
DTSTART:20180325T030000
RDATE:20181028T020000
TZOFFSETFROM:+0100
TZOFFSETTO:+0200
TZNAME:Europe/Paris CEST
END:DAYLIGHT
BEGIN:DAYLIGHT
DTSTART:20190331T030000
RDATE:20191027T020000
TZOFFSETFROM:+0100
TZOFFSETTO:+0200
TZNAME:Europe/Paris CEST
END:DAYLIGHT
BEGIN:DAYLIGHT
DTSTART:20200329T030000
RDATE:20201025T020000
TZOFFSETFROM:+0100
TZOFFSETTO:+0200
TZNAME:Europe/Paris CEST
END:DAYLIGHT
BEGIN:DAYLIGHT
DTSTART:20210328T030000
RDATE:20211031T020000
TZOFFSETFROM:+0100
TZOFFSETTO:+0200
TZNAME:Europe/Paris CEST
END:DAYLIGHT
BEGIN:DAYLIGHT
DTSTART:20220327T030000
RDATE:20221030T020000
TZOFFSETFROM:+0100
TZOFFSETTO:+0200
TZNAME:Europe/Paris CEST
END:DAYLIGHT
BEGIN:DAYLIGHT
DTSTART:20230326T030000
RDATE:20231029T020000
TZOFFSETFROM:+0100
TZOFFSETTO:+0200
TZNAME:Europe/Paris CEST
END:DAYLIGHT
BEGIN:DAYLIGHT
DTSTART:20240331T030000
RDATE:20241027T020000
TZOFFSETFROM:+0100
TZOFFSETTO:+0200
TZNAME:Europe/Paris CEST
END:DAYLIGHT
BEGIN:DAYLIGHT
DTSTART:20250330T030000
RDATE:20251026T020000
TZOFFSETFROM:+0100
TZOFFSETTO:+0200
TZNAME:Europe/Paris CEST
END:DAYLIGHT
BEGIN:DAYLIGHT
DTSTART:20260329T030000
RDATE:20261025T020000
TZOFFSETFROM:+0100
TZOFFSETTO:+0200
TZNAME:Europe/Paris CEST
END:DAYLIGHT
END:VTIMEZONE
BEGIN:VEVENT
UID:a879fe5f9df9a5e7c3195783aac2ff53
CATEGORIES:Compétition Ski de Fond
CREATED:20161202T134851
SUMMARY:Relais Promo Foyers Massif
URL;VALUE=URI:https://skivosges.net/agenda/a-venir/detailevenement/750/-/relais-promo-foy
 ers-massif?tmpl=component
DESCRIPTION:<!-- #gskiepreuve code généré par le plugin jevents pour GskiEpreuves. Ne p
 as modifier cette ligne, ni tout le contenu suivant  #gskiepreuve --><div c
 lass="gski-evenement_infos"><div class="gski-evenement-nom">Relais Promo Fo
 yers Massif</div><div class="gski-evenement-report"></div><ul class="gski-e
 venement-liste-infos"><li>Codex évenement FMVT0210</li><li>Organisateur : 1
 4024 LA BRESSAUDE SECTION SKI</li></ul><div class="gski-evenement-infos-2">
 <div class="gski-evenement-info-inscriptions"><div class="gski-evenement-in
 scriptions-periodes">Période d'inscription à l'evènement du samedi 04 mars 
 2017 à 01:00 au jeudi 09 mars 2017 à 13:00 <span class="gski-evenement-insc
 riptions-impossibles">(Inscriptions impossibles).</span><div class="gski-ev
 enement-inscriptions-types-titres">Le type de titres Fédéraux autorisé n'es
 t pas défini. Veuillez contacter l'organisateur et lui signaler le problème
 .</div></div></div><div class="gski-evenement-epreuves"><div class="gski-ev
 enement-epreuves-titres">Epreuves :</div><ul class="gski-evenement-epreuves
 -list"><li><div class="gski-epreuve-date">Le samedi 11 mars 2017</div><ul c
 lass="gski-epreuve-liste-infos"><li>Codex épreuve FMVF0211</li><li>Relais</
 li></ul></li><li><div class="gski-epreuve-date">Le samedi 11 mars 2017</div
 ><ul class="gski-epreuve-liste-infos"><li>Codex épreuve FMVM0211</li><li>Re
 lais</li></ul></li></ul></div><div class="gskiepreuves-links"><ul><li><a hr
 ef="/index.php?option=com_jevents&task=icalevent.detail&evid=745&Itemid=628
 9">Voir les informations dans l'agenda...</a></li></ul></div></div"><!-- #/
 gskiepreuve fin du dode généré par le plugin jevents pour GskiEpreuves. . N
 e pas modifier cette ligne, ni tout le contenu précedant.  #/gskiepreuve --
 > <a href="https://skivosges.net/agenda/a-venir/detailevenement/750/-/relai
 s-promo-foyers-massif?tmpl=component">Cet évènement a été importé depuis :h
 ttps://skivosges.net/agenda/a-venir/detailevenement/750/-/relais-promo-foye
 rs-massif?tmpl=component</a>
X-ALT-DESC;FMTTYPE=text/html:<!-- #gskiepreuve code généré par le plugin jevents pour GskiEpreuves. Ne p
 as modifier cette ligne, ni tout le contenu suivant  #gskiepreuve --><div c
 lass="gski-evenement_infos"><div class="gski-evenement-nom">Relais Promo Fo
 yers Massif</div><div class="gski-evenement-report"></div><ul class="gski-e
 venement-liste-infos"><li>Codex évenement FMVT0210</li><li>Organisateur : 1
 4024 LA BRESSAUDE SECTION SKI</li></ul><div class="gski-evenement-infos-2">
 <div class="gski-evenement-info-inscriptions"><div class="gski-evenement-in
 scriptions-periodes">Période d'inscription à l'evènement du samedi 04 mars 
 2017 à 01:00 au jeudi 09 mars 2017 à 13:00 <span class="gski-evenement-insc
 riptions-impossibles">(Inscriptions impossibles).</span><div class="gski-ev
 enement-inscriptions-types-titres">Le type de titres Fédéraux autorisé n'es
 t pas défini. Veuillez contacter l'organisateur et lui signaler le problème
 .</div></div></div><div class="gski-evenement-epreuves"><div class="gski-ev
 enement-epreuves-titres">Epreuves :</div><ul class="gski-evenement-epreuves
 -list"><li><div class="gski-epreuve-date">Le samedi 11 mars 2017</div><ul c
 lass="gski-epreuve-liste-infos"><li>Codex épreuve FMVF0211</li><li>Relais</
 li></ul></li><li><div class="gski-epreuve-date">Le samedi 11 mars 2017</div
 ><ul class="gski-epreuve-liste-infos"><li>Codex épreuve FMVM0211</li><li>Re
 lais</li></ul></li></ul></div><div class="gskiepreuves-links"><ul><li><a hr
 ef="https://skivosges.net/index.php?option=com_jevents&task=icalevent.detai
 l&evid=745&Itemid=6289">Voir les informations dans l'agenda...</a></li></ul
 ></div></div"><!-- #/gskiepreuve fin du dode généré par le plugin jevents p
 our GskiEpreuves. . Ne pas modifier cette ligne, ni tout le contenu préceda
 nt.  #/gskiepreuve --> <a href="https://skivosges.net/agenda/a-venir/detail
 evenement/750/-/relais-promo-foyers-massif?tmpl=component">Cet évènement a 
 été importé depuis :https://skivosges.net/agenda/a-venir/detailevenement/75
 0/-/relais-promo-foyers-massif?tmpl=component</a>DTSTAMP:20260424T060811
DTSTART;TZID=Europe/Paris;VALUE=DATE:20170311
DTEND;TZID=Europe/Paris;VALUE=DATE:20170312
SEQUENCE:0
TRANSP:OPAQUE
END:VEVENT
END:VCALENDAR