BEGIN:VCALENDAR
VERSION:2.0
PRODID:-//jEvents 2.0 for Joomla//EN
CALSCALE:GREGORIAN
METHOD:PUBLISH
BEGIN:VTIMEZONE
TZID:Europe/Paris
BEGIN:STANDARD
DTSTART:20160311T000000
RDATE:20160327T030000
TZOFFSETFROM:+0200
TZOFFSETTO:+0100
TZNAME:Europe/Paris CET
END:STANDARD
BEGIN:STANDARD
DTSTART:20161030T020000
RDATE:20170326T030000
TZOFFSETFROM:+0200
TZOFFSETTO:+0100
TZNAME:Europe/Paris CET
END:STANDARD
BEGIN:STANDARD
DTSTART:20171029T020000
RDATE:20180325T030000
TZOFFSETFROM:+0200
TZOFFSETTO:+0100
TZNAME:Europe/Paris CET
END:STANDARD
BEGIN:STANDARD
DTSTART:20181028T020000
RDATE:20190331T030000
TZOFFSETFROM:+0200
TZOFFSETTO:+0100
TZNAME:Europe/Paris CET
END:STANDARD
BEGIN:STANDARD
DTSTART:20191027T020000
RDATE:20200329T030000
TZOFFSETFROM:+0200
TZOFFSETTO:+0100
TZNAME:Europe/Paris CET
END:STANDARD
BEGIN:STANDARD
DTSTART:20201025T020000
RDATE:20210328T030000
TZOFFSETFROM:+0200
TZOFFSETTO:+0100
TZNAME:Europe/Paris CET
END:STANDARD
BEGIN:STANDARD
DTSTART:20211031T020000
RDATE:20220327T030000
TZOFFSETFROM:+0200
TZOFFSETTO:+0100
TZNAME:Europe/Paris CET
END:STANDARD
BEGIN:STANDARD
DTSTART:20221030T020000
RDATE:20230326T030000
TZOFFSETFROM:+0200
TZOFFSETTO:+0100
TZNAME:Europe/Paris CET
END:STANDARD
BEGIN:STANDARD
DTSTART:20231029T020000
RDATE:20240331T030000
TZOFFSETFROM:+0200
TZOFFSETTO:+0100
TZNAME:Europe/Paris CET
END:STANDARD
BEGIN:STANDARD
DTSTART:20241027T020000
RDATE:20250330T030000
TZOFFSETFROM:+0200
TZOFFSETTO:+0100
TZNAME:Europe/Paris CET
END:STANDARD
BEGIN:STANDARD
DTSTART:20251026T020000
RDATE:20260329T030000
TZOFFSETFROM:+0200
TZOFFSETTO:+0100
TZNAME:Europe/Paris CET
END:STANDARD
BEGIN:STANDARD
DTSTART:20261025T020000
RDATE:20270328T030000
TZOFFSETFROM:+0200
TZOFFSETTO:+0100
TZNAME:Europe/Paris CET
END:STANDARD
BEGIN:DAYLIGHT
DTSTART:20160327T030000
RDATE:20161030T020000
TZOFFSETFROM:+0100
TZOFFSETTO:+0200
TZNAME:Europe/Paris CEST
END:DAYLIGHT
BEGIN:DAYLIGHT
DTSTART:20170326T030000
RDATE:20171029T020000
TZOFFSETFROM:+0100
TZOFFSETTO:+0200
TZNAME:Europe/Paris CEST
END:DAYLIGHT
BEGIN:DAYLIGHT
DTSTART:20180325T030000
RDATE:20181028T020000
TZOFFSETFROM:+0100
TZOFFSETTO:+0200
TZNAME:Europe/Paris CEST
END:DAYLIGHT
BEGIN:DAYLIGHT
DTSTART:20190331T030000
RDATE:20191027T020000
TZOFFSETFROM:+0100
TZOFFSETTO:+0200
TZNAME:Europe/Paris CEST
END:DAYLIGHT
BEGIN:DAYLIGHT
DTSTART:20200329T030000
RDATE:20201025T020000
TZOFFSETFROM:+0100
TZOFFSETTO:+0200
TZNAME:Europe/Paris CEST
END:DAYLIGHT
BEGIN:DAYLIGHT
DTSTART:20210328T030000
RDATE:20211031T020000
TZOFFSETFROM:+0100
TZOFFSETTO:+0200
TZNAME:Europe/Paris CEST
END:DAYLIGHT
BEGIN:DAYLIGHT
DTSTART:20220327T030000
RDATE:20221030T020000
TZOFFSETFROM:+0100
TZOFFSETTO:+0200
TZNAME:Europe/Paris CEST
END:DAYLIGHT
BEGIN:DAYLIGHT
DTSTART:20230326T030000
RDATE:20231029T020000
TZOFFSETFROM:+0100
TZOFFSETTO:+0200
TZNAME:Europe/Paris CEST
END:DAYLIGHT
BEGIN:DAYLIGHT
DTSTART:20240331T030000
RDATE:20241027T020000
TZOFFSETFROM:+0100
TZOFFSETTO:+0200
TZNAME:Europe/Paris CEST
END:DAYLIGHT
BEGIN:DAYLIGHT
DTSTART:20250330T030000
RDATE:20251026T020000
TZOFFSETFROM:+0100
TZOFFSETTO:+0200
TZNAME:Europe/Paris CEST
END:DAYLIGHT
BEGIN:DAYLIGHT
DTSTART:20260329T030000
RDATE:20261025T020000
TZOFFSETFROM:+0100
TZOFFSETTO:+0200
TZNAME:Europe/Paris CEST
END:DAYLIGHT
END:VTIMEZONE
BEGIN:VEVENT
UID:65343d4be974f85ef9f0b0d29d3e74d1
CATEGORIES:Circuit Massif Jeunes (alpin)
CREATED:20161202T134851
SUMMARY:GPJ Coupe d´Argent Grand Prix de la Godille U10+U12
URL;VALUE=URI:https://skivosges.net/agenda/a-venir/detailevenement/754/-/gpj-coupe-dargen
 t-grand-prix-de-la-godille-u10-u12?tmpl=component
DESCRIPTION:<!-- #gskiepreuve code généré par le plugin jevents pour GskiEpreuves. Ne p
 as modifier cette ligne, ni tout le contenu suivant  #gskiepreuve --><div c
 lass="gski-evenement_infos"><div class="gski-evenement-nom">GPJ Coupe d´Arg
 ent Grand Prix de la Godille U10+U12</div><div class="gski-evenement-report
 "></div><ul class="gski-evenement-liste-infos"><li>Codex évenement AMVT0660
 </li><li>Circuit : Grand Prix Jeunes</li><li>Lieu : LE BONHOMME</li><li>Sta
 tion : LE BONHOMME</li><li>COM_GSKIEPREUVES_EPREUVE_PISTEStade de Slalom</l
 i><li>Organisateur : 14251 SKI CLUB LE BONHOMME</li><li>Courriel : <!-- Cet
 te adresse électronique est protégée contre les robots spammeurs. --><span 
 class="cloaked_email ep_fdec48f3"><span data-ep-a="c&#104;&#114;&#105;&#115
 ;&#116;" data-ep-b="&#46;&#102;&#114;"><span data-ep-a="i&#97;&#110;&#46;ch
 " data-ep-b="&#111;ra&#110;g&#101;"><span data-ep-a="af&#105;&#111;l&#97;" 
 data-ep-b="&#118;&#105;&#99;&#104;&#99;&#64;"></span></span></span></span><
 script>RegularLabs.EmailProtector.unCloak("ep_fdec48f3");</script></li><li>
 Téléphone : 0689793839</li><li><span class="gski-evenement-obs">Autres info
 rmations : Premier d&eacute;part pr&eacute;vu &agrave; 9h30</span></li></ul
 ><div class="gski-evenement-infos-2"><div class="gski-evenement-info-inscri
 ptions"><div class="gski-evenement-inscriptions-periodes">Période d'inscrip
 tion à l'evènement du dimanche 05 mars 2017 à 01:00 au vendredi 10 mars 201
 7 à 19:00 <span class="gski-evenement-inscriptions-impossibles">(Inscriptio
 ns impossibles).</span><div class="gski-evenement-inscriptions-types-titres
 ">Le type de titres Fédéraux autorisé n'est pas défini. Veuillez contacter 
 l'organisateur et lui signaler le problème.</div></div></div><div class="gs
 ki-evenement-epreuves"><div class="gski-evenement-epreuves-titres">Epreuves
  :</div><ul class="gski-evenement-epreuves-list"><li><div class="gski-epreu
 ve-date">Le dimanche 12 mars 2017</div><ul class="gski-epreuve-liste-infos"
 ><li>Codex épreuve AMVM0661</li><li>Slalom Geant</li><li>Circuit : Grand Pr
 ix Jeunes</li></ul></li><li><div class="gski-epreuve-date">Le dimanche 12 m
 ars 2017</div><ul class="gski-epreuve-liste-infos"><li>Codex épreuve AMVF06
 61</li><li>Slalom Geant</li><li>Circuit : Grand Prix Jeunes</li></ul></li><
 li><div class="gski-epreuve-date">Le dimanche 12 mars 2017</div><ul class="
 gski-epreuve-liste-infos"><li>Codex épreuve AMVM0662</li><li>Slalom Geant</
 li><li>Catégorie(s) : U14 (Garçons)</li></ul></li><li><div class="gski-epre
 uve-date">Le dimanche 12 mars 2017</div><ul class="gski-epreuve-liste-infos
 "><li>Codex épreuve AMVF0662</li><li>Slalom Geant</li><li>Catégorie(s) : U1
 4 (Filles)</li></ul></li></ul></div><div class="gskiepreuves-links"><ul><li
 ><a href="/index.php?option=com_jevents&task=icalevent.detail&evid=749&Item
 id=6289">Voir les informations dans l'agenda...</a></li><li><a href="/index
 .php?option=com_gskiepreuves&view=afficheresultats&format_option=tous&filte
 r[search]=AMVT0660&filter[date_debut]=12-03-2017&filter[date_fin]=12-03-201
 7&code_activite=ALP&Itemid=6289">Vers les résultats...</a></li></ul></div><
 /div"><!-- #/gskiepreuve fin du dode généré par le plugin jevents pour Gski
 Epreuves. . Ne pas modifier cette ligne, ni tout le contenu précedant.  #/g
 skiepreuve --> <a href="https://skivosges.net/agenda/a-venir/detailevenemen
 t/754/-/gpj-coupe-dargent-grand-prix-de-la-godille-u10-u12?tmpl=component">
 Cet évènement a été importé depuis :https://skivosges.net/agenda/a-venir/de
 tailevenement/754/-/gpj-coupe-dargent-grand-prix-de-la-godille-u10-u12?tmpl
 =component</a>
X-ALT-DESC;FMTTYPE=text/html:<!-- #gskiepreuve code généré par le plugin jevents pour GskiEpreuves. Ne p
 as modifier cette ligne, ni tout le contenu suivant  #gskiepreuve --><div c
 lass="gski-evenement_infos"><div class="gski-evenement-nom">GPJ Coupe d´Arg
 ent Grand Prix de la Godille U10+U12</div><div class="gski-evenement-report
 "></div><ul class="gski-evenement-liste-infos"><li>Codex évenement AMVT0660
 </li><li>Circuit : Grand Prix Jeunes</li><li>Lieu : LE BONHOMME</li><li>Sta
 tion : LE BONHOMME</li><li>COM_GSKIEPREUVES_EPREUVE_PISTEStade de Slalom</l
 i><li>Organisateur : 14251 SKI CLUB LE BONHOMME</li><li>Courriel : <!-- Cet
 te adresse électronique est protégée contre les robots spammeurs. --><span 
 class="cloaked_email ep_fdec48f3"><span data-ep-a="c&#104;&#114;&#105;&#115
 ;&#116;" data-ep-b="&#46;&#102;&#114;"><span data-ep-a="i&#97;&#110;&#46;ch
 " data-ep-b="&#111;ra&#110;g&#101;"><span data-ep-a="af&#105;&#111;l&#97;" 
 data-ep-b="&#118;&#105;&#99;&#104;&#99;&#64;"></span></span></span></span><
 script>RegularLabs.EmailProtector.unCloak("ep_fdec48f3");</script></li><li>
 Téléphone : 0689793839</li><li><span class="gski-evenement-obs">Autres info
 rmations : Premier d&eacute;part pr&eacute;vu &agrave; 9h30</span></li></ul
 ><div class="gski-evenement-infos-2"><div class="gski-evenement-info-inscri
 ptions"><div class="gski-evenement-inscriptions-periodes">Période d'inscrip
 tion à l'evènement du dimanche 05 mars 2017 à 01:00 au vendredi 10 mars 201
 7 à 19:00 <span class="gski-evenement-inscriptions-impossibles">(Inscriptio
 ns impossibles).</span><div class="gski-evenement-inscriptions-types-titres
 ">Le type de titres Fédéraux autorisé n'est pas défini. Veuillez contacter 
 l'organisateur et lui signaler le problème.</div></div></div><div class="gs
 ki-evenement-epreuves"><div class="gski-evenement-epreuves-titres">Epreuves
  :</div><ul class="gski-evenement-epreuves-list"><li><div class="gski-epreu
 ve-date">Le dimanche 12 mars 2017</div><ul class="gski-epreuve-liste-infos"
 ><li>Codex épreuve AMVM0661</li><li>Slalom Geant</li><li>Circuit : Grand Pr
 ix Jeunes</li></ul></li><li><div class="gski-epreuve-date">Le dimanche 12 m
 ars 2017</div><ul class="gski-epreuve-liste-infos"><li>Codex épreuve AMVF06
 61</li><li>Slalom Geant</li><li>Circuit : Grand Prix Jeunes</li></ul></li><
 li><div class="gski-epreuve-date">Le dimanche 12 mars 2017</div><ul class="
 gski-epreuve-liste-infos"><li>Codex épreuve AMVM0662</li><li>Slalom Geant</
 li><li>Catégorie(s) : U14 (Garçons)</li></ul></li><li><div class="gski-epre
 uve-date">Le dimanche 12 mars 2017</div><ul class="gski-epreuve-liste-infos
 "><li>Codex épreuve AMVF0662</li><li>Slalom Geant</li><li>Catégorie(s) : U1
 4 (Filles)</li></ul></li></ul></div><div class="gskiepreuves-links"><ul><li
 ><a href="https://skivosges.net/index.php?option=com_jevents&task=icalevent
 .detail&evid=749&Itemid=6289">Voir les informations dans l'agenda...</a></l
 i><li><a href="https://skivosges.net/index.php?option=com_gskiepreuves&view
 =afficheresultats&format_option=tous&filter[search]=AMVT0660&filter[date_de
 but]=12-03-2017&filter[date_fin]=12-03-2017&code_activite=ALP&Itemid=6289">
 Vers les résultats...</a></li></ul></div></div"><!-- #/gskiepreuve fin du d
 ode généré par le plugin jevents pour GskiEpreuves. . Ne pas modifier cette
  ligne, ni tout le contenu précedant.  #/gskiepreuve --> <a href="https://s
 kivosges.net/agenda/a-venir/detailevenement/754/-/gpj-coupe-dargent-grand-p
 rix-de-la-godille-u10-u12?tmpl=component">Cet évènement a été importé depui
 s :https://skivosges.net/agenda/a-venir/detailevenement/754/-/gpj-coupe-dar
 gent-grand-prix-de-la-godille-u10-u12?tmpl=component</a>DTSTAMP:20260424T074014
DTSTART;TZID=Europe/Paris;VALUE=DATE:20170312
DTEND;TZID=Europe/Paris;VALUE=DATE:20170313
SEQUENCE:0
TRANSP:OPAQUE
END:VEVENT
END:VCALENDAR