BEGIN:VCALENDAR
VERSION:2.0
PRODID:-//jEvents 2.0 for Joomla//EN
CALSCALE:GREGORIAN
METHOD:PUBLISH
BEGIN:VTIMEZONE
TZID:Europe/Paris
BEGIN:STANDARD
DTSTART:20160311T000000
RDATE:20160327T030000
TZOFFSETFROM:+0200
TZOFFSETTO:+0100
TZNAME:Europe/Paris CET
END:STANDARD
BEGIN:STANDARD
DTSTART:20161030T020000
RDATE:20170326T030000
TZOFFSETFROM:+0200
TZOFFSETTO:+0100
TZNAME:Europe/Paris CET
END:STANDARD
BEGIN:STANDARD
DTSTART:20171029T020000
RDATE:20180325T030000
TZOFFSETFROM:+0200
TZOFFSETTO:+0100
TZNAME:Europe/Paris CET
END:STANDARD
BEGIN:STANDARD
DTSTART:20181028T020000
RDATE:20190331T030000
TZOFFSETFROM:+0200
TZOFFSETTO:+0100
TZNAME:Europe/Paris CET
END:STANDARD
BEGIN:STANDARD
DTSTART:20191027T020000
RDATE:20200329T030000
TZOFFSETFROM:+0200
TZOFFSETTO:+0100
TZNAME:Europe/Paris CET
END:STANDARD
BEGIN:STANDARD
DTSTART:20201025T020000
RDATE:20210328T030000
TZOFFSETFROM:+0200
TZOFFSETTO:+0100
TZNAME:Europe/Paris CET
END:STANDARD
BEGIN:STANDARD
DTSTART:20211031T020000
RDATE:20220327T030000
TZOFFSETFROM:+0200
TZOFFSETTO:+0100
TZNAME:Europe/Paris CET
END:STANDARD
BEGIN:STANDARD
DTSTART:20221030T020000
RDATE:20230326T030000
TZOFFSETFROM:+0200
TZOFFSETTO:+0100
TZNAME:Europe/Paris CET
END:STANDARD
BEGIN:STANDARD
DTSTART:20231029T020000
RDATE:20240331T030000
TZOFFSETFROM:+0200
TZOFFSETTO:+0100
TZNAME:Europe/Paris CET
END:STANDARD
BEGIN:STANDARD
DTSTART:20241027T020000
RDATE:20250330T030000
TZOFFSETFROM:+0200
TZOFFSETTO:+0100
TZNAME:Europe/Paris CET
END:STANDARD
BEGIN:STANDARD
DTSTART:20251026T020000
RDATE:20260329T030000
TZOFFSETFROM:+0200
TZOFFSETTO:+0100
TZNAME:Europe/Paris CET
END:STANDARD
BEGIN:STANDARD
DTSTART:20261025T020000
RDATE:20270328T030000
TZOFFSETFROM:+0200
TZOFFSETTO:+0100
TZNAME:Europe/Paris CET
END:STANDARD
BEGIN:DAYLIGHT
DTSTART:20160327T030000
RDATE:20161030T020000
TZOFFSETFROM:+0100
TZOFFSETTO:+0200
TZNAME:Europe/Paris CEST
END:DAYLIGHT
BEGIN:DAYLIGHT
DTSTART:20170326T030000
RDATE:20171029T020000
TZOFFSETFROM:+0100
TZOFFSETTO:+0200
TZNAME:Europe/Paris CEST
END:DAYLIGHT
BEGIN:DAYLIGHT
DTSTART:20180325T030000
RDATE:20181028T020000
TZOFFSETFROM:+0100
TZOFFSETTO:+0200
TZNAME:Europe/Paris CEST
END:DAYLIGHT
BEGIN:DAYLIGHT
DTSTART:20190331T030000
RDATE:20191027T020000
TZOFFSETFROM:+0100
TZOFFSETTO:+0200
TZNAME:Europe/Paris CEST
END:DAYLIGHT
BEGIN:DAYLIGHT
DTSTART:20200329T030000
RDATE:20201025T020000
TZOFFSETFROM:+0100
TZOFFSETTO:+0200
TZNAME:Europe/Paris CEST
END:DAYLIGHT
BEGIN:DAYLIGHT
DTSTART:20210328T030000
RDATE:20211031T020000
TZOFFSETFROM:+0100
TZOFFSETTO:+0200
TZNAME:Europe/Paris CEST
END:DAYLIGHT
BEGIN:DAYLIGHT
DTSTART:20220327T030000
RDATE:20221030T020000
TZOFFSETFROM:+0100
TZOFFSETTO:+0200
TZNAME:Europe/Paris CEST
END:DAYLIGHT
BEGIN:DAYLIGHT
DTSTART:20230326T030000
RDATE:20231029T020000
TZOFFSETFROM:+0100
TZOFFSETTO:+0200
TZNAME:Europe/Paris CEST
END:DAYLIGHT
BEGIN:DAYLIGHT
DTSTART:20240331T030000
RDATE:20241027T020000
TZOFFSETFROM:+0100
TZOFFSETTO:+0200
TZNAME:Europe/Paris CEST
END:DAYLIGHT
BEGIN:DAYLIGHT
DTSTART:20250330T030000
RDATE:20251026T020000
TZOFFSETFROM:+0100
TZOFFSETTO:+0200
TZNAME:Europe/Paris CEST
END:DAYLIGHT
BEGIN:DAYLIGHT
DTSTART:20260329T030000
RDATE:20261025T020000
TZOFFSETFROM:+0100
TZOFFSETTO:+0200
TZNAME:Europe/Paris CEST
END:DAYLIGHT
END:VTIMEZONE
BEGIN:VEVENT
UID:84ca0106bfac4b1c5bf5f0fac4cd4245
CATEGORIES:Compétition Ski de Fond
CREATED:20161202T134851
SUMMARY:Grand Prix de BARR  Crédit Mutuel n°7
URL;VALUE=URI:https://skivosges.net/agenda/a-venir/detailevenement/757/-/grand-prix-de-ba
 rr-credit-mutuel-n-7?tmpl=component
DESCRIPTION:Grand Prix de BARR  Crédit Mutuel n°7\n - Codex évenement FMVT0220\n - Lieu
  : CHAMP DU FEU\n - Station : CHAMP DU FEU\n - Organisateur : 14003 SKI CLU
 B BARR\n - Autres informations : Course transférée au 3 FoursPériode d'insc
 ription à l'evènement du dimanche 05 mars 2017 à 01:00 au vendredi 10 mars 
 2017 à 21:00 (Inscriptions impossibles).Le type de titres Fédéraux autorisé
  n'est pas défini. Veuillez contacter l'organisateur et lui signaler le pro
 blème.Epreuves :\n - Le dimanche 12 mars 2017\n - Codex épreuve FMVF0221\n 
 - Depart Individuel\n - Le dimanche 12 mars 2017\n - Codex épreuve FMVF0222
 \n - Depart Individuel\n - Le dimanche 12 mars 2017\n - Codex épreuve FMVM0
 221\n - Depart Individuel\n - Le dimanche 12 mars 2017\n - Codex épreuve FM
 VM0222\n - Depart Individuel\n - Voir les informations dans l'agenda... (/i
 ndex.php?option=com_jevents&amp;task=icalevent.detail&amp;evid=752&amp;Item
 id=6289)\n - Vers les résultats... (/index.php?option=com_gskiepreuves&amp;
 view=afficheresultats&amp;format_option=tous&amp;filter[search]=FMVT0220&am
 p;filter[date_debut]=12-03-2017&amp;filter[date_fin]=12-03-2017&amp;code_ac
 tivite=FOND&amp;Itemid=6289) Cet évènement a été importé depuis :https://sk
 ivosges.net/agenda/a-venir/detailevenement/757/-/grand-prix-de-barr-credit-
 mutuel-n-7?tmpl=component (https://skivosges.net/agenda/a-venir/detailevene
 ment/757/-/grand-prix-de-barr-credit-mutuel-n-7?tmpl=component)
X-ALT-DESC;FMTTYPE=text/html:<!-- #gskiepreuve code généré par le plugin jevents pour GskiEpreuves. Ne p
 as modifier cette ligne, ni tout le contenu suivant  #gskiepreuve --><div c
 lass="gski-evenement_infos"><div class="gski-evenement-nom">Grand Prix de B
 ARR  Crédit Mutuel n°7</div><div class="gski-evenement-report"></div><ul cl
 ass="gski-evenement-liste-infos"><li>Codex évenement FMVT0220</li><li>Lieu 
 : CHAMP DU FEU</li><li>Station : CHAMP DU FEU</li><li>Organisateur : 14003 
 SKI CLUB BARR</li><li><span class="gski-evenement-obs">Autres informations 
 : Course transf&eacute;r&eacute;e au 3 Fours</span></li></ul><div class="gs
 ki-evenement-infos-2"><div class="gski-evenement-info-inscriptions"><div cl
 ass="gski-evenement-inscriptions-periodes">Période d'inscription à l'evènem
 ent du dimanche 05 mars 2017 à 01:00 au vendredi 10 mars 2017 à 21:00 <span
  class="gski-evenement-inscriptions-impossibles">(Inscriptions impossibles)
 .</span><div class="gski-evenement-inscriptions-types-titres">Le type de ti
 tres Fédéraux autorisé n'est pas défini. Veuillez contacter l'organisateur 
 et lui signaler le problème.</div></div></div><div class="gski-evenement-ep
 reuves"><div class="gski-evenement-epreuves-titres">Epreuves :</div><ul cla
 ss="gski-evenement-epreuves-list"><li><div class="gski-epreuve-date">Le dim
 anche 12 mars 2017</div><ul class="gski-epreuve-liste-infos"><li>Codex épre
 uve FMVF0221</li><li>Depart Individuel</li></ul></li><li><div class="gski-e
 preuve-date">Le dimanche 12 mars 2017</div><ul class="gski-epreuve-liste-in
 fos"><li>Codex épreuve FMVF0222</li><li>Depart Individuel</li></ul></li><li
 ><div class="gski-epreuve-date">Le dimanche 12 mars 2017</div><ul class="gs
 ki-epreuve-liste-infos"><li>Codex épreuve FMVM0221</li><li>Depart Individue
 l</li></ul></li><li><div class="gski-epreuve-date">Le dimanche 12 mars 2017
 </div><ul class="gski-epreuve-liste-infos"><li>Codex épreuve FMVM0222</li><
 li>Depart Individuel</li></ul></li></ul></div><div class="gskiepreuves-link
 s"><ul><li><a href="https://skivosges.net/index.php?option=com_jevents&task
 =icalevent.detail&evid=752&Itemid=6289">Voir les informations dans l'agenda
 ...</a></li><li><a href="https://skivosges.net/index.php?option=com_gskiepr
 euves&view=afficheresultats&format_option=tous&filter[search]=FMVT0220&filt
 er[date_debut]=12-03-2017&filter[date_fin]=12-03-2017&code_activite=FOND&It
 emid=6289">Vers les résultats...</a></li></ul></div></div"><!-- #/gskiepreu
 ve fin du dode généré par le plugin jevents pour GskiEpreuves. . Ne pas mod
 ifier cette ligne, ni tout le contenu précedant.  #/gskiepreuve --> <a href
 ="https://skivosges.net/agenda/a-venir/detailevenement/757/-/grand-prix-de-
 barr-credit-mutuel-n-7?tmpl=component">Cet évènement a été importé depuis :
 https://skivosges.net/agenda/a-venir/detailevenement/757/-/grand-prix-de-ba
 rr-credit-mutuel-n-7?tmpl=component</a>DTSTAMP:20260424T073214
DTSTART;TZID=Europe/Paris;VALUE=DATE:20170312
DTEND;TZID=Europe/Paris;VALUE=DATE:20170313
SEQUENCE:0
TRANSP:OPAQUE
END:VEVENT
END:VCALENDAR