BEGIN:VCALENDAR
VERSION:2.0
PRODID:-//jEvents 2.0 for Joomla//EN
CALSCALE:GREGORIAN
METHOD:PUBLISH
BEGIN:VTIMEZONE
TZID:Europe/Paris
BEGIN:STANDARD
DTSTART:20160318T000000
RDATE:20160327T030000
TZOFFSETFROM:+0200
TZOFFSETTO:+0100
TZNAME:Europe/Paris CET
END:STANDARD
BEGIN:STANDARD
DTSTART:20161030T020000
RDATE:20170326T030000
TZOFFSETFROM:+0200
TZOFFSETTO:+0100
TZNAME:Europe/Paris CET
END:STANDARD
BEGIN:STANDARD
DTSTART:20171029T020000
RDATE:20180325T030000
TZOFFSETFROM:+0200
TZOFFSETTO:+0100
TZNAME:Europe/Paris CET
END:STANDARD
BEGIN:STANDARD
DTSTART:20181028T020000
RDATE:20190331T030000
TZOFFSETFROM:+0200
TZOFFSETTO:+0100
TZNAME:Europe/Paris CET
END:STANDARD
BEGIN:STANDARD
DTSTART:20191027T020000
RDATE:20200329T030000
TZOFFSETFROM:+0200
TZOFFSETTO:+0100
TZNAME:Europe/Paris CET
END:STANDARD
BEGIN:STANDARD
DTSTART:20201025T020000
RDATE:20210328T030000
TZOFFSETFROM:+0200
TZOFFSETTO:+0100
TZNAME:Europe/Paris CET
END:STANDARD
BEGIN:STANDARD
DTSTART:20211031T020000
RDATE:20220327T030000
TZOFFSETFROM:+0200
TZOFFSETTO:+0100
TZNAME:Europe/Paris CET
END:STANDARD
BEGIN:STANDARD
DTSTART:20221030T020000
RDATE:20230326T030000
TZOFFSETFROM:+0200
TZOFFSETTO:+0100
TZNAME:Europe/Paris CET
END:STANDARD
BEGIN:STANDARD
DTSTART:20231029T020000
RDATE:20240331T030000
TZOFFSETFROM:+0200
TZOFFSETTO:+0100
TZNAME:Europe/Paris CET
END:STANDARD
BEGIN:STANDARD
DTSTART:20241027T020000
RDATE:20250330T030000
TZOFFSETFROM:+0200
TZOFFSETTO:+0100
TZNAME:Europe/Paris CET
END:STANDARD
BEGIN:STANDARD
DTSTART:20251026T020000
RDATE:20260329T030000
TZOFFSETFROM:+0200
TZOFFSETTO:+0100
TZNAME:Europe/Paris CET
END:STANDARD
BEGIN:STANDARD
DTSTART:20261025T020000
RDATE:20270328T030000
TZOFFSETFROM:+0200
TZOFFSETTO:+0100
TZNAME:Europe/Paris CET
END:STANDARD
BEGIN:DAYLIGHT
DTSTART:20160327T030000
RDATE:20161030T020000
TZOFFSETFROM:+0100
TZOFFSETTO:+0200
TZNAME:Europe/Paris CEST
END:DAYLIGHT
BEGIN:DAYLIGHT
DTSTART:20170326T030000
RDATE:20171029T020000
TZOFFSETFROM:+0100
TZOFFSETTO:+0200
TZNAME:Europe/Paris CEST
END:DAYLIGHT
BEGIN:DAYLIGHT
DTSTART:20180325T030000
RDATE:20181028T020000
TZOFFSETFROM:+0100
TZOFFSETTO:+0200
TZNAME:Europe/Paris CEST
END:DAYLIGHT
BEGIN:DAYLIGHT
DTSTART:20190331T030000
RDATE:20191027T020000
TZOFFSETFROM:+0100
TZOFFSETTO:+0200
TZNAME:Europe/Paris CEST
END:DAYLIGHT
BEGIN:DAYLIGHT
DTSTART:20200329T030000
RDATE:20201025T020000
TZOFFSETFROM:+0100
TZOFFSETTO:+0200
TZNAME:Europe/Paris CEST
END:DAYLIGHT
BEGIN:DAYLIGHT
DTSTART:20210328T030000
RDATE:20211031T020000
TZOFFSETFROM:+0100
TZOFFSETTO:+0200
TZNAME:Europe/Paris CEST
END:DAYLIGHT
BEGIN:DAYLIGHT
DTSTART:20220327T030000
RDATE:20221030T020000
TZOFFSETFROM:+0100
TZOFFSETTO:+0200
TZNAME:Europe/Paris CEST
END:DAYLIGHT
BEGIN:DAYLIGHT
DTSTART:20230326T030000
RDATE:20231029T020000
TZOFFSETFROM:+0100
TZOFFSETTO:+0200
TZNAME:Europe/Paris CEST
END:DAYLIGHT
BEGIN:DAYLIGHT
DTSTART:20240331T030000
RDATE:20241027T020000
TZOFFSETFROM:+0100
TZOFFSETTO:+0200
TZNAME:Europe/Paris CEST
END:DAYLIGHT
BEGIN:DAYLIGHT
DTSTART:20250330T030000
RDATE:20251026T020000
TZOFFSETFROM:+0100
TZOFFSETTO:+0200
TZNAME:Europe/Paris CEST
END:DAYLIGHT
BEGIN:DAYLIGHT
DTSTART:20260329T030000
RDATE:20261025T020000
TZOFFSETFROM:+0100
TZOFFSETTO:+0200
TZNAME:Europe/Paris CEST
END:DAYLIGHT
END:VTIMEZONE
BEGIN:VEVENT
UID:a2d074c87be5ed65a3e36a01bb2fc91a
CATEGORIES:Compétition Ski de Fond
CREATED:20161202T134851
SUMMARY:Coupe  Hanenbrunen Roedelen Relais Chpts Vosges Crédit Mutuel BigMat Atomic Relais
URL;VALUE=URI:https://skivosges.net/agenda/a-venir/detailevenement/771/-/coupe-hanenbrune
 n-roedelen-relais-chpts-vosges-credit-mutuel-bigmat-atomic-relais?tmpl=comp
 onent
DESCRIPTION:Coupe  Hanenbrunen Roedelen Relais Chpts Vosges Crédit Mutuel BigMat Atomic
  Relais\n - Codex évenement FMVT0230\n - Lieu : MARKSTEIN\n - Station : MAR
 KSTEIN\n - COM_GSKIEPREUVES_EPREUVE_PISTENordic Parc\n - Organisateur : 140
 44 TOURING CLUB MULHOUSE\n - Téléphone : 06 80 51 65 82\n - Autres informat
 ions : La course aura lieu au BreitfirstPériode d'inscription à l'evènement
  du vendredi 10 février 2017 à 01:00 au vendredi 17 mars 2017 à 13:00 (Insc
 riptions impossibles).Le type de titres Fédéraux autorisé n'est pas défini.
  Veuillez contacter l'organisateur et lui signaler le problème.Epreuves :\n
  - Le dimanche 19 mars 2017\n - Codex épreuve FMVF0231\n - Relais\n - Le di
 manche 19 mars 2017\n - Codex épreuve FMVM0231\n - Relais\n - Le dimanche 1
 9 mars 2017\n - Codex épreuve FMVF0232\n - Relais\n - Le dimanche 19 mars 2
 017\n - Codex épreuve FMVM0232\n - Relais\n - Voir les informations dans l'
 agenda... (/index.php?option=com_jevents&amp;task=icalevent.detail&amp;evid
 =766&amp;Itemid=6289)\n - Vers les résultats... (/index.php?option=com_gski
 epreuves&amp;view=afficheresultats&amp;format_option=tous&amp;filter[search
 ]=FMVT0230&amp;filter[date_debut]=19-03-2017&amp;filter[date_fin]=19-03-201
 7&amp;code_activite=FOND&amp;Itemid=6289) Cet évènement a été importé depui
 s :https://skivosges.net/agenda/a-venir/detailevenement/771/-/coupe-hanenbr
 unen-roedelen-relais-chpts-vosges-credit-mutuel-bigmat-atomic-relais?tmpl=c
 omponent
X-ALT-DESC;FMTTYPE=text/html:<!-- #gskiepreuve code généré par le plugin jevents pour GskiEpreuves. Ne p
 as modifier cette ligne, ni tout le contenu suivant  #gskiepreuve --><div c
 lass="gski-evenement_infos"><div class="gski-evenement-nom">Coupe  Hanenbru
 nen Roedelen Relais Chpts Vosges Crédit Mutuel BigMat Atomic Relais</div><d
 iv class="gski-evenement-report"></div><ul class="gski-evenement-liste-info
 s"><li>Codex évenement FMVT0230</li><li>Lieu : MARKSTEIN</li><li>Station : 
 MARKSTEIN</li><li>COM_GSKIEPREUVES_EPREUVE_PISTENordic Parc</li><li>Organis
 ateur : 14044 TOURING CLUB MULHOUSE</li><li>Téléphone : 06 80 51 65 82</li>
 <li><span class="gski-evenement-obs">Autres informations : La course aura l
 ieu au Breitfirst</span></li></ul><div class="gski-evenement-infos-2"><div 
 class="gski-evenement-info-inscriptions"><div class="gski-evenement-inscrip
 tions-periodes">Période d'inscription à l'evènement du vendredi 10 février 
 2017 à 01:00 au vendredi 17 mars 2017 à 13:00 <span class="gski-evenement-i
 nscriptions-impossibles">(Inscriptions impossibles).</span><div class="gski
 -evenement-inscriptions-types-titres">Le type de titres Fédéraux autorisé n
 'est pas défini. Veuillez contacter l'organisateur et lui signaler le probl
 ème.</div></div></div><div class="gski-evenement-epreuves"><div class="gski
 -evenement-epreuves-titres">Epreuves :</div><ul class="gski-evenement-epreu
 ves-list"><li><div class="gski-epreuve-date">Le dimanche 19 mars 2017</div>
 <ul class="gski-epreuve-liste-infos"><li>Codex épreuve FMVF0231</li><li>Rel
 ais</li></ul></li><li><div class="gski-epreuve-date">Le dimanche 19 mars 20
 17</div><ul class="gski-epreuve-liste-infos"><li>Codex épreuve FMVM0231</li
 ><li>Relais</li></ul></li><li><div class="gski-epreuve-date">Le dimanche 19
  mars 2017</div><ul class="gski-epreuve-liste-infos"><li>Codex épreuve FMVF
 0232</li><li>Relais</li></ul></li><li><div class="gski-epreuve-date">Le dim
 anche 19 mars 2017</div><ul class="gski-epreuve-liste-infos"><li>Codex épre
 uve FMVM0232</li><li>Relais</li></ul></li></ul></div><div class="gskiepreuv
 es-links"><ul><li><a href="https://skivosges.net/index.php?option=com_jeven
 ts&task=icalevent.detail&evid=766&Itemid=6289">Voir les informations dans l
 'agenda...</a></li><li><a href="https://skivosges.net/index.php?option=com_
 gskiepreuves&view=afficheresultats&format_option=tous&filter[search]=FMVT02
 30&filter[date_debut]=19-03-2017&filter[date_fin]=19-03-2017&code_activite=
 FOND&Itemid=6289">Vers les résultats...</a></li></ul></div></div"><!-- #/gs
 kiepreuve fin du dode généré par le plugin jevents pour GskiEpreuves. . Ne 
 pas modifier cette ligne, ni tout le contenu précedant.  #/gskiepreuve --> 
 <a href="https://skivosges.net/agenda/a-venir/detailevenement/771/-/coupe-h
 anenbrunen-roedelen-relais-chpts-vosges-credit-mutuel-bigmat-atomic-relais?
 tmpl=component">Cet évènement a été importé depuis :https://skivosges.net/a
 genda/a-venir/detailevenement/771/-/coupe-hanenbrunen-roedelen-relais-chpts
 -vosges-credit-mutuel-bigmat-atomic-relais?tmpl=component</a>DTSTAMP:20260424T030528
DTSTART;TZID=Europe/Paris;VALUE=DATE:20170319
DTEND;TZID=Europe/Paris;VALUE=DATE:20170320
SEQUENCE:0
TRANSP:OPAQUE
END:VEVENT
END:VCALENDAR