BEGIN:VCALENDAR
VERSION:2.0
PRODID:-//jEvents 2.0 for Joomla//EN
CALSCALE:GREGORIAN
METHOD:PUBLISH
BEGIN:VTIMEZONE
TZID:Europe/Paris
BEGIN:STANDARD
DTSTART:20161030T020000
RDATE:20170326T030000
TZOFFSETFROM:+0200
TZOFFSETTO:+0100
TZNAME:Europe/Paris CET
END:STANDARD
BEGIN:STANDARD
DTSTART:20171029T020000
RDATE:20180325T030000
TZOFFSETFROM:+0200
TZOFFSETTO:+0100
TZNAME:Europe/Paris CET
END:STANDARD
BEGIN:STANDARD
DTSTART:20181028T020000
RDATE:20190331T030000
TZOFFSETFROM:+0200
TZOFFSETTO:+0100
TZNAME:Europe/Paris CET
END:STANDARD
BEGIN:STANDARD
DTSTART:20191027T020000
RDATE:20200329T030000
TZOFFSETFROM:+0200
TZOFFSETTO:+0100
TZNAME:Europe/Paris CET
END:STANDARD
BEGIN:STANDARD
DTSTART:20201025T020000
RDATE:20210328T030000
TZOFFSETFROM:+0200
TZOFFSETTO:+0100
TZNAME:Europe/Paris CET
END:STANDARD
BEGIN:STANDARD
DTSTART:20211031T020000
RDATE:20220327T030000
TZOFFSETFROM:+0200
TZOFFSETTO:+0100
TZNAME:Europe/Paris CET
END:STANDARD
BEGIN:STANDARD
DTSTART:20221030T020000
RDATE:20230326T030000
TZOFFSETFROM:+0200
TZOFFSETTO:+0100
TZNAME:Europe/Paris CET
END:STANDARD
BEGIN:STANDARD
DTSTART:20231029T020000
RDATE:20240331T030000
TZOFFSETFROM:+0200
TZOFFSETTO:+0100
TZNAME:Europe/Paris CET
END:STANDARD
BEGIN:STANDARD
DTSTART:20241027T020000
RDATE:20250330T030000
TZOFFSETFROM:+0200
TZOFFSETTO:+0100
TZNAME:Europe/Paris CET
END:STANDARD
BEGIN:STANDARD
DTSTART:20251026T020000
RDATE:20260329T030000
TZOFFSETFROM:+0200
TZOFFSETTO:+0100
TZNAME:Europe/Paris CET
END:STANDARD
BEGIN:STANDARD
DTSTART:20261025T020000
RDATE:20270328T030000
TZOFFSETFROM:+0200
TZOFFSETTO:+0100
TZNAME:Europe/Paris CET
END:STANDARD
BEGIN:DAYLIGHT
DTSTART:20160401T000000
RDATE:20161030T020000
TZOFFSETFROM:+0100
TZOFFSETTO:+0200
TZNAME:Europe/Paris CEST
END:DAYLIGHT
BEGIN:DAYLIGHT
DTSTART:20170326T030000
RDATE:20171029T020000
TZOFFSETFROM:+0100
TZOFFSETTO:+0200
TZNAME:Europe/Paris CEST
END:DAYLIGHT
BEGIN:DAYLIGHT
DTSTART:20180325T030000
RDATE:20181028T020000
TZOFFSETFROM:+0100
TZOFFSETTO:+0200
TZNAME:Europe/Paris CEST
END:DAYLIGHT
BEGIN:DAYLIGHT
DTSTART:20190331T030000
RDATE:20191027T020000
TZOFFSETFROM:+0100
TZOFFSETTO:+0200
TZNAME:Europe/Paris CEST
END:DAYLIGHT
BEGIN:DAYLIGHT
DTSTART:20200329T030000
RDATE:20201025T020000
TZOFFSETFROM:+0100
TZOFFSETTO:+0200
TZNAME:Europe/Paris CEST
END:DAYLIGHT
BEGIN:DAYLIGHT
DTSTART:20210328T030000
RDATE:20211031T020000
TZOFFSETFROM:+0100
TZOFFSETTO:+0200
TZNAME:Europe/Paris CEST
END:DAYLIGHT
BEGIN:DAYLIGHT
DTSTART:20220327T030000
RDATE:20221030T020000
TZOFFSETFROM:+0100
TZOFFSETTO:+0200
TZNAME:Europe/Paris CEST
END:DAYLIGHT
BEGIN:DAYLIGHT
DTSTART:20230326T030000
RDATE:20231029T020000
TZOFFSETFROM:+0100
TZOFFSETTO:+0200
TZNAME:Europe/Paris CEST
END:DAYLIGHT
BEGIN:DAYLIGHT
DTSTART:20240331T030000
RDATE:20241027T020000
TZOFFSETFROM:+0100
TZOFFSETTO:+0200
TZNAME:Europe/Paris CEST
END:DAYLIGHT
BEGIN:DAYLIGHT
DTSTART:20250330T030000
RDATE:20251026T020000
TZOFFSETFROM:+0100
TZOFFSETTO:+0200
TZNAME:Europe/Paris CEST
END:DAYLIGHT
BEGIN:DAYLIGHT
DTSTART:20260329T030000
RDATE:20261025T020000
TZOFFSETFROM:+0100
TZOFFSETTO:+0200
TZNAME:Europe/Paris CEST
END:DAYLIGHT
END:VTIMEZONE
BEGIN:VEVENT
UID:979d486b9ac98a6953b2a8fb9c9c66a3
CATEGORIES:Circuit Alsace Jeunes (alpin)
CREATED:20161202T134852
SUMMARY:CAJ Finale d'Alsace Jeunes
URL;VALUE=URI:https://skivosges.net/agenda/a-venir/detailevenement/782/-/caj-finale-dalsa
 ce-jeunes?tmpl=component
DESCRIPTION:<!-- #gskiepreuve code généré par le plugin jevents pour GskiEpreuves. Ne p
 as modifier cette ligne, ni tout le contenu suivant  #gskiepreuve --><div c
 lass="gski-evenement_infos"><div class="gski-evenement-nom">CAJ Finale d'Al
 sace Jeunes</div><div class="gski-evenement-report"></div><ul class="gski-e
 venement-liste-infos"><li>Codex évenement AMVT0870</li><li>Circuit : Coupe 
 d'Alsace Jeunes</li><li>Lieu : MARKSTEIN</li><li>Station : MARKSTEIN</li><l
 i>Organisateur : 14186 S.C VALLEE DE WESSERLING</li><li>Courriel : <!-- Cet
 te adresse électronique est protégée contre les robots spammeurs. --><span 
 class="cloaked_email ep_b8766759"><span data-ep-a="&#115;&#99;&#118;&#119;"
  data-ep-b="&#109;"><span data-ep-b="&#108;&#46;&#99;o" data-ep-a="&#101;ss
 &#101;"><span data-ep-a="&#114;&#108;&#105;&#110;" data-ep-b="&#103;&#64;&#
 97;&#111;"></span></span></span></span><script>RegularLabs.EmailProtector.u
 nCloak("ep_b8766759");</script></li><li>Téléphone : 03 89 82 78 08</li><li>
 Télécopie : 03 89 82 78 08</li></ul><div class="gski-evenement-infos-2"><di
 v class="gski-evenement-info-inscriptions"><div class="gski-evenement-inscr
 iptions-periodes">Période d'inscription à l'evènement du dimanche 26 mars 2
 017 à 01:00 au vendredi 31 mars 2017 à 14:00 <span class="gski-evenement-in
 scriptions-impossibles">(Inscriptions impossibles).</span><div class="gski-
 evenement-inscriptions-types-titres">Le type de titres Fédéraux autorisé n'
 est pas défini. Veuillez contacter l'organisateur et lui signaler le problè
 me.</div></div></div><div class="gski-evenement-epreuves"><div class="gski-
 evenement-epreuves-titres">Epreuves :</div><ul class="gski-evenement-epreuv
 es-list"><li><div class="gski-epreuve-date">Le dimanche 02 avril 2017</div>
 <ul class="gski-epreuve-liste-infos"><li>Codex épreuve AMVM0871</li><li>Sla
 lom Geant</li><li>Circuit : Coupe d'Alsace Jeunes</li></ul></li><li><div cl
 ass="gski-epreuve-date">Le dimanche 02 avril 2017</div><ul class="gski-epre
 uve-liste-infos"><li>Codex épreuve AMVF0871</li><li>Slalom Geant</li><li>Ci
 rcuit : Coupe d'Alsace Jeunes</li></ul></li><li><div class="gski-epreuve-da
 te">Le dimanche 02 avril 2017</div><ul class="gski-epreuve-liste-infos"><li
 >Codex épreuve AMVM0872</li><li>Slalom Geant</li><li>Circuit : Coupe d'Alsa
 ce Jeunes</li></ul></li><li><div class="gski-epreuve-date">Le dimanche 02 a
 vril 2017</div><ul class="gski-epreuve-liste-infos"><li>Codex épreuve AMVF0
 872</li><li>Slalom Geant</li><li>Circuit : Coupe d'Alsace Jeunes</li></ul><
 /li><li><div class="gski-epreuve-date">Le dimanche 02 avril 2017</div><ul c
 lass="gski-epreuve-liste-infos"><li>Codex épreuve AMVM0873</li><li>Slalom G
 eant</li><li>Circuit : Coupe d'Alsace Jeunes</li></ul></li><li><div class="
 gski-epreuve-date">Le dimanche 02 avril 2017</div><ul class="gski-epreuve-l
 iste-infos"><li>Codex épreuve AMVF0873</li><li>Slalom Geant</li><li>Circuit
  : Coupe d'Alsace Jeunes</li></ul></li><li><div class="gski-epreuve-date">L
 e dimanche 02 avril 2017</div><ul class="gski-epreuve-liste-infos"><li>Code
 x épreuve AMVM0874</li><li>(P)</li><li>Circuit : Coupe d'Alsace Jeunes</li>
 </ul></li><li><div class="gski-epreuve-date">Le dimanche 02 avril 2017</div
 ><ul class="gski-epreuve-liste-infos"><li>Codex épreuve AMVF0874</li><li>(P
 )</li><li>Circuit : Coupe d'Alsace Jeunes</li></ul></li><li><div class="gsk
 i-epreuve-date">Le dimanche 02 avril 2017</div><ul class="gski-epreuve-list
 e-infos"><li>Codex épreuve AMVM0875</li><li>(P)</li><li>Circuit : Coupe d'A
 lsace Jeunes</li></ul></li><li><div class="gski-epreuve-date">Le dimanche 0
 2 avril 2017</div><ul class="gski-epreuve-liste-infos"><li>Codex épreuve AM
 VF0875</li><li>(P)</li><li>Circuit : Coupe d'Alsace Jeunes</li></ul></li><l
 i><div class="gski-epreuve-date">Le dimanche 02 avril 2017</div><ul class="
 gski-epreuve-liste-infos"><li>Codex épreuve AMVM0876</li><li>(P)</li><li>Ci
 rcuit : Coupe d'Alsace Jeunes</li></ul></li><li><div class="gski-epreuve-da
 te">Le dimanche 02 avril 2017</div><ul class="gski-epreuve-liste-infos"><li
 >Codex épreuve AMVF0876</li><li>(P)</li><li>Circuit : Coupe d'Alsace Jeunes
 </li></ul></li><li><div class="gski-epreuve-date">Le dimanche 02 avril 2017
 </div><ul class="gski-epreuve-liste-infos"><li>Codex épreuve AMVM0877</li><
 li>Slalom Geant</li><li>Circuit : Coupe d'Alsace Jeunes</li></ul></li><li><
 div class="gski-epreuve-date">Le dimanche 02 avril 2017</div><ul class="gsk
 i-epreuve-liste-infos"><li>Codex épreuve AMVF0877</li><li>Slalom Geant</li>
 <li>Circuit : Coupe d'Alsace Jeunes</li></ul></li><li><div class="gski-epre
 uve-date">Le dimanche 02 avril 2017</div><ul class="gski-epreuve-liste-info
 s"><li>Codex épreuve AMVM0878</li><li>(P)</li><li>Circuit : Coupe d'Alsace 
 Jeunes</li></ul></li><li><div class="gski-epreuve-date">Le dimanche 02 avri
 l 2017</div><ul class="gski-epreuve-liste-infos"><li>Codex épreuve AMVF0878
 </li><li>(P)</li><li>Circuit : Coupe d'Alsace Jeunes</li></ul></li></ul></d
 iv><div class="gskiepreuves-links"><ul><li><a href="/index.php?option=com_j
 events&task=icalevent.detail&evid=777&Itemid=6289">Voir les informations da
 ns l'agenda...</a></li></ul></div></div"><!-- #/gskiepreuve fin du dode gén
 éré par le plugin jevents pour GskiEpreuves. . Ne pas modifier cette ligne,
  ni tout le contenu précedant.  #/gskiepreuve --> <a href="https://skivosge
 s.net/agenda/a-venir/detailevenement/782/-/caj-finale-dalsace-jeunes?tmpl=c
 omponent">Cet évènement a été importé depuis :https://skivosges.net/agenda/
 a-venir/detailevenement/782/-/caj-finale-dalsace-jeunes?tmpl=component</a>
X-ALT-DESC;FMTTYPE=text/html:<!-- #gskiepreuve code généré par le plugin jevents pour GskiEpreuves. Ne p
 as modifier cette ligne, ni tout le contenu suivant  #gskiepreuve --><div c
 lass="gski-evenement_infos"><div class="gski-evenement-nom">CAJ Finale d'Al
 sace Jeunes</div><div class="gski-evenement-report"></div><ul class="gski-e
 venement-liste-infos"><li>Codex évenement AMVT0870</li><li>Circuit : Coupe 
 d'Alsace Jeunes</li><li>Lieu : MARKSTEIN</li><li>Station : MARKSTEIN</li><l
 i>Organisateur : 14186 S.C VALLEE DE WESSERLING</li><li>Courriel : <!-- Cet
 te adresse électronique est protégée contre les robots spammeurs. --><span 
 class="cloaked_email ep_b8766759"><span data-ep-a="&#115;&#99;&#118;&#119;"
  data-ep-b="&#109;"><span data-ep-b="&#108;&#46;&#99;o" data-ep-a="&#101;ss
 &#101;"><span data-ep-a="&#114;&#108;&#105;&#110;" data-ep-b="&#103;&#64;&#
 97;&#111;"></span></span></span></span><script>RegularLabs.EmailProtector.u
 nCloak("ep_b8766759");</script></li><li>Téléphone : 03 89 82 78 08</li><li>
 Télécopie : 03 89 82 78 08</li></ul><div class="gski-evenement-infos-2"><di
 v class="gski-evenement-info-inscriptions"><div class="gski-evenement-inscr
 iptions-periodes">Période d'inscription à l'evènement du dimanche 26 mars 2
 017 à 01:00 au vendredi 31 mars 2017 à 14:00 <span class="gski-evenement-in
 scriptions-impossibles">(Inscriptions impossibles).</span><div class="gski-
 evenement-inscriptions-types-titres">Le type de titres Fédéraux autorisé n'
 est pas défini. Veuillez contacter l'organisateur et lui signaler le problè
 me.</div></div></div><div class="gski-evenement-epreuves"><div class="gski-
 evenement-epreuves-titres">Epreuves :</div><ul class="gski-evenement-epreuv
 es-list"><li><div class="gski-epreuve-date">Le dimanche 02 avril 2017</div>
 <ul class="gski-epreuve-liste-infos"><li>Codex épreuve AMVM0871</li><li>Sla
 lom Geant</li><li>Circuit : Coupe d'Alsace Jeunes</li></ul></li><li><div cl
 ass="gski-epreuve-date">Le dimanche 02 avril 2017</div><ul class="gski-epre
 uve-liste-infos"><li>Codex épreuve AMVF0871</li><li>Slalom Geant</li><li>Ci
 rcuit : Coupe d'Alsace Jeunes</li></ul></li><li><div class="gski-epreuve-da
 te">Le dimanche 02 avril 2017</div><ul class="gski-epreuve-liste-infos"><li
 >Codex épreuve AMVM0872</li><li>Slalom Geant</li><li>Circuit : Coupe d'Alsa
 ce Jeunes</li></ul></li><li><div class="gski-epreuve-date">Le dimanche 02 a
 vril 2017</div><ul class="gski-epreuve-liste-infos"><li>Codex épreuve AMVF0
 872</li><li>Slalom Geant</li><li>Circuit : Coupe d'Alsace Jeunes</li></ul><
 /li><li><div class="gski-epreuve-date">Le dimanche 02 avril 2017</div><ul c
 lass="gski-epreuve-liste-infos"><li>Codex épreuve AMVM0873</li><li>Slalom G
 eant</li><li>Circuit : Coupe d'Alsace Jeunes</li></ul></li><li><div class="
 gski-epreuve-date">Le dimanche 02 avril 2017</div><ul class="gski-epreuve-l
 iste-infos"><li>Codex épreuve AMVF0873</li><li>Slalom Geant</li><li>Circuit
  : Coupe d'Alsace Jeunes</li></ul></li><li><div class="gski-epreuve-date">L
 e dimanche 02 avril 2017</div><ul class="gski-epreuve-liste-infos"><li>Code
 x épreuve AMVM0874</li><li>(P)</li><li>Circuit : Coupe d'Alsace Jeunes</li>
 </ul></li><li><div class="gski-epreuve-date">Le dimanche 02 avril 2017</div
 ><ul class="gski-epreuve-liste-infos"><li>Codex épreuve AMVF0874</li><li>(P
 )</li><li>Circuit : Coupe d'Alsace Jeunes</li></ul></li><li><div class="gsk
 i-epreuve-date">Le dimanche 02 avril 2017</div><ul class="gski-epreuve-list
 e-infos"><li>Codex épreuve AMVM0875</li><li>(P)</li><li>Circuit : Coupe d'A
 lsace Jeunes</li></ul></li><li><div class="gski-epreuve-date">Le dimanche 0
 2 avril 2017</div><ul class="gski-epreuve-liste-infos"><li>Codex épreuve AM
 VF0875</li><li>(P)</li><li>Circuit : Coupe d'Alsace Jeunes</li></ul></li><l
 i><div class="gski-epreuve-date">Le dimanche 02 avril 2017</div><ul class="
 gski-epreuve-liste-infos"><li>Codex épreuve AMVM0876</li><li>(P)</li><li>Ci
 rcuit : Coupe d'Alsace Jeunes</li></ul></li><li><div class="gski-epreuve-da
 te">Le dimanche 02 avril 2017</div><ul class="gski-epreuve-liste-infos"><li
 >Codex épreuve AMVF0876</li><li>(P)</li><li>Circuit : Coupe d'Alsace Jeunes
 </li></ul></li><li><div class="gski-epreuve-date">Le dimanche 02 avril 2017
 </div><ul class="gski-epreuve-liste-infos"><li>Codex épreuve AMVM0877</li><
 li>Slalom Geant</li><li>Circuit : Coupe d'Alsace Jeunes</li></ul></li><li><
 div class="gski-epreuve-date">Le dimanche 02 avril 2017</div><ul class="gsk
 i-epreuve-liste-infos"><li>Codex épreuve AMVF0877</li><li>Slalom Geant</li>
 <li>Circuit : Coupe d'Alsace Jeunes</li></ul></li><li><div class="gski-epre
 uve-date">Le dimanche 02 avril 2017</div><ul class="gski-epreuve-liste-info
 s"><li>Codex épreuve AMVM0878</li><li>(P)</li><li>Circuit : Coupe d'Alsace 
 Jeunes</li></ul></li><li><div class="gski-epreuve-date">Le dimanche 02 avri
 l 2017</div><ul class="gski-epreuve-liste-infos"><li>Codex épreuve AMVF0878
 </li><li>(P)</li><li>Circuit : Coupe d'Alsace Jeunes</li></ul></li></ul></d
 iv><div class="gskiepreuves-links"><ul><li><a href="https://skivosges.net/i
 ndex.php?option=com_jevents&task=icalevent.detail&evid=777&Itemid=6289">Voi
 r les informations dans l'agenda...</a></li></ul></div></div"><!-- #/gskiep
 reuve fin du dode généré par le plugin jevents pour GskiEpreuves. . Ne pas 
 modifier cette ligne, ni tout le contenu précedant.  #/gskiepreuve --> <a h
 ref="https://skivosges.net/agenda/a-venir/detailevenement/782/-/caj-finale-
 dalsace-jeunes?tmpl=component">Cet évènement a été importé depuis :https://
 skivosges.net/agenda/a-venir/detailevenement/782/-/caj-finale-dalsace-jeune
 s?tmpl=component</a>DTSTAMP:20260424T012600
DTSTART;TZID=Europe/Paris;VALUE=DATE:20170402
DTEND;TZID=Europe/Paris;VALUE=DATE:20170403
SEQUENCE:0
TRANSP:OPAQUE
END:VEVENT
END:VCALENDAR