BEGIN:VCALENDAR
VERSION:2.0
PRODID:-//jEvents 2.0 for Joomla//EN
CALSCALE:GREGORIAN
METHOD:PUBLISH
BEGIN:VTIMEZONE
TZID:Europe/Paris
BEGIN:STANDARD
DTSTART:20160204T000000
RDATE:20160327T030000
TZOFFSETFROM:+0200
TZOFFSETTO:+0100
TZNAME:Europe/Paris CET
END:STANDARD
BEGIN:STANDARD
DTSTART:20161030T020000
RDATE:20170326T030000
TZOFFSETFROM:+0200
TZOFFSETTO:+0100
TZNAME:Europe/Paris CET
END:STANDARD
BEGIN:STANDARD
DTSTART:20171029T020000
RDATE:20180325T030000
TZOFFSETFROM:+0200
TZOFFSETTO:+0100
TZNAME:Europe/Paris CET
END:STANDARD
BEGIN:STANDARD
DTSTART:20181028T020000
RDATE:20190331T030000
TZOFFSETFROM:+0200
TZOFFSETTO:+0100
TZNAME:Europe/Paris CET
END:STANDARD
BEGIN:STANDARD
DTSTART:20191027T020000
RDATE:20200329T030000
TZOFFSETFROM:+0200
TZOFFSETTO:+0100
TZNAME:Europe/Paris CET
END:STANDARD
BEGIN:STANDARD
DTSTART:20201025T020000
RDATE:20210328T030000
TZOFFSETFROM:+0200
TZOFFSETTO:+0100
TZNAME:Europe/Paris CET
END:STANDARD
BEGIN:STANDARD
DTSTART:20211031T020000
RDATE:20220327T030000
TZOFFSETFROM:+0200
TZOFFSETTO:+0100
TZNAME:Europe/Paris CET
END:STANDARD
BEGIN:STANDARD
DTSTART:20221030T020000
RDATE:20230326T030000
TZOFFSETFROM:+0200
TZOFFSETTO:+0100
TZNAME:Europe/Paris CET
END:STANDARD
BEGIN:STANDARD
DTSTART:20231029T020000
RDATE:20240331T030000
TZOFFSETFROM:+0200
TZOFFSETTO:+0100
TZNAME:Europe/Paris CET
END:STANDARD
BEGIN:STANDARD
DTSTART:20241027T020000
RDATE:20250330T030000
TZOFFSETFROM:+0200
TZOFFSETTO:+0100
TZNAME:Europe/Paris CET
END:STANDARD
BEGIN:STANDARD
DTSTART:20251026T020000
RDATE:20260329T030000
TZOFFSETFROM:+0200
TZOFFSETTO:+0100
TZNAME:Europe/Paris CET
END:STANDARD
BEGIN:STANDARD
DTSTART:20261025T020000
RDATE:20270328T030000
TZOFFSETFROM:+0200
TZOFFSETTO:+0100
TZNAME:Europe/Paris CET
END:STANDARD
BEGIN:DAYLIGHT
DTSTART:20160327T030000
RDATE:20161030T020000
TZOFFSETFROM:+0100
TZOFFSETTO:+0200
TZNAME:Europe/Paris CEST
END:DAYLIGHT
BEGIN:DAYLIGHT
DTSTART:20170326T030000
RDATE:20171029T020000
TZOFFSETFROM:+0100
TZOFFSETTO:+0200
TZNAME:Europe/Paris CEST
END:DAYLIGHT
BEGIN:DAYLIGHT
DTSTART:20180325T030000
RDATE:20181028T020000
TZOFFSETFROM:+0100
TZOFFSETTO:+0200
TZNAME:Europe/Paris CEST
END:DAYLIGHT
BEGIN:DAYLIGHT
DTSTART:20190331T030000
RDATE:20191027T020000
TZOFFSETFROM:+0100
TZOFFSETTO:+0200
TZNAME:Europe/Paris CEST
END:DAYLIGHT
BEGIN:DAYLIGHT
DTSTART:20200329T030000
RDATE:20201025T020000
TZOFFSETFROM:+0100
TZOFFSETTO:+0200
TZNAME:Europe/Paris CEST
END:DAYLIGHT
BEGIN:DAYLIGHT
DTSTART:20210328T030000
RDATE:20211031T020000
TZOFFSETFROM:+0100
TZOFFSETTO:+0200
TZNAME:Europe/Paris CEST
END:DAYLIGHT
BEGIN:DAYLIGHT
DTSTART:20220327T030000
RDATE:20221030T020000
TZOFFSETFROM:+0100
TZOFFSETTO:+0200
TZNAME:Europe/Paris CEST
END:DAYLIGHT
BEGIN:DAYLIGHT
DTSTART:20230326T030000
RDATE:20231029T020000
TZOFFSETFROM:+0100
TZOFFSETTO:+0200
TZNAME:Europe/Paris CEST
END:DAYLIGHT
BEGIN:DAYLIGHT
DTSTART:20240331T030000
RDATE:20241027T020000
TZOFFSETFROM:+0100
TZOFFSETTO:+0200
TZNAME:Europe/Paris CEST
END:DAYLIGHT
BEGIN:DAYLIGHT
DTSTART:20250330T030000
RDATE:20251026T020000
TZOFFSETFROM:+0100
TZOFFSETTO:+0200
TZNAME:Europe/Paris CEST
END:DAYLIGHT
BEGIN:DAYLIGHT
DTSTART:20260329T030000
RDATE:20261025T020000
TZOFFSETFROM:+0100
TZOFFSETTO:+0200
TZNAME:Europe/Paris CEST
END:DAYLIGHT
END:VTIMEZONE
BEGIN:VEVENT
UID:1746faffb910e109943f7fa81d45a7b7
CATEGORIES:Compétitions Snowboard
CREATED:20170126T194229
SUMMARY:Championnat des Vosges Snowboard Freestyle
URL;VALUE=URI:https://skivosges.net/agenda/a-venir/detailevenement/797/-/championnat-des-
 vosges-snowboard-freestyle?tmpl=component
DESCRIPTION:Championnat des Vosges Snowboard Freestyle\n - Codex évenement NMVT0010\n -
  Lieu : BALLON D'ALSACE\n - Station : BALLON D'ALSACE\n - Organisateur : 14
 494 RDOWNPériode d'inscription à l'evènement du samedi 28 janvier 2017 à 01
 :00 au jeudi 02 février 2017 à 13:00 (Inscriptions impossibles).Le type de 
 titres Fédéraux autorisé n'est pas défini. Veuillez contacter l'organisateu
 r et lui signaler le problème.Epreuves :\n - Le samedi 04 février 2017\n - 
 Codex épreuve NMVF0011\n - (SBS)\n - Le samedi 04 février 2017\n - Codex ép
 reuve NMVM0011\n - (SBS)\n - Le samedi 04 février 2017\n - Codex épreuve NM
 VF0012\n - (SBS)\n - Le samedi 04 février 2017\n - Codex épreuve NMVM0012\n
  - (SBS)\n - Voir les informations dans l'agenda... (/index.php?option=com_
 jevents&amp;task=icalevent.detail&amp;evid=792&amp;Itemid=6289) Cet évèneme
 nt a été importé depuis :https://skivosges.net/agenda/a-venir/detaileveneme
 nt/797/-/championnat-des-vosges-snowboard-freestyle?tmpl=component (https:/
 /skivosges.net/agenda/a-venir/detailevenement/797/-/championnat-des-vosges-
 snowboard-freestyle?tmpl=component)
X-ALT-DESC;FMTTYPE=text/html:<!-- #gskiepreuve code généré par le plugin jevents pour GskiEpreuves. Ne p
 as modifier cette ligne, ni tout le contenu suivant  #gskiepreuve --><div c
 lass="gski-evenement_infos"><div class="gski-evenement-nom">Championnat des
  Vosges Snowboard Freestyle</div><div class="gski-evenement-report"></div><
 ul class="gski-evenement-liste-infos"><li>Codex évenement NMVT0010</li><li>
 Lieu : BALLON D'ALSACE</li><li>Station : BALLON D'ALSACE</li><li>Organisate
 ur : 14494 RDOWN</li></ul><div class="gski-evenement-infos-2"><div class="g
 ski-evenement-info-inscriptions"><div class="gski-evenement-inscriptions-pe
 riodes">Période d'inscription à l'evènement du samedi 28 janvier 2017 à 01:
 00 au jeudi 02 février 2017 à 13:00 <span class="gski-evenement-inscription
 s-impossibles">(Inscriptions impossibles).</span><div class="gski-evenement
 -inscriptions-types-titres">Le type de titres Fédéraux autorisé n'est pas d
 éfini. Veuillez contacter l'organisateur et lui signaler le problème.</div>
 </div></div><div class="gski-evenement-epreuves"><div class="gski-evenement
 -epreuves-titres">Epreuves :</div><ul class="gski-evenement-epreuves-list">
 <li><div class="gski-epreuve-date">Le samedi 04 février 2017</div><ul class
 ="gski-epreuve-liste-infos"><li>Codex épreuve NMVF0011</li><li>(SBS)</li></
 ul></li><li><div class="gski-epreuve-date">Le samedi 04 février 2017</div><
 ul class="gski-epreuve-liste-infos"><li>Codex épreuve NMVM0011</li><li>(SBS
 )</li></ul></li><li><div class="gski-epreuve-date">Le samedi 04 février 201
 7</div><ul class="gski-epreuve-liste-infos"><li>Codex épreuve NMVF0012</li>
 <li>(SBS)</li></ul></li><li><div class="gski-epreuve-date">Le samedi 04 fév
 rier 2017</div><ul class="gski-epreuve-liste-infos"><li>Codex épreuve NMVM0
 012</li><li>(SBS)</li></ul></li></ul></div><div class="gskiepreuves-links">
 <ul><li><a href="https://skivosges.net/index.php?option=com_jevents&task=ic
 alevent.detail&evid=792&Itemid=6289">Voir les informations dans l'agenda...
 </a></li></ul></div></div"><!-- #/gskiepreuve fin du dode généré par le plu
 gin jevents pour GskiEpreuves. . Ne pas modifier cette ligne, ni tout le co
 ntenu précedant.  #/gskiepreuve --> <a href="https://skivosges.net/agenda/a
 -venir/detailevenement/797/-/championnat-des-vosges-snowboard-freestyle?tmp
 l=component">Cet évènement a été importé depuis :https://skivosges.net/agen
 da/a-venir/detailevenement/797/-/championnat-des-vosges-snowboard-freestyle
 ?tmpl=component</a>DTSTAMP:20260424T083659
DTSTART;TZID=Europe/Paris;VALUE=DATE:20170204
DTEND;TZID=Europe/Paris;VALUE=DATE:20170205
SEQUENCE:0
TRANSP:OPAQUE
END:VEVENT
END:VCALENDAR