BEGIN:VCALENDAR
VERSION:2.0
PRODID:-//jEvents 2.0 for Joomla//EN
CALSCALE:GREGORIAN
METHOD:PUBLISH
BEGIN:VTIMEZONE
TZID:Europe/Paris
BEGIN:STANDARD
DTSTART:20160219T000000
RDATE:20160327T030000
TZOFFSETFROM:+0200
TZOFFSETTO:+0100
TZNAME:Europe/Paris CET
END:STANDARD
BEGIN:STANDARD
DTSTART:20161030T020000
RDATE:20170326T030000
TZOFFSETFROM:+0200
TZOFFSETTO:+0100
TZNAME:Europe/Paris CET
END:STANDARD
BEGIN:STANDARD
DTSTART:20171029T020000
RDATE:20180325T030000
TZOFFSETFROM:+0200
TZOFFSETTO:+0100
TZNAME:Europe/Paris CET
END:STANDARD
BEGIN:STANDARD
DTSTART:20181028T020000
RDATE:20190331T030000
TZOFFSETFROM:+0200
TZOFFSETTO:+0100
TZNAME:Europe/Paris CET
END:STANDARD
BEGIN:STANDARD
DTSTART:20191027T020000
RDATE:20200329T030000
TZOFFSETFROM:+0200
TZOFFSETTO:+0100
TZNAME:Europe/Paris CET
END:STANDARD
BEGIN:STANDARD
DTSTART:20201025T020000
RDATE:20210328T030000
TZOFFSETFROM:+0200
TZOFFSETTO:+0100
TZNAME:Europe/Paris CET
END:STANDARD
BEGIN:STANDARD
DTSTART:20211031T020000
RDATE:20220327T030000
TZOFFSETFROM:+0200
TZOFFSETTO:+0100
TZNAME:Europe/Paris CET
END:STANDARD
BEGIN:STANDARD
DTSTART:20221030T020000
RDATE:20230326T030000
TZOFFSETFROM:+0200
TZOFFSETTO:+0100
TZNAME:Europe/Paris CET
END:STANDARD
BEGIN:STANDARD
DTSTART:20231029T020000
RDATE:20240331T030000
TZOFFSETFROM:+0200
TZOFFSETTO:+0100
TZNAME:Europe/Paris CET
END:STANDARD
BEGIN:STANDARD
DTSTART:20241027T020000
RDATE:20250330T030000
TZOFFSETFROM:+0200
TZOFFSETTO:+0100
TZNAME:Europe/Paris CET
END:STANDARD
BEGIN:STANDARD
DTSTART:20251026T020000
RDATE:20260329T030000
TZOFFSETFROM:+0200
TZOFFSETTO:+0100
TZNAME:Europe/Paris CET
END:STANDARD
BEGIN:STANDARD
DTSTART:20261025T020000
RDATE:20270328T030000
TZOFFSETFROM:+0200
TZOFFSETTO:+0100
TZNAME:Europe/Paris CET
END:STANDARD
BEGIN:DAYLIGHT
DTSTART:20160327T030000
RDATE:20161030T020000
TZOFFSETFROM:+0100
TZOFFSETTO:+0200
TZNAME:Europe/Paris CEST
END:DAYLIGHT
BEGIN:DAYLIGHT
DTSTART:20170326T030000
RDATE:20171029T020000
TZOFFSETFROM:+0100
TZOFFSETTO:+0200
TZNAME:Europe/Paris CEST
END:DAYLIGHT
BEGIN:DAYLIGHT
DTSTART:20180325T030000
RDATE:20181028T020000
TZOFFSETFROM:+0100
TZOFFSETTO:+0200
TZNAME:Europe/Paris CEST
END:DAYLIGHT
BEGIN:DAYLIGHT
DTSTART:20190331T030000
RDATE:20191027T020000
TZOFFSETFROM:+0100
TZOFFSETTO:+0200
TZNAME:Europe/Paris CEST
END:DAYLIGHT
BEGIN:DAYLIGHT
DTSTART:20200329T030000
RDATE:20201025T020000
TZOFFSETFROM:+0100
TZOFFSETTO:+0200
TZNAME:Europe/Paris CEST
END:DAYLIGHT
BEGIN:DAYLIGHT
DTSTART:20210328T030000
RDATE:20211031T020000
TZOFFSETFROM:+0100
TZOFFSETTO:+0200
TZNAME:Europe/Paris CEST
END:DAYLIGHT
BEGIN:DAYLIGHT
DTSTART:20220327T030000
RDATE:20221030T020000
TZOFFSETFROM:+0100
TZOFFSETTO:+0200
TZNAME:Europe/Paris CEST
END:DAYLIGHT
BEGIN:DAYLIGHT
DTSTART:20230326T030000
RDATE:20231029T020000
TZOFFSETFROM:+0100
TZOFFSETTO:+0200
TZNAME:Europe/Paris CEST
END:DAYLIGHT
BEGIN:DAYLIGHT
DTSTART:20240331T030000
RDATE:20241027T020000
TZOFFSETFROM:+0100
TZOFFSETTO:+0200
TZNAME:Europe/Paris CEST
END:DAYLIGHT
BEGIN:DAYLIGHT
DTSTART:20250330T030000
RDATE:20251026T020000
TZOFFSETFROM:+0100
TZOFFSETTO:+0200
TZNAME:Europe/Paris CEST
END:DAYLIGHT
BEGIN:DAYLIGHT
DTSTART:20260329T030000
RDATE:20261025T020000
TZOFFSETFROM:+0100
TZOFFSETTO:+0200
TZNAME:Europe/Paris CEST
END:DAYLIGHT
END:VTIMEZONE
BEGIN:VEVENT
UID:c1a82e033f551420341fb9a08035c271
CATEGORIES:Circuit Lorraine Jeunes (alpin)
CREATED:20170215T164613
SUMMARY:CLJ Coupe de bronze et micro **REPORTE**
URL;VALUE=URI:https://skivosges.net/agenda/a-venir/detailevenement/804/-/clj-coupe-de-bro
 nze-et-micro-reporte?tmpl=component
DESCRIPTION:CLJ Coupe de bronze et micro (Report de l'épreuve initialement prévue le 26
 /02/2017) (Epreuve reportée)\n - Codex évenement \n - Circuit : Coupe de Lo
 rraine Jeunes\n - Lieu : GERARDMER\n - Organisateur : \n - Téléphone : 03 2
 9 60 98 04Période d'inscription à l'evènement du dimanche 19 février 2017 à
  01:00 au vendredi 24 février 2017 à 13:00 (Inscriptions impossibles).Le ty
 pe de titres Fédéraux autorisé n'est pas défini. Veuillez contacter l'organ
 isateur et lui signaler le problème.\n - Voir les informations dans l'agend
 a... (/index.php?option=com_jevents&amp;task=icalevent.detail&amp;evid=799&
 amp;Itemid=6289) Cet évènement a été importé depuis :https://skivosges.net/
 agenda/a-venir/detailevenement/804/-/clj-coupe-de-bronze-et-micro-reporte?t
 mpl=component (https://skivosges.net/agenda/a-venir/detailevenement/804/-/c
 lj-coupe-de-bronze-et-micro-reporte?tmpl=component)
X-ALT-DESC;FMTTYPE=text/html:<!-- #gskiepreuve code généré par le plugin jevents pour GskiEpreuves. Ne p
 as modifier cette ligne, ni tout le contenu suivant  #gskiepreuve --><div c
 lass="gski-evenement_infos"><div class="gski-evenement-nom">CLJ Coupe de br
 onze et micro</div><div class="gski-evenement-report"> <font class="gskiatt
 ention">(Report de l'épreuve initialement prévue le 26/02/2017)</font> <fon
 t class="gskiattention">(Epreuve reportée)</font></div><ul class="gski-even
 ement-liste-infos"><li>Codex évenement </li><li>Circuit : Coupe de Lorraine
  Jeunes</li><li>Lieu : GERARDMER</li><li>Organisateur : </li><li>Téléphone 
 : 03 29 60 98 04</li></ul><div class="gski-evenement-infos-2"><div class="g
 ski-evenement-info-inscriptions"><div class="gski-evenement-inscriptions-pe
 riodes">Période d'inscription à l'evènement du dimanche 19 février 2017 à 0
 1:00 au vendredi 24 février 2017 à 13:00 <span class="gski-evenement-inscri
 ptions-impossibles">(Inscriptions impossibles).</span><div class="gski-even
 ement-inscriptions-types-titres">Le type de titres Fédéraux autorisé n'est 
 pas défini. Veuillez contacter l'organisateur et lui signaler le problème.<
 /div></div></div><div class="gskiepreuves-links"><ul><li><a href="https://s
 kivosges.net/index.php?option=com_jevents&task=icalevent.detail&evid=799&It
 emid=6289">Voir les informations dans l'agenda...</a></li></ul></div></div"
 ><!-- #/gskiepreuve fin du dode généré par le plugin jevents pour GskiEpreu
 ves. . Ne pas modifier cette ligne, ni tout le contenu précedant.  #/gskiep
 reuve --> <a href="https://skivosges.net/agenda/a-venir/detailevenement/804
 /-/clj-coupe-de-bronze-et-micro-reporte?tmpl=component">Cet évènement a été
  importé depuis :https://skivosges.net/agenda/a-venir/detailevenement/804/-
 /clj-coupe-de-bronze-et-micro-reporte?tmpl=component</a>DTSTAMP:20260424T083653
DTSTART;TZID=Europe/Paris;VALUE=DATE:20170219
DTEND;TZID=Europe/Paris;VALUE=DATE:20170220
SEQUENCE:0
TRANSP:OPAQUE
END:VEVENT
END:VCALENDAR