BEGIN:VCALENDAR
VERSION:2.0
PRODID:-//jEvents 2.0 for Joomla//EN
CALSCALE:GREGORIAN
METHOD:PUBLISH
BEGIN:VTIMEZONE
TZID:Europe/Paris
BEGIN:STANDARD
DTSTART:20160218T000000
RDATE:20160327T030000
TZOFFSETFROM:+0200
TZOFFSETTO:+0100
TZNAME:Europe/Paris CET
END:STANDARD
BEGIN:STANDARD
DTSTART:20161030T020000
RDATE:20170326T030000
TZOFFSETFROM:+0200
TZOFFSETTO:+0100
TZNAME:Europe/Paris CET
END:STANDARD
BEGIN:STANDARD
DTSTART:20171029T020000
RDATE:20180325T030000
TZOFFSETFROM:+0200
TZOFFSETTO:+0100
TZNAME:Europe/Paris CET
END:STANDARD
BEGIN:STANDARD
DTSTART:20181028T020000
RDATE:20190331T030000
TZOFFSETFROM:+0200
TZOFFSETTO:+0100
TZNAME:Europe/Paris CET
END:STANDARD
BEGIN:STANDARD
DTSTART:20191027T020000
RDATE:20200329T030000
TZOFFSETFROM:+0200
TZOFFSETTO:+0100
TZNAME:Europe/Paris CET
END:STANDARD
BEGIN:STANDARD
DTSTART:20201025T020000
RDATE:20210328T030000
TZOFFSETFROM:+0200
TZOFFSETTO:+0100
TZNAME:Europe/Paris CET
END:STANDARD
BEGIN:STANDARD
DTSTART:20211031T020000
RDATE:20220327T030000
TZOFFSETFROM:+0200
TZOFFSETTO:+0100
TZNAME:Europe/Paris CET
END:STANDARD
BEGIN:STANDARD
DTSTART:20221030T020000
RDATE:20230326T030000
TZOFFSETFROM:+0200
TZOFFSETTO:+0100
TZNAME:Europe/Paris CET
END:STANDARD
BEGIN:STANDARD
DTSTART:20231029T020000
RDATE:20240331T030000
TZOFFSETFROM:+0200
TZOFFSETTO:+0100
TZNAME:Europe/Paris CET
END:STANDARD
BEGIN:STANDARD
DTSTART:20241027T020000
RDATE:20250330T030000
TZOFFSETFROM:+0200
TZOFFSETTO:+0100
TZNAME:Europe/Paris CET
END:STANDARD
BEGIN:STANDARD
DTSTART:20251026T020000
RDATE:20260329T030000
TZOFFSETFROM:+0200
TZOFFSETTO:+0100
TZNAME:Europe/Paris CET
END:STANDARD
BEGIN:STANDARD
DTSTART:20261025T020000
RDATE:20270328T030000
TZOFFSETFROM:+0200
TZOFFSETTO:+0100
TZNAME:Europe/Paris CET
END:STANDARD
BEGIN:DAYLIGHT
DTSTART:20160327T030000
RDATE:20161030T020000
TZOFFSETFROM:+0100
TZOFFSETTO:+0200
TZNAME:Europe/Paris CEST
END:DAYLIGHT
BEGIN:DAYLIGHT
DTSTART:20170326T030000
RDATE:20171029T020000
TZOFFSETFROM:+0100
TZOFFSETTO:+0200
TZNAME:Europe/Paris CEST
END:DAYLIGHT
BEGIN:DAYLIGHT
DTSTART:20180325T030000
RDATE:20181028T020000
TZOFFSETFROM:+0100
TZOFFSETTO:+0200
TZNAME:Europe/Paris CEST
END:DAYLIGHT
BEGIN:DAYLIGHT
DTSTART:20190331T030000
RDATE:20191027T020000
TZOFFSETFROM:+0100
TZOFFSETTO:+0200
TZNAME:Europe/Paris CEST
END:DAYLIGHT
BEGIN:DAYLIGHT
DTSTART:20200329T030000
RDATE:20201025T020000
TZOFFSETFROM:+0100
TZOFFSETTO:+0200
TZNAME:Europe/Paris CEST
END:DAYLIGHT
BEGIN:DAYLIGHT
DTSTART:20210328T030000
RDATE:20211031T020000
TZOFFSETFROM:+0100
TZOFFSETTO:+0200
TZNAME:Europe/Paris CEST
END:DAYLIGHT
BEGIN:DAYLIGHT
DTSTART:20220327T030000
RDATE:20221030T020000
TZOFFSETFROM:+0100
TZOFFSETTO:+0200
TZNAME:Europe/Paris CEST
END:DAYLIGHT
BEGIN:DAYLIGHT
DTSTART:20230326T030000
RDATE:20231029T020000
TZOFFSETFROM:+0100
TZOFFSETTO:+0200
TZNAME:Europe/Paris CEST
END:DAYLIGHT
BEGIN:DAYLIGHT
DTSTART:20240331T030000
RDATE:20241027T020000
TZOFFSETFROM:+0100
TZOFFSETTO:+0200
TZNAME:Europe/Paris CEST
END:DAYLIGHT
BEGIN:DAYLIGHT
DTSTART:20250330T030000
RDATE:20251026T020000
TZOFFSETFROM:+0100
TZOFFSETTO:+0200
TZNAME:Europe/Paris CEST
END:DAYLIGHT
BEGIN:DAYLIGHT
DTSTART:20260329T030000
RDATE:20261025T020000
TZOFFSETFROM:+0100
TZOFFSETTO:+0200
TZNAME:Europe/Paris CEST
END:DAYLIGHT
END:VTIMEZONE
BEGIN:VEVENT
UID:b22dac0db7b614917f99ae7caf4794c6
CATEGORIES:Circuit Lorraine Jeunes (alpin)
CREATED:20170215T210204
SUMMARY:CLJ Coupe de bronze et micro Prix ACW
URL;VALUE=URI:https://skivosges.net/agenda/a-venir/detailevenement/805/-/clj-coupe-de-bro
 nze-et-micro-prix-acw?tmpl=component
DESCRIPTION:CLJ Coupe de bronze et micro Prix ACW\n - Codex évenement AMVT0510\n - Circ
 uit : Coupe de Lorraine Jeunes\n - Lieu : GERARDMER\n - Station : GERARDMER
 \n - Organisateur : 14089 GERARDMER SKI ALPIN\n - Courriel : RegularLabs.Em
 ailProtector.unCloak("ep_a445b239");\n - Téléphone : 03 29 60 98 04Période 
 d'inscription à l'evènement du dimanche 19 février 2017 à 01:00 au vendredi
  24 février 2017 à 13:00 (Inscriptions impossibles).Le type de titres Fédér
 aux autorisé n'est pas défini. Veuillez contacter l'organisateur et lui sig
 naler le problème.\n - Voir les informations dans l'agenda... (/index.php?o
 ption=com_jevents&amp;task=icalevent.detail&amp;evid=800&amp;Itemid=6289)\n
  - Vers les résultats... (/index.php?option=com_gskiepreuves&amp;view=affic
 heresultats&amp;format_option=tous&amp;filter[search]=AMVT0510&amp;filter[d
 ate_debut]=18-02-2017&amp;filter[date_fin]=18-02-2017&amp;code_activite=ALP
 &amp;Itemid=6289) Cet évènement a été importé depuis :https://skivosges.net
 /agenda/a-venir/detailevenement/805/-/clj-coupe-de-bronze-et-micro-prix-acw
 ?tmpl=component (https://skivosges.net/agenda/a-venir/detailevenement/805/-
 /clj-coupe-de-bronze-et-micro-prix-acw?tmpl=component)
X-ALT-DESC;FMTTYPE=text/html:<!-- #gskiepreuve code généré par le plugin jevents pour GskiEpreuves. Ne p
 as modifier cette ligne, ni tout le contenu suivant  #gskiepreuve --><div c
 lass="gski-evenement_infos"><div class="gski-evenement-nom">CLJ Coupe de br
 onze et micro Prix ACW</div><div class="gski-evenement-report"></div><ul cl
 ass="gski-evenement-liste-infos"><li>Codex évenement AMVT0510</li><li>Circu
 it : Coupe de Lorraine Jeunes</li><li>Lieu : GERARDMER</li><li>Station : GE
 RARDMER</li><li>Organisateur : 14089 GERARDMER SKI ALPIN</li><li>Courriel :
  <!-- Cette adresse électronique est protégée contre les robots spammeurs. 
 --><span class="cloaked_email ep_a445b239"><span data-ep-a="&#97;s&#103;&#1
 15;k" data-ep-b="&#102;&#114;"><span data-ep-a="&#105;&#46;g&#101;r" data-e
 p-b="ad&#111;&#111;."><span data-ep-b="&#114;&#64;&#119;a&#110;" data-ep-a=
 "&#97;&#114;&#100;&#109;&#101;"></span></span></span></span><script>Regular
 Labs.EmailProtector.unCloak("ep_a445b239");</script></li><li>Téléphone : 03
  29 60 98 04</li></ul><div class="gski-evenement-infos-2"><div class="gski-
 evenement-info-inscriptions"><div class="gski-evenement-inscriptions-period
 es">Période d'inscription à l'evènement du dimanche 19 février 2017 à 01:00
  au vendredi 24 février 2017 à 13:00 <span class="gski-evenement-inscriptio
 ns-impossibles">(Inscriptions impossibles).</span><div class="gski-evenemen
 t-inscriptions-types-titres">Le type de titres Fédéraux autorisé n'est pas 
 défini. Veuillez contacter l'organisateur et lui signaler le problème.</div
 ></div></div><div class="gskiepreuves-links"><ul><li><a href="https://skivo
 sges.net/index.php?option=com_jevents&task=icalevent.detail&evid=800&Itemid
 =6289">Voir les informations dans l'agenda...</a></li><li><a href="https://
 skivosges.net/index.php?option=com_gskiepreuves&view=afficheresultats&forma
 t_option=tous&filter[search]=AMVT0510&filter[date_debut]=18-02-2017&filter[
 date_fin]=18-02-2017&code_activite=ALP&Itemid=6289">Vers les résultats...</
 a></li></ul></div></div"><!-- #/gskiepreuve fin du dode généré par le plugi
 n jevents pour GskiEpreuves. . Ne pas modifier cette ligne, ni tout le cont
 enu précedant.  #/gskiepreuve --> <a href="https://skivosges.net/agenda/a-v
 enir/detailevenement/805/-/clj-coupe-de-bronze-et-micro-prix-acw?tmpl=compo
 nent">Cet évènement a été importé depuis :https://skivosges.net/agenda/a-ve
 nir/detailevenement/805/-/clj-coupe-de-bronze-et-micro-prix-acw?tmpl=compon
 ent</a>DTSTAMP:20260424T083655
DTSTART;TZID=Europe/Paris;VALUE=DATE:20170218
DTEND;TZID=Europe/Paris;VALUE=DATE:20170219
SEQUENCE:0
TRANSP:OPAQUE
END:VEVENT
END:VCALENDAR