BEGIN:VCALENDAR
VERSION:2.0
PRODID:-//jEvents 2.0 for Joomla//EN
CALSCALE:GREGORIAN
METHOD:PUBLISH
BEGIN:VTIMEZONE
TZID:Europe/Paris
BEGIN:STANDARD
DTSTART:20160219T000000
RDATE:20160327T030000
TZOFFSETFROM:+0200
TZOFFSETTO:+0100
TZNAME:Europe/Paris CET
END:STANDARD
BEGIN:STANDARD
DTSTART:20161030T020000
RDATE:20170326T030000
TZOFFSETFROM:+0200
TZOFFSETTO:+0100
TZNAME:Europe/Paris CET
END:STANDARD
BEGIN:STANDARD
DTSTART:20171029T020000
RDATE:20180325T030000
TZOFFSETFROM:+0200
TZOFFSETTO:+0100
TZNAME:Europe/Paris CET
END:STANDARD
BEGIN:STANDARD
DTSTART:20181028T020000
RDATE:20190331T030000
TZOFFSETFROM:+0200
TZOFFSETTO:+0100
TZNAME:Europe/Paris CET
END:STANDARD
BEGIN:STANDARD
DTSTART:20191027T020000
RDATE:20200329T030000
TZOFFSETFROM:+0200
TZOFFSETTO:+0100
TZNAME:Europe/Paris CET
END:STANDARD
BEGIN:STANDARD
DTSTART:20201025T020000
RDATE:20210328T030000
TZOFFSETFROM:+0200
TZOFFSETTO:+0100
TZNAME:Europe/Paris CET
END:STANDARD
BEGIN:STANDARD
DTSTART:20211031T020000
RDATE:20220327T030000
TZOFFSETFROM:+0200
TZOFFSETTO:+0100
TZNAME:Europe/Paris CET
END:STANDARD
BEGIN:STANDARD
DTSTART:20221030T020000
RDATE:20230326T030000
TZOFFSETFROM:+0200
TZOFFSETTO:+0100
TZNAME:Europe/Paris CET
END:STANDARD
BEGIN:STANDARD
DTSTART:20231029T020000
RDATE:20240331T030000
TZOFFSETFROM:+0200
TZOFFSETTO:+0100
TZNAME:Europe/Paris CET
END:STANDARD
BEGIN:STANDARD
DTSTART:20241027T020000
RDATE:20250330T030000
TZOFFSETFROM:+0200
TZOFFSETTO:+0100
TZNAME:Europe/Paris CET
END:STANDARD
BEGIN:STANDARD
DTSTART:20251026T020000
RDATE:20260329T030000
TZOFFSETFROM:+0200
TZOFFSETTO:+0100
TZNAME:Europe/Paris CET
END:STANDARD
BEGIN:STANDARD
DTSTART:20261025T020000
RDATE:20270328T030000
TZOFFSETFROM:+0200
TZOFFSETTO:+0100
TZNAME:Europe/Paris CET
END:STANDARD
BEGIN:DAYLIGHT
DTSTART:20160327T030000
RDATE:20161030T020000
TZOFFSETFROM:+0100
TZOFFSETTO:+0200
TZNAME:Europe/Paris CEST
END:DAYLIGHT
BEGIN:DAYLIGHT
DTSTART:20170326T030000
RDATE:20171029T020000
TZOFFSETFROM:+0100
TZOFFSETTO:+0200
TZNAME:Europe/Paris CEST
END:DAYLIGHT
BEGIN:DAYLIGHT
DTSTART:20180325T030000
RDATE:20181028T020000
TZOFFSETFROM:+0100
TZOFFSETTO:+0200
TZNAME:Europe/Paris CEST
END:DAYLIGHT
BEGIN:DAYLIGHT
DTSTART:20190331T030000
RDATE:20191027T020000
TZOFFSETFROM:+0100
TZOFFSETTO:+0200
TZNAME:Europe/Paris CEST
END:DAYLIGHT
BEGIN:DAYLIGHT
DTSTART:20200329T030000
RDATE:20201025T020000
TZOFFSETFROM:+0100
TZOFFSETTO:+0200
TZNAME:Europe/Paris CEST
END:DAYLIGHT
BEGIN:DAYLIGHT
DTSTART:20210328T030000
RDATE:20211031T020000
TZOFFSETFROM:+0100
TZOFFSETTO:+0200
TZNAME:Europe/Paris CEST
END:DAYLIGHT
BEGIN:DAYLIGHT
DTSTART:20220327T030000
RDATE:20221030T020000
TZOFFSETFROM:+0100
TZOFFSETTO:+0200
TZNAME:Europe/Paris CEST
END:DAYLIGHT
BEGIN:DAYLIGHT
DTSTART:20230326T030000
RDATE:20231029T020000
TZOFFSETFROM:+0100
TZOFFSETTO:+0200
TZNAME:Europe/Paris CEST
END:DAYLIGHT
BEGIN:DAYLIGHT
DTSTART:20240331T030000
RDATE:20241027T020000
TZOFFSETFROM:+0100
TZOFFSETTO:+0200
TZNAME:Europe/Paris CEST
END:DAYLIGHT
BEGIN:DAYLIGHT
DTSTART:20250330T030000
RDATE:20251026T020000
TZOFFSETFROM:+0100
TZOFFSETTO:+0200
TZNAME:Europe/Paris CEST
END:DAYLIGHT
BEGIN:DAYLIGHT
DTSTART:20260329T030000
RDATE:20261025T020000
TZOFFSETFROM:+0100
TZOFFSETTO:+0200
TZNAME:Europe/Paris CEST
END:DAYLIGHT
END:VTIMEZONE
BEGIN:VEVENT
UID:295e52306804e44913d940f4cd0dbe59
CATEGORIES:Opens et Promos (alpin)
CREATED:20170216T171527
SUMMARY:OPEN+PROMO Prix de la ville de St Maurice **REPORTE**
URL;VALUE=URI:https://skivosges.net/agenda/a-venir/detailevenement/806/-/open-promo-prix-
 de-la-ville-de-st-maurice-reporte?tmpl=component
DESCRIPTION:OPEN+PROMO Prix de la ville de St Maurice (Epreuve reportée, date à determi
 ner)\n - Codex évenement AMVT0070\n - Lieu : ROUGE GAZON\n - Station : ROUG
 E GAZON\n - Organisateur : 14063 SKIEURS DE ST MAURICE/MOSELLE\n - Courriel
  : RegularLabs.EmailProtector.unCloak("ep_b8a89e7c");\n - Autres informatio
 ns : Reportee a une date ulterieure&lt;br&gt;merci aux clubs ayant fait des
  inscriptionsPériode d'inscription à l'evènement du mercredi 15 février 201
 7 à 01:00 au lundi 18 décembre 2017 à 19:00 (Inscriptions impossibles).Le t
 ype de titres Fédéraux autorisé n'est pas défini. Veuillez contacter l'orga
 nisateur et lui signaler le problème.\n - Voir les informations dans l'agen
 da... (/index.php?option=com_jevents&amp;task=icalevent.detail&amp;evid=801
 &amp;Itemid=6289) Cet évènement a été importé depuis :https://skivosges.net
 /agenda/a-venir/detailevenement/806/-/open-promo-prix-de-la-ville-de-st-mau
 rice-reporte?tmpl=component (https://skivosges.net/agenda/a-venir/detaileve
 nement/806/-/open-promo-prix-de-la-ville-de-st-maurice-reporte?tmpl=compone
 nt)
X-ALT-DESC;FMTTYPE=text/html:<!-- #gskiepreuve code généré par le plugin jevents pour GskiEpreuves. Ne p
 as modifier cette ligne, ni tout le contenu suivant  #gskiepreuve --><div c
 lass="gski-evenement_infos"><div class="gski-evenement-nom">OPEN+PROMO Prix
  de la ville de St Maurice</div><div class="gski-evenement-report"> <font c
 lass="gskiattention">(Epreuve reportée, date à determiner)</font></div><ul 
 class="gski-evenement-liste-infos"><li>Codex évenement AMVT0070</li><li>Lie
 u : ROUGE GAZON</li><li>Station : ROUGE GAZON</li><li>Organisateur : 14063 
 SKIEURS DE ST MAURICE/MOSELLE</li><li>Courriel : <!-- Cette adresse électro
 nique est protégée contre les robots spammeurs. --><span class="cloaked_ema
 il ep_b8a89e7c"><span data-ep-b="" data-ep-a="d&#97;n&#105;&#101;"><span da
 ta-ep-a="l&#46;m&#111;&#114;" data-ep-b="oo.&#102;&#114;"><span data-ep-a="
 &#101;&#108;2&#53;&#64;" data-ep-b="w&#97;&#110;a&#100;"></span></span></sp
 an></span><script>RegularLabs.EmailProtector.unCloak("ep_b8a89e7c");</scrip
 t></li><li><span class="gski-evenement-obs">Autres informations : Reportee 
 a une date ulterieure&lt;br&gt;merci aux clubs ayant fait des inscriptions<
 /span></li></ul><div class="gski-evenement-infos-2"><div class="gski-evenem
 ent-info-inscriptions"><div class="gski-evenement-inscriptions-periodes">Pé
 riode d'inscription à l'evènement du mercredi 15 février 2017 à 01:00 au lu
 ndi 18 décembre 2017 à 19:00 <span class="gski-evenement-inscriptions-impos
 sibles">(Inscriptions impossibles).</span><div class="gski-evenement-inscri
 ptions-types-titres">Le type de titres Fédéraux autorisé n'est pas défini. 
 Veuillez contacter l'organisateur et lui signaler le problème.</div></div><
 /div><div class="gskiepreuves-links"><ul><li><a href="https://skivosges.net
 /index.php?option=com_jevents&task=icalevent.detail&evid=801&Itemid=6289">V
 oir les informations dans l'agenda...</a></li></ul></div></div"><!-- #/gski
 epreuve fin du dode généré par le plugin jevents pour GskiEpreuves. . Ne pa
 s modifier cette ligne, ni tout le contenu précedant.  #/gskiepreuve --> <a
  href="https://skivosges.net/agenda/a-venir/detailevenement/806/-/open-prom
 o-prix-de-la-ville-de-st-maurice-reporte?tmpl=component">Cet évènement a ét
 é importé depuis :https://skivosges.net/agenda/a-venir/detailevenement/806/
 -/open-promo-prix-de-la-ville-de-st-maurice-reporte?tmpl=component</a>DTSTAMP:20260424T083652
DTSTART;TZID=Europe/Paris;VALUE=DATE:20170219
DTEND;TZID=Europe/Paris;VALUE=DATE:20170220
SEQUENCE:0
TRANSP:OPAQUE
END:VEVENT
END:VCALENDAR