BEGIN:VCALENDAR
VERSION:2.0
PRODID:-//jEvents 2.0 for Joomla//EN
CALSCALE:GREGORIAN
METHOD:PUBLISH
BEGIN:VTIMEZONE
TZID:Europe/Paris
BEGIN:STANDARD
DTSTART:20161030T020000
RDATE:20170326T030000
TZOFFSETFROM:+0200
TZOFFSETTO:+0100
TZNAME:Europe/Paris CET
END:STANDARD
BEGIN:STANDARD
DTSTART:20171029T020000
RDATE:20180325T030000
TZOFFSETFROM:+0200
TZOFFSETTO:+0100
TZNAME:Europe/Paris CET
END:STANDARD
BEGIN:STANDARD
DTSTART:20181028T020000
RDATE:20190331T030000
TZOFFSETFROM:+0200
TZOFFSETTO:+0100
TZNAME:Europe/Paris CET
END:STANDARD
BEGIN:STANDARD
DTSTART:20191027T020000
RDATE:20200329T030000
TZOFFSETFROM:+0200
TZOFFSETTO:+0100
TZNAME:Europe/Paris CET
END:STANDARD
BEGIN:STANDARD
DTSTART:20201025T020000
RDATE:20210328T030000
TZOFFSETFROM:+0200
TZOFFSETTO:+0100
TZNAME:Europe/Paris CET
END:STANDARD
BEGIN:STANDARD
DTSTART:20211031T020000
RDATE:20220327T030000
TZOFFSETFROM:+0200
TZOFFSETTO:+0100
TZNAME:Europe/Paris CET
END:STANDARD
BEGIN:STANDARD
DTSTART:20221030T020000
RDATE:20230326T030000
TZOFFSETFROM:+0200
TZOFFSETTO:+0100
TZNAME:Europe/Paris CET
END:STANDARD
BEGIN:STANDARD
DTSTART:20231029T020000
RDATE:20240331T030000
TZOFFSETFROM:+0200
TZOFFSETTO:+0100
TZNAME:Europe/Paris CET
END:STANDARD
BEGIN:STANDARD
DTSTART:20241027T020000
RDATE:20250330T030000
TZOFFSETFROM:+0200
TZOFFSETTO:+0100
TZNAME:Europe/Paris CET
END:STANDARD
BEGIN:STANDARD
DTSTART:20251026T020000
RDATE:20260329T030000
TZOFFSETFROM:+0200
TZOFFSETTO:+0100
TZNAME:Europe/Paris CET
END:STANDARD
BEGIN:STANDARD
DTSTART:20261025T020000
RDATE:20270328T030000
TZOFFSETFROM:+0200
TZOFFSETTO:+0100
TZNAME:Europe/Paris CET
END:STANDARD
BEGIN:DAYLIGHT
DTSTART:20160727T000000
RDATE:20161030T020000
TZOFFSETFROM:+0100
TZOFFSETTO:+0200
TZNAME:Europe/Paris CEST
END:DAYLIGHT
BEGIN:DAYLIGHT
DTSTART:20170326T030000
RDATE:20171029T020000
TZOFFSETFROM:+0100
TZOFFSETTO:+0200
TZNAME:Europe/Paris CEST
END:DAYLIGHT
BEGIN:DAYLIGHT
DTSTART:20180325T030000
RDATE:20181028T020000
TZOFFSETFROM:+0100
TZOFFSETTO:+0200
TZNAME:Europe/Paris CEST
END:DAYLIGHT
BEGIN:DAYLIGHT
DTSTART:20190331T030000
RDATE:20191027T020000
TZOFFSETFROM:+0100
TZOFFSETTO:+0200
TZNAME:Europe/Paris CEST
END:DAYLIGHT
BEGIN:DAYLIGHT
DTSTART:20200329T030000
RDATE:20201025T020000
TZOFFSETFROM:+0100
TZOFFSETTO:+0200
TZNAME:Europe/Paris CEST
END:DAYLIGHT
BEGIN:DAYLIGHT
DTSTART:20210328T030000
RDATE:20211031T020000
TZOFFSETFROM:+0100
TZOFFSETTO:+0200
TZNAME:Europe/Paris CEST
END:DAYLIGHT
BEGIN:DAYLIGHT
DTSTART:20220327T030000
RDATE:20221030T020000
TZOFFSETFROM:+0100
TZOFFSETTO:+0200
TZNAME:Europe/Paris CEST
END:DAYLIGHT
BEGIN:DAYLIGHT
DTSTART:20230326T030000
RDATE:20231029T020000
TZOFFSETFROM:+0100
TZOFFSETTO:+0200
TZNAME:Europe/Paris CEST
END:DAYLIGHT
BEGIN:DAYLIGHT
DTSTART:20240331T030000
RDATE:20241027T020000
TZOFFSETFROM:+0100
TZOFFSETTO:+0200
TZNAME:Europe/Paris CEST
END:DAYLIGHT
BEGIN:DAYLIGHT
DTSTART:20250330T030000
RDATE:20251026T020000
TZOFFSETFROM:+0100
TZOFFSETTO:+0200
TZNAME:Europe/Paris CEST
END:DAYLIGHT
BEGIN:DAYLIGHT
DTSTART:20260329T030000
RDATE:20261025T020000
TZOFFSETFROM:+0100
TZOFFSETTO:+0200
TZNAME:Europe/Paris CEST
END:DAYLIGHT
END:VTIMEZONE
BEGIN:VEVENT
UID:bd8906151a8c9b7ffe491a05f8ee46c1
CATEGORIES:Compétition Saut
CREATED:20170920T182831
SUMMARY:Tournée des Vosges
URL;VALUE=URI:https://skivosges.net/agenda/a-venir/detailevenement/829/-/tournee-des-vosg
 es?tmpl=component
DESCRIPTION:<!-- #gskiepreuve code généré par le plugin jevents pour GskiEpreuves. Ne p
 as modifier cette ligne, ni tout le contenu suivant  #gskiepreuve --><div c
 lass="gski-evenement_infos"><div class="gski-evenement-nom">Tournée des Vos
 ges</div><div class="gski-evenement-report"></div><ul class="gski-evenement
 -liste-infos"><li>Codex évenement TNAT0170</li><li>Station : XONRUPT</li><l
 i>Organisateur : 14102 SKI CLUB XONRUPT</li></ul><div class="gski-evenement
 -infos-2"><div class="gski-evenement-info-inscriptions"><div class="gski-ev
 enement-inscriptions-periodes">Période d'inscription à l'evènement du vendr
 edi 21 juillet 2017 à 02:00 au mercredi 26 juillet 2017 à 14:00 <span class
 ="gski-evenement-inscriptions-impossibles">(Inscriptions impossibles).</spa
 n><div class="gski-evenement-inscriptions-types-titres">Inscriptions ouvert
 es aux detenteurs des titres Fédéraux valides suivants : Licenciés Compétit
 eurs</div></div></div><div class="gski-evenement-epreuves"><div class="gski
 -evenement-epreuves-titres">Epreuves :</div><ul class="gski-evenement-epreu
 ves-list"><li><div class="gski-epreuve-date">Le vendredi 28 juillet 2017</d
 iv><ul class="gski-epreuve-liste-infos"><li>Codex épreuve TNAM0171</li><li>
 Saut Special</li><li>Catégorie(s) : U9 a U13 (Garçons)</li></ul></li><li><d
 iv class="gski-epreuve-date">Le vendredi 28 juillet 2017</div><ul class="gs
 ki-epreuve-liste-infos"><li>Codex épreuve TNAF0171</li><li>Saut Special</li
 ><li>Catégorie(s) : U9 a U13 (Filles)</li></ul></li><li><div class="gski-ep
 reuve-date">Le vendredi 28 juillet 2017</div><ul class="gski-epreuve-liste-
 infos"><li>Codex épreuve TNAM0172</li><li>Saut Special</li><li>Catégorie(s)
  : U15 (Garçons)</li></ul></li><li><div class="gski-epreuve-date">Le vendre
 di 28 juillet 2017</div><ul class="gski-epreuve-liste-infos"><li>Codex épre
 uve TNAF0172</li><li>Saut Special</li><li>Catégorie(s) : U15 (Filles)</li><
 /ul></li></ul></div><div class="gskiepreuves-links"><ul><li><a href="/index
 .php?option=com_jevents&task=icalevent.detail&evid=824&Itemid=6289">Voir le
 s informations dans l'agenda...</a></li></ul></div></div"><!-- #/gskiepreuv
 e fin du dode généré par le plugin jevents pour GskiEpreuves. . Ne pas modi
 fier cette ligne, ni tout le contenu précedant.  #/gskiepreuve --> <a href=
 "https://skivosges.net/agenda/a-venir/detailevenement/829/-/tournee-des-vos
 ges?tmpl=component">Cet évènement a été importé depuis :https://skivosges.n
 et/agenda/a-venir/detailevenement/829/-/tournee-des-vosges?tmpl=component</
 a>
X-ALT-DESC;FMTTYPE=text/html:<!-- #gskiepreuve code généré par le plugin jevents pour GskiEpreuves. Ne p
 as modifier cette ligne, ni tout le contenu suivant  #gskiepreuve --><div c
 lass="gski-evenement_infos"><div class="gski-evenement-nom">Tournée des Vos
 ges</div><div class="gski-evenement-report"></div><ul class="gski-evenement
 -liste-infos"><li>Codex évenement TNAT0170</li><li>Station : XONRUPT</li><l
 i>Organisateur : 14102 SKI CLUB XONRUPT</li></ul><div class="gski-evenement
 -infos-2"><div class="gski-evenement-info-inscriptions"><div class="gski-ev
 enement-inscriptions-periodes">Période d'inscription à l'evènement du vendr
 edi 21 juillet 2017 à 02:00 au mercredi 26 juillet 2017 à 14:00 <span class
 ="gski-evenement-inscriptions-impossibles">(Inscriptions impossibles).</spa
 n><div class="gski-evenement-inscriptions-types-titres">Inscriptions ouvert
 es aux detenteurs des titres Fédéraux valides suivants : Licenciés Compétit
 eurs</div></div></div><div class="gski-evenement-epreuves"><div class="gski
 -evenement-epreuves-titres">Epreuves :</div><ul class="gski-evenement-epreu
 ves-list"><li><div class="gski-epreuve-date">Le vendredi 28 juillet 2017</d
 iv><ul class="gski-epreuve-liste-infos"><li>Codex épreuve TNAM0171</li><li>
 Saut Special</li><li>Catégorie(s) : U9 a U13 (Garçons)</li></ul></li><li><d
 iv class="gski-epreuve-date">Le vendredi 28 juillet 2017</div><ul class="gs
 ki-epreuve-liste-infos"><li>Codex épreuve TNAF0171</li><li>Saut Special</li
 ><li>Catégorie(s) : U9 a U13 (Filles)</li></ul></li><li><div class="gski-ep
 reuve-date">Le vendredi 28 juillet 2017</div><ul class="gski-epreuve-liste-
 infos"><li>Codex épreuve TNAM0172</li><li>Saut Special</li><li>Catégorie(s)
  : U15 (Garçons)</li></ul></li><li><div class="gski-epreuve-date">Le vendre
 di 28 juillet 2017</div><ul class="gski-epreuve-liste-infos"><li>Codex épre
 uve TNAF0172</li><li>Saut Special</li><li>Catégorie(s) : U15 (Filles)</li><
 /ul></li></ul></div><div class="gskiepreuves-links"><ul><li><a href="https:
 //skivosges.net/index.php?option=com_jevents&task=icalevent.detail&evid=824
 &Itemid=6289">Voir les informations dans l'agenda...</a></li></ul></div></d
 iv"><!-- #/gskiepreuve fin du dode généré par le plugin jevents pour GskiEp
 reuves. . Ne pas modifier cette ligne, ni tout le contenu précedant.  #/gsk
 iepreuve --> <a href="https://skivosges.net/agenda/a-venir/detailevenement/
 829/-/tournee-des-vosges?tmpl=component">Cet évènement a été importé depuis
  :https://skivosges.net/agenda/a-venir/detailevenement/829/-/tournee-des-vo
 sges?tmpl=component</a>DTSTAMP:20260424T002603
DTSTART;TZID=Europe/Paris;VALUE=DATE:20170728
DTEND;TZID=Europe/Paris;VALUE=DATE:20170729
SEQUENCE:0
TRANSP:OPAQUE
END:VEVENT
END:VCALENDAR