BEGIN:VCALENDAR
VERSION:2.0
PRODID:-//jEvents 2.0 for Joomla//EN
CALSCALE:GREGORIAN
METHOD:PUBLISH
BEGIN:VTIMEZONE
TZID:Europe/Paris
BEGIN:STANDARD
DTSTART:20161030T020000
RDATE:20170326T030000
TZOFFSETFROM:+0200
TZOFFSETTO:+0100
TZNAME:Europe/Paris CET
END:STANDARD
BEGIN:STANDARD
DTSTART:20171029T020000
RDATE:20180325T030000
TZOFFSETFROM:+0200
TZOFFSETTO:+0100
TZNAME:Europe/Paris CET
END:STANDARD
BEGIN:STANDARD
DTSTART:20181028T020000
RDATE:20190331T030000
TZOFFSETFROM:+0200
TZOFFSETTO:+0100
TZNAME:Europe/Paris CET
END:STANDARD
BEGIN:STANDARD
DTSTART:20191027T020000
RDATE:20200329T030000
TZOFFSETFROM:+0200
TZOFFSETTO:+0100
TZNAME:Europe/Paris CET
END:STANDARD
BEGIN:STANDARD
DTSTART:20201025T020000
RDATE:20210328T030000
TZOFFSETFROM:+0200
TZOFFSETTO:+0100
TZNAME:Europe/Paris CET
END:STANDARD
BEGIN:STANDARD
DTSTART:20211031T020000
RDATE:20220327T030000
TZOFFSETFROM:+0200
TZOFFSETTO:+0100
TZNAME:Europe/Paris CET
END:STANDARD
BEGIN:STANDARD
DTSTART:20221030T020000
RDATE:20230326T030000
TZOFFSETFROM:+0200
TZOFFSETTO:+0100
TZNAME:Europe/Paris CET
END:STANDARD
BEGIN:STANDARD
DTSTART:20231029T020000
RDATE:20240331T030000
TZOFFSETFROM:+0200
TZOFFSETTO:+0100
TZNAME:Europe/Paris CET
END:STANDARD
BEGIN:STANDARD
DTSTART:20241027T020000
RDATE:20250330T030000
TZOFFSETFROM:+0200
TZOFFSETTO:+0100
TZNAME:Europe/Paris CET
END:STANDARD
BEGIN:STANDARD
DTSTART:20251026T020000
RDATE:20260329T030000
TZOFFSETFROM:+0200
TZOFFSETTO:+0100
TZNAME:Europe/Paris CET
END:STANDARD
BEGIN:STANDARD
DTSTART:20261025T020000
RDATE:20270328T030000
TZOFFSETFROM:+0200
TZOFFSETTO:+0100
TZNAME:Europe/Paris CET
END:STANDARD
BEGIN:DAYLIGHT
DTSTART:20160817T000000
RDATE:20161030T020000
TZOFFSETFROM:+0100
TZOFFSETTO:+0200
TZNAME:Europe/Paris CEST
END:DAYLIGHT
BEGIN:DAYLIGHT
DTSTART:20170326T030000
RDATE:20171029T020000
TZOFFSETFROM:+0100
TZOFFSETTO:+0200
TZNAME:Europe/Paris CEST
END:DAYLIGHT
BEGIN:DAYLIGHT
DTSTART:20180325T030000
RDATE:20181028T020000
TZOFFSETFROM:+0100
TZOFFSETTO:+0200
TZNAME:Europe/Paris CEST
END:DAYLIGHT
BEGIN:DAYLIGHT
DTSTART:20190331T030000
RDATE:20191027T020000
TZOFFSETFROM:+0100
TZOFFSETTO:+0200
TZNAME:Europe/Paris CEST
END:DAYLIGHT
BEGIN:DAYLIGHT
DTSTART:20200329T030000
RDATE:20201025T020000
TZOFFSETFROM:+0100
TZOFFSETTO:+0200
TZNAME:Europe/Paris CEST
END:DAYLIGHT
BEGIN:DAYLIGHT
DTSTART:20210328T030000
RDATE:20211031T020000
TZOFFSETFROM:+0100
TZOFFSETTO:+0200
TZNAME:Europe/Paris CEST
END:DAYLIGHT
BEGIN:DAYLIGHT
DTSTART:20220327T030000
RDATE:20221030T020000
TZOFFSETFROM:+0100
TZOFFSETTO:+0200
TZNAME:Europe/Paris CEST
END:DAYLIGHT
BEGIN:DAYLIGHT
DTSTART:20230326T030000
RDATE:20231029T020000
TZOFFSETFROM:+0100
TZOFFSETTO:+0200
TZNAME:Europe/Paris CEST
END:DAYLIGHT
BEGIN:DAYLIGHT
DTSTART:20240331T030000
RDATE:20241027T020000
TZOFFSETFROM:+0100
TZOFFSETTO:+0200
TZNAME:Europe/Paris CEST
END:DAYLIGHT
BEGIN:DAYLIGHT
DTSTART:20250330T030000
RDATE:20251026T020000
TZOFFSETFROM:+0100
TZOFFSETTO:+0200
TZNAME:Europe/Paris CEST
END:DAYLIGHT
BEGIN:DAYLIGHT
DTSTART:20260329T030000
RDATE:20261025T020000
TZOFFSETFROM:+0100
TZOFFSETTO:+0200
TZNAME:Europe/Paris CEST
END:DAYLIGHT
END:VTIMEZONE
BEGIN:VEVENT
UID:85a5ca73e0953941bc5b9cdba5d0b13f
CATEGORIES:Compétition Saut
CREATED:20170920T182831
SUMMARY:SAMSE Summer Tour
URL;VALUE=URI:https://skivosges.net/agenda/a-venir/detailevenement/835/-/samse-summer-tou
 r?tmpl=component
DESCRIPTION:<!-- #gskiepreuve code généré par le plugin jevents pour GskiEpreuves. Ne p
 as modifier cette ligne, ni tout le contenu suivant  #gskiepreuve --><div c
 lass="gski-evenement_infos"><div class="gski-evenement-nom">SAMSE Summer To
 ur</div><div class="gski-evenement-report"></div><ul class="gski-evenement-
 liste-infos"><li>Codex évenement TNAT0250</li><li>Station : GERARDMER</li><
 li>Organisateur : 14469 A.S GERARDMER SKI NORDIQUE</li></ul><div class="gsk
 i-evenement-infos-2"><div class="gski-evenement-info-inscriptions"><div cla
 ss="gski-evenement-inscriptions-periodes">Période d'inscription à l'evèneme
 nt du vendredi 11 août 2017 à 02:00 au mercredi 16 août 2017 à 14:00 <span 
 class="gski-evenement-inscriptions-impossibles">(Inscriptions impossibles).
 </span><div class="gski-evenement-inscriptions-types-titres">Inscriptions o
 uvertes aux detenteurs des titres Fédéraux valides suivants : Licenciés Com
 pétiteurs</div></div></div><div class="gski-evenement-epreuves"><div class=
 "gski-evenement-epreuves-titres">Epreuves :</div><ul class="gski-evenement-
 epreuves-list"><li><div class="gski-epreuve-date">Le vendredi 18 août 2017<
 /div><ul class="gski-epreuve-liste-infos"><li>Codex épreuve TNAM0251</li><l
 i>Saut Special</li><li>Catégorie(s) : Toutes les Categories (Garçons)</li><
 /ul></li><li><div class="gski-epreuve-date">Le vendredi 18 août 2017</div><
 ul class="gski-epreuve-liste-infos"><li>Codex épreuve TNAF0251</li><li>Saut
  Special</li><li>Catégorie(s) : Toutes les Categories (Filles)</li></ul></l
 i><li><div class="gski-epreuve-date">Le vendredi 18 août 2017</div><ul clas
 s="gski-epreuve-liste-infos"><li>Codex épreuve TNAM0252</li><li>Saut Specia
 l</li><li>Catégorie(s) : U9 a U17 (Garçons)</li></ul></li><li><div class="g
 ski-epreuve-date">Le vendredi 18 août 2017</div><ul class="gski-epreuve-lis
 te-infos"><li>Codex épreuve TNAF0252</li><li>Saut Special</li><li>Catégorie
 (s) : U9 a U17 (Filles)</li></ul></li></ul></div><div class="gskiepreuves-l
 inks"><ul><li><a href="/index.php?option=com_jevents&task=icalevent.detail&
 evid=830&Itemid=6289">Voir les informations dans l'agenda...</a></li></ul><
 /div></div"><!-- #/gskiepreuve fin du dode généré par le plugin jevents pou
 r GskiEpreuves. . Ne pas modifier cette ligne, ni tout le contenu précedant
 .  #/gskiepreuve --> <a href="https://skivosges.net/agenda/a-venir/detailev
 enement/835/-/samse-summer-tour?tmpl=component">Cet évènement a été importé
  depuis :https://skivosges.net/agenda/a-venir/detailevenement/835/-/samse-s
 ummer-tour?tmpl=component</a>
X-ALT-DESC;FMTTYPE=text/html:<!-- #gskiepreuve code généré par le plugin jevents pour GskiEpreuves. Ne p
 as modifier cette ligne, ni tout le contenu suivant  #gskiepreuve --><div c
 lass="gski-evenement_infos"><div class="gski-evenement-nom">SAMSE Summer To
 ur</div><div class="gski-evenement-report"></div><ul class="gski-evenement-
 liste-infos"><li>Codex évenement TNAT0250</li><li>Station : GERARDMER</li><
 li>Organisateur : 14469 A.S GERARDMER SKI NORDIQUE</li></ul><div class="gsk
 i-evenement-infos-2"><div class="gski-evenement-info-inscriptions"><div cla
 ss="gski-evenement-inscriptions-periodes">Période d'inscription à l'evèneme
 nt du vendredi 11 août 2017 à 02:00 au mercredi 16 août 2017 à 14:00 <span 
 class="gski-evenement-inscriptions-impossibles">(Inscriptions impossibles).
 </span><div class="gski-evenement-inscriptions-types-titres">Inscriptions o
 uvertes aux detenteurs des titres Fédéraux valides suivants : Licenciés Com
 pétiteurs</div></div></div><div class="gski-evenement-epreuves"><div class=
 "gski-evenement-epreuves-titres">Epreuves :</div><ul class="gski-evenement-
 epreuves-list"><li><div class="gski-epreuve-date">Le vendredi 18 août 2017<
 /div><ul class="gski-epreuve-liste-infos"><li>Codex épreuve TNAM0251</li><l
 i>Saut Special</li><li>Catégorie(s) : Toutes les Categories (Garçons)</li><
 /ul></li><li><div class="gski-epreuve-date">Le vendredi 18 août 2017</div><
 ul class="gski-epreuve-liste-infos"><li>Codex épreuve TNAF0251</li><li>Saut
  Special</li><li>Catégorie(s) : Toutes les Categories (Filles)</li></ul></l
 i><li><div class="gski-epreuve-date">Le vendredi 18 août 2017</div><ul clas
 s="gski-epreuve-liste-infos"><li>Codex épreuve TNAM0252</li><li>Saut Specia
 l</li><li>Catégorie(s) : U9 a U17 (Garçons)</li></ul></li><li><div class="g
 ski-epreuve-date">Le vendredi 18 août 2017</div><ul class="gski-epreuve-lis
 te-infos"><li>Codex épreuve TNAF0252</li><li>Saut Special</li><li>Catégorie
 (s) : U9 a U17 (Filles)</li></ul></li></ul></div><div class="gskiepreuves-l
 inks"><ul><li><a href="https://skivosges.net/index.php?option=com_jevents&t
 ask=icalevent.detail&evid=830&Itemid=6289">Voir les informations dans l'age
 nda...</a></li></ul></div></div"><!-- #/gskiepreuve fin du dode généré par 
 le plugin jevents pour GskiEpreuves. . Ne pas modifier cette ligne, ni tout
  le contenu précedant.  #/gskiepreuve --> <a href="https://skivosges.net/ag
 enda/a-venir/detailevenement/835/-/samse-summer-tour?tmpl=component">Cet év
 ènement a été importé depuis :https://skivosges.net/agenda/a-venir/detailev
 enement/835/-/samse-summer-tour?tmpl=component</a>DTSTAMP:20260424T012606
DTSTART;TZID=Europe/Paris;VALUE=DATE:20170818
DTEND;TZID=Europe/Paris;VALUE=DATE:20170820
SEQUENCE:0
TRANSP:OPAQUE
END:VEVENT
END:VCALENDAR