BEGIN:VCALENDAR
VERSION:2.0
PRODID:-//jEvents 2.0 for Joomla//EN
CALSCALE:GREGORIAN
METHOD:PUBLISH
BEGIN:VTIMEZONE
TZID:Europe/Paris
BEGIN:STANDARD
DTSTART:20161030T020000
RDATE:20170326T030000
TZOFFSETFROM:+0200
TZOFFSETTO:+0100
TZNAME:Europe/Paris CET
END:STANDARD
BEGIN:STANDARD
DTSTART:20171029T020000
RDATE:20180325T030000
TZOFFSETFROM:+0200
TZOFFSETTO:+0100
TZNAME:Europe/Paris CET
END:STANDARD
BEGIN:STANDARD
DTSTART:20181028T020000
RDATE:20190331T030000
TZOFFSETFROM:+0200
TZOFFSETTO:+0100
TZNAME:Europe/Paris CET
END:STANDARD
BEGIN:STANDARD
DTSTART:20191027T020000
RDATE:20200329T030000
TZOFFSETFROM:+0200
TZOFFSETTO:+0100
TZNAME:Europe/Paris CET
END:STANDARD
BEGIN:STANDARD
DTSTART:20201025T020000
RDATE:20210328T030000
TZOFFSETFROM:+0200
TZOFFSETTO:+0100
TZNAME:Europe/Paris CET
END:STANDARD
BEGIN:STANDARD
DTSTART:20211031T020000
RDATE:20220327T030000
TZOFFSETFROM:+0200
TZOFFSETTO:+0100
TZNAME:Europe/Paris CET
END:STANDARD
BEGIN:STANDARD
DTSTART:20221030T020000
RDATE:20230326T030000
TZOFFSETFROM:+0200
TZOFFSETTO:+0100
TZNAME:Europe/Paris CET
END:STANDARD
BEGIN:STANDARD
DTSTART:20231029T020000
RDATE:20240331T030000
TZOFFSETFROM:+0200
TZOFFSETTO:+0100
TZNAME:Europe/Paris CET
END:STANDARD
BEGIN:STANDARD
DTSTART:20241027T020000
RDATE:20250330T030000
TZOFFSETFROM:+0200
TZOFFSETTO:+0100
TZNAME:Europe/Paris CET
END:STANDARD
BEGIN:STANDARD
DTSTART:20251026T020000
RDATE:20260329T030000
TZOFFSETFROM:+0200
TZOFFSETTO:+0100
TZNAME:Europe/Paris CET
END:STANDARD
BEGIN:STANDARD
DTSTART:20261025T020000
RDATE:20270328T030000
TZOFFSETFROM:+0200
TZOFFSETTO:+0100
TZNAME:Europe/Paris CET
END:STANDARD
BEGIN:DAYLIGHT
DTSTART:20161006T000000
RDATE:20161030T020000
TZOFFSETFROM:+0100
TZOFFSETTO:+0200
TZNAME:Europe/Paris CEST
END:DAYLIGHT
BEGIN:DAYLIGHT
DTSTART:20170326T030000
RDATE:20171029T020000
TZOFFSETFROM:+0100
TZOFFSETTO:+0200
TZNAME:Europe/Paris CEST
END:DAYLIGHT
BEGIN:DAYLIGHT
DTSTART:20180325T030000
RDATE:20181028T020000
TZOFFSETFROM:+0100
TZOFFSETTO:+0200
TZNAME:Europe/Paris CEST
END:DAYLIGHT
BEGIN:DAYLIGHT
DTSTART:20190331T030000
RDATE:20191027T020000
TZOFFSETFROM:+0100
TZOFFSETTO:+0200
TZNAME:Europe/Paris CEST
END:DAYLIGHT
BEGIN:DAYLIGHT
DTSTART:20200329T030000
RDATE:20201025T020000
TZOFFSETFROM:+0100
TZOFFSETTO:+0200
TZNAME:Europe/Paris CEST
END:DAYLIGHT
BEGIN:DAYLIGHT
DTSTART:20210328T030000
RDATE:20211031T020000
TZOFFSETFROM:+0100
TZOFFSETTO:+0200
TZNAME:Europe/Paris CEST
END:DAYLIGHT
BEGIN:DAYLIGHT
DTSTART:20220327T030000
RDATE:20221030T020000
TZOFFSETFROM:+0100
TZOFFSETTO:+0200
TZNAME:Europe/Paris CEST
END:DAYLIGHT
BEGIN:DAYLIGHT
DTSTART:20230326T030000
RDATE:20231029T020000
TZOFFSETFROM:+0100
TZOFFSETTO:+0200
TZNAME:Europe/Paris CEST
END:DAYLIGHT
BEGIN:DAYLIGHT
DTSTART:20240331T030000
RDATE:20241027T020000
TZOFFSETFROM:+0100
TZOFFSETTO:+0200
TZNAME:Europe/Paris CEST
END:DAYLIGHT
BEGIN:DAYLIGHT
DTSTART:20250330T030000
RDATE:20251026T020000
TZOFFSETFROM:+0100
TZOFFSETTO:+0200
TZNAME:Europe/Paris CEST
END:DAYLIGHT
BEGIN:DAYLIGHT
DTSTART:20260329T030000
RDATE:20261025T020000
TZOFFSETFROM:+0100
TZOFFSETTO:+0200
TZNAME:Europe/Paris CEST
END:DAYLIGHT
END:VTIMEZONE
BEGIN:VEVENT
UID:bef0b5a625c6e8c5ff1770d5843d78ed
CATEGORIES:Compétition Saut
CREATED:20170920T182831
SUMMARY:Tournée des 5 tremplins Xonrupt Ventron Bussang La Bresse Gérardmer
URL;VALUE=URI:https://skivosges.net/agenda/a-venir/detailevenement/847/-/tournee-des-5-tr
 emplins-xonrupt-ventron-bussang-la-bresse-gerardmer?tmpl=component
DESCRIPTION:<!-- #gskiepreuve code généré par le plugin jevents pour GskiEpreuves. Ne p
 as modifier cette ligne, ni tout le contenu suivant  #gskiepreuve --><div c
 lass="gski-evenement_infos"><div class="gski-evenement-nom">Tournée des 5 t
 remplins Xonrupt Ventron Bussang La Bresse Gérardmer</div><div class="gski-
 evenement-report"></div><ul class="gski-evenement-liste-infos"><li>Codex év
 enement TMVT0240</li><li>Organisateur : </li></ul><div class="gski-evenemen
 t-infos-2"><div class="gski-evenement-info-inscriptions"><div class="gski-e
 venement-inscriptions-periodes">Période d'inscription à l'evènement du same
 di 30 septembre 2017 à 02:00 au jeudi 05 octobre 2017 à 14:00 <span class="
 gski-evenement-inscriptions-impossibles">(Inscriptions impossibles).</span>
 <div class="gski-evenement-inscriptions-types-titres">Inscriptions ouvertes
  aux detenteurs des titres Fédéraux valides suivants : Licenciés Compétiteu
 rs</div></div></div><div class="gski-evenement-epreuves"><div class="gski-e
 venement-epreuves-titres">Epreuves :</div><ul class="gski-evenement-epreuve
 s-list"><li><div class="gski-epreuve-date">Le samedi 07 octobre 2017</div><
 ul class="gski-epreuve-liste-infos"><li>Codex épreuve TMVF0241</li><li>Saut
  Special</li><li>Catégorie(s) : U20 (Dames)</li></ul></li><li><div class="g
 ski-epreuve-date">Le samedi 07 octobre 2017</div><ul class="gski-epreuve-li
 ste-infos"><li>Codex épreuve TMVM0241</li><li>Saut Special</li><li>Catégori
 e(s) : U20 (Hommes)</li></ul></li><li><div class="gski-epreuve-date">Le sam
 edi 07 octobre 2017</div><ul class="gski-epreuve-liste-infos"><li>Codex épr
 euve TMVF0242</li><li>Saut Special</li><li>Catégorie(s) : Senior (Dames)</l
 i></ul></li><li><div class="gski-epreuve-date">Le samedi 07 octobre 2017</d
 iv><ul class="gski-epreuve-liste-infos"><li>Codex épreuve TMVM0242</li><li>
 Saut Special</li><li>Catégorie(s) : Senior (Hommes)</li></ul></li></ul></di
 v><div class="gskiepreuves-links"><ul><li><a href="/index.php?option=com_je
 vents&task=icalevent.detail&evid=842&Itemid=6289">Voir les informations dan
 s l'agenda...</a></li></ul></div></div"><!-- #/gskiepreuve fin du dode géné
 ré par le plugin jevents pour GskiEpreuves. . Ne pas modifier cette ligne, 
 ni tout le contenu précedant.  #/gskiepreuve --> <a href="https://skivosges
 .net/agenda/a-venir/detailevenement/847/-/tournee-des-5-tremplins-xonrupt-v
 entron-bussang-la-bresse-gerardmer?tmpl=component">Cet évènement a été impo
 rté depuis :https://skivosges.net/agenda/a-venir/detailevenement/847/-/tour
 nee-des-5-tremplins-xonrupt-ventron-bussang-la-bresse-gerardmer?tmpl=compon
 ent</a>
X-ALT-DESC;FMTTYPE=text/html:<!-- #gskiepreuve code généré par le plugin jevents pour GskiEpreuves. Ne p
 as modifier cette ligne, ni tout le contenu suivant  #gskiepreuve --><div c
 lass="gski-evenement_infos"><div class="gski-evenement-nom">Tournée des 5 t
 remplins Xonrupt Ventron Bussang La Bresse Gérardmer</div><div class="gski-
 evenement-report"></div><ul class="gski-evenement-liste-infos"><li>Codex év
 enement TMVT0240</li><li>Organisateur : </li></ul><div class="gski-evenemen
 t-infos-2"><div class="gski-evenement-info-inscriptions"><div class="gski-e
 venement-inscriptions-periodes">Période d'inscription à l'evènement du same
 di 30 septembre 2017 à 02:00 au jeudi 05 octobre 2017 à 14:00 <span class="
 gski-evenement-inscriptions-impossibles">(Inscriptions impossibles).</span>
 <div class="gski-evenement-inscriptions-types-titres">Inscriptions ouvertes
  aux detenteurs des titres Fédéraux valides suivants : Licenciés Compétiteu
 rs</div></div></div><div class="gski-evenement-epreuves"><div class="gski-e
 venement-epreuves-titres">Epreuves :</div><ul class="gski-evenement-epreuve
 s-list"><li><div class="gski-epreuve-date">Le samedi 07 octobre 2017</div><
 ul class="gski-epreuve-liste-infos"><li>Codex épreuve TMVF0241</li><li>Saut
  Special</li><li>Catégorie(s) : U20 (Dames)</li></ul></li><li><div class="g
 ski-epreuve-date">Le samedi 07 octobre 2017</div><ul class="gski-epreuve-li
 ste-infos"><li>Codex épreuve TMVM0241</li><li>Saut Special</li><li>Catégori
 e(s) : U20 (Hommes)</li></ul></li><li><div class="gski-epreuve-date">Le sam
 edi 07 octobre 2017</div><ul class="gski-epreuve-liste-infos"><li>Codex épr
 euve TMVF0242</li><li>Saut Special</li><li>Catégorie(s) : Senior (Dames)</l
 i></ul></li><li><div class="gski-epreuve-date">Le samedi 07 octobre 2017</d
 iv><ul class="gski-epreuve-liste-infos"><li>Codex épreuve TMVM0242</li><li>
 Saut Special</li><li>Catégorie(s) : Senior (Hommes)</li></ul></li></ul></di
 v><div class="gskiepreuves-links"><ul><li><a href="https://skivosges.net/in
 dex.php?option=com_jevents&task=icalevent.detail&evid=842&Itemid=6289">Voir
  les informations dans l'agenda...</a></li></ul></div></div"><!-- #/gskiepr
 euve fin du dode généré par le plugin jevents pour GskiEpreuves. . Ne pas m
 odifier cette ligne, ni tout le contenu précedant.  #/gskiepreuve --> <a hr
 ef="https://skivosges.net/agenda/a-venir/detailevenement/847/-/tournee-des-
 5-tremplins-xonrupt-ventron-bussang-la-bresse-gerardmer?tmpl=component">Cet
  évènement a été importé depuis :https://skivosges.net/agenda/a-venir/detai
 levenement/847/-/tournee-des-5-tremplins-xonrupt-ventron-bussang-la-bresse-
 gerardmer?tmpl=component</a>DTSTAMP:20260424T012601
DTSTART;TZID=Europe/Paris;VALUE=DATE:20171007
DTEND;TZID=Europe/Paris;VALUE=DATE:20171008
SEQUENCE:0
TRANSP:OPAQUE
END:VEVENT
END:VCALENDAR