BEGIN:VCALENDAR
VERSION:2.0
PRODID:-//jEvents 2.0 for Joomla//EN
CALSCALE:GREGORIAN
METHOD:PUBLISH
BEGIN:VTIMEZONE
TZID:Europe/Paris
BEGIN:STANDARD
DTSTART:20130207T080000
RDATE:20130331T030000
TZOFFSETFROM:+0200
TZOFFSETTO:+0100
TZNAME:Europe/Paris CET
END:STANDARD
BEGIN:STANDARD
DTSTART:20131027T020000
RDATE:20140330T030000
TZOFFSETFROM:+0200
TZOFFSETTO:+0100
TZNAME:Europe/Paris CET
END:STANDARD
BEGIN:STANDARD
DTSTART:20141026T020000
RDATE:20150329T030000
TZOFFSETFROM:+0200
TZOFFSETTO:+0100
TZNAME:Europe/Paris CET
END:STANDARD
BEGIN:STANDARD
DTSTART:20151025T020000
RDATE:20160327T030000
TZOFFSETFROM:+0200
TZOFFSETTO:+0100
TZNAME:Europe/Paris CET
END:STANDARD
BEGIN:STANDARD
DTSTART:20161030T020000
RDATE:20170326T030000
TZOFFSETFROM:+0200
TZOFFSETTO:+0100
TZNAME:Europe/Paris CET
END:STANDARD
BEGIN:STANDARD
DTSTART:20171029T020000
RDATE:20180325T030000
TZOFFSETFROM:+0200
TZOFFSETTO:+0100
TZNAME:Europe/Paris CET
END:STANDARD
BEGIN:STANDARD
DTSTART:20181028T020000
RDATE:20190331T030000
TZOFFSETFROM:+0200
TZOFFSETTO:+0100
TZNAME:Europe/Paris CET
END:STANDARD
BEGIN:STANDARD
DTSTART:20191027T020000
RDATE:20200329T030000
TZOFFSETFROM:+0200
TZOFFSETTO:+0100
TZNAME:Europe/Paris CET
END:STANDARD
BEGIN:STANDARD
DTSTART:20201025T020000
RDATE:20210328T030000
TZOFFSETFROM:+0200
TZOFFSETTO:+0100
TZNAME:Europe/Paris CET
END:STANDARD
BEGIN:STANDARD
DTSTART:20211031T020000
RDATE:20220327T030000
TZOFFSETFROM:+0200
TZOFFSETTO:+0100
TZNAME:Europe/Paris CET
END:STANDARD
BEGIN:STANDARD
DTSTART:20221030T020000
RDATE:20230326T030000
TZOFFSETFROM:+0200
TZOFFSETTO:+0100
TZNAME:Europe/Paris CET
END:STANDARD
BEGIN:STANDARD
DTSTART:20231029T020000
RDATE:20240331T030000
TZOFFSETFROM:+0200
TZOFFSETTO:+0100
TZNAME:Europe/Paris CET
END:STANDARD
BEGIN:STANDARD
DTSTART:20241027T020000
RDATE:20250330T030000
TZOFFSETFROM:+0200
TZOFFSETTO:+0100
TZNAME:Europe/Paris CET
END:STANDARD
BEGIN:STANDARD
DTSTART:20251026T020000
RDATE:20260329T030000
TZOFFSETFROM:+0200
TZOFFSETTO:+0100
TZNAME:Europe/Paris CET
END:STANDARD
BEGIN:STANDARD
DTSTART:20261025T020000
RDATE:20270328T030000
TZOFFSETFROM:+0200
TZOFFSETTO:+0100
TZNAME:Europe/Paris CET
END:STANDARD
BEGIN:DAYLIGHT
DTSTART:20130331T030000
RDATE:20131027T020000
TZOFFSETFROM:+0100
TZOFFSETTO:+0200
TZNAME:Europe/Paris CEST
END:DAYLIGHT
BEGIN:DAYLIGHT
DTSTART:20140330T030000
RDATE:20141026T020000
TZOFFSETFROM:+0100
TZOFFSETTO:+0200
TZNAME:Europe/Paris CEST
END:DAYLIGHT
BEGIN:DAYLIGHT
DTSTART:20150329T030000
RDATE:20151025T020000
TZOFFSETFROM:+0100
TZOFFSETTO:+0200
TZNAME:Europe/Paris CEST
END:DAYLIGHT
BEGIN:DAYLIGHT
DTSTART:20160327T030000
RDATE:20161030T020000
TZOFFSETFROM:+0100
TZOFFSETTO:+0200
TZNAME:Europe/Paris CEST
END:DAYLIGHT
BEGIN:DAYLIGHT
DTSTART:20170326T030000
RDATE:20171029T020000
TZOFFSETFROM:+0100
TZOFFSETTO:+0200
TZNAME:Europe/Paris CEST
END:DAYLIGHT
BEGIN:DAYLIGHT
DTSTART:20180325T030000
RDATE:20181028T020000
TZOFFSETFROM:+0100
TZOFFSETTO:+0200
TZNAME:Europe/Paris CEST
END:DAYLIGHT
BEGIN:DAYLIGHT
DTSTART:20190331T030000
RDATE:20191027T020000
TZOFFSETFROM:+0100
TZOFFSETTO:+0200
TZNAME:Europe/Paris CEST
END:DAYLIGHT
BEGIN:DAYLIGHT
DTSTART:20200329T030000
RDATE:20201025T020000
TZOFFSETFROM:+0100
TZOFFSETTO:+0200
TZNAME:Europe/Paris CEST
END:DAYLIGHT
BEGIN:DAYLIGHT
DTSTART:20210328T030000
RDATE:20211031T020000
TZOFFSETFROM:+0100
TZOFFSETTO:+0200
TZNAME:Europe/Paris CEST
END:DAYLIGHT
BEGIN:DAYLIGHT
DTSTART:20220327T030000
RDATE:20221030T020000
TZOFFSETFROM:+0100
TZOFFSETTO:+0200
TZNAME:Europe/Paris CEST
END:DAYLIGHT
BEGIN:DAYLIGHT
DTSTART:20230326T030000
RDATE:20231029T020000
TZOFFSETFROM:+0100
TZOFFSETTO:+0200
TZNAME:Europe/Paris CEST
END:DAYLIGHT
BEGIN:DAYLIGHT
DTSTART:20240331T030000
RDATE:20241027T020000
TZOFFSETFROM:+0100
TZOFFSETTO:+0200
TZNAME:Europe/Paris CEST
END:DAYLIGHT
BEGIN:DAYLIGHT
DTSTART:20250330T030000
RDATE:20251026T020000
TZOFFSETFROM:+0100
TZOFFSETTO:+0200
TZNAME:Europe/Paris CEST
END:DAYLIGHT
BEGIN:DAYLIGHT
DTSTART:20260329T030000
RDATE:20261025T020000
TZOFFSETFROM:+0100
TZOFFSETTO:+0200
TZNAME:Europe/Paris CEST
END:DAYLIGHT
END:VTIMEZONE
BEGIN:VEVENT
UID:82583abf0d97632e0a29bd8462c8578e
CATEGORIES:Opens et Promos (alpin)
CREATED:20131203T122100
SUMMARY:PROMO J     La Géromoise  
URL;VALUE=URI:https://skivosges.net/agenda/a-venir/detailevenement/85/-/promo-j-la-geromo
 ise?tmpl=component
DESCRIPTION:PROMO J     La Géromoise  \n\nLieu : GERARDMER \nOrganisateur : GERARDMER S
 KI ALPIN  (14089 GERARDMER SKI ALPIN)\nEmail : RegularLabs.EmailProtector.u
 nCloak("ep_b5521501");\nTelecopie : 03 29 60 98 04\nTelecopie : 03 29 60 98
  04\n - AMVF0201  Slalom Geant U8+U10 Filles\n  PROMO J     La Géromoise  \
 n - AMVM0201  Slalom Geant U8+U10 Garçons\n  PROMO J     La Géromoise  \n -
  AMVF0202  Slalom Geant de 10 a 13ans au 31/12/2012 (Pou/Ben) Filles\n  PRO
 MO J     La Géromoise  \n - AMVM0202  Slalom Geant de 10 a 13ans au 31/12/2
 012 (Pou/Ben) Garçons\n  PROMO J     La Géromoise   Cet évènement a été imp
 orté depuis :https://skivosges.net/agenda/a-venir/detailevenement/85/-/prom
 o-j-la-geromoise?tmpl=component (https://skivosges.net/agenda/a-venir/detai
 levenement/85/-/promo-j-la-geromoise?tmpl=component)
X-ALT-DESC;FMTTYPE=text/html:<strong>PROMO J     La Géromoise  </strong><br /><br />Lieu : GERARDMER <br
  />Organisateur : GERARDMER SKI ALPIN  <small>(14089 GERARDMER SKI ALPIN)</
 small><br />Email : <!-- Cette adresse électronique est protégée contre les
  robots spammeurs. --><span class="cloaked_email ep_b5521501"><span data-ep
 -a="&#103;&#101;&#114;&#97;&#114;" data-ep-b="e&#46;&#102;&#114;"><span dat
 a-ep-b="&#111;r&#97;n&#103;" data-ep-a="&#100;&#109;&#101;&#114;&#45;"><spa
 n data-ep-b="lpi&#110;&#64;" data-ep-a="&#115;k&#105;-&#97;"></span></span>
 </span></span><script>RegularLabs.EmailProtector.unCloak("ep_b5521501");</s
 cript><br />Telecopie : 03 29 60 98 04<br />Telecopie : 03 29 60 98 04<ul t
 ype="disc"><li>AMVF0201  Slalom Geant <nobr>U8+U10</nobr> Filles<br />&nbsp
 ;&nbsp;PROMO J     La Géromoise  </li><li>AMVM0201  Slalom Geant <nobr>U8+U
 10</nobr> Garçons<br />&nbsp;&nbsp;PROMO J     La Géromoise  </li><li>AMVF0
 202  Slalom Geant <nobr>de 10 a 13ans au 31/12/2012 (Pou/Ben)</nobr> Filles
 <br />&nbsp;&nbsp;PROMO J     La Géromoise  </li><li>AMVM0202  Slalom Geant
  <nobr>de 10 a 13ans au 31/12/2012 (Pou/Ben)</nobr> Garçons<br />&nbsp;&nbs
 p;PROMO J     La Géromoise  </li></ul> <a href="https://skivosges.net/agend
 a/a-venir/detailevenement/85/-/promo-j-la-geromoise?tmpl=component">Cet évè
 nement a été importé depuis :https://skivosges.net/agenda/a-venir/detaileve
 nement/85/-/promo-j-la-geromoise?tmpl=component</a>DTSTAMP:20260424T012413
DTSTART;TZID=Europe/Paris:20140208T080000
DTEND;TZID=Europe/Paris:20140208T170000
SEQUENCE:0
TRANSP:OPAQUE
END:VEVENT
END:VCALENDAR