BEGIN:VCALENDAR
VERSION:2.0
PRODID:-//jEvents 2.0 for Joomla//EN
CALSCALE:GREGORIAN
METHOD:PUBLISH
BEGIN:VTIMEZONE
TZID:Europe/Paris
BEGIN:STANDARD
DTSTART:20161030T020000
RDATE:20170326T030000
TZOFFSETFROM:+0200
TZOFFSETTO:+0100
TZNAME:Europe/Paris CET
END:STANDARD
BEGIN:STANDARD
DTSTART:20171029T020000
RDATE:20180325T030000
TZOFFSETFROM:+0200
TZOFFSETTO:+0100
TZNAME:Europe/Paris CET
END:STANDARD
BEGIN:STANDARD
DTSTART:20181028T020000
RDATE:20190331T030000
TZOFFSETFROM:+0200
TZOFFSETTO:+0100
TZNAME:Europe/Paris CET
END:STANDARD
BEGIN:STANDARD
DTSTART:20191027T020000
RDATE:20200329T030000
TZOFFSETFROM:+0200
TZOFFSETTO:+0100
TZNAME:Europe/Paris CET
END:STANDARD
BEGIN:STANDARD
DTSTART:20201025T020000
RDATE:20210328T030000
TZOFFSETFROM:+0200
TZOFFSETTO:+0100
TZNAME:Europe/Paris CET
END:STANDARD
BEGIN:STANDARD
DTSTART:20211031T020000
RDATE:20220327T030000
TZOFFSETFROM:+0200
TZOFFSETTO:+0100
TZNAME:Europe/Paris CET
END:STANDARD
BEGIN:STANDARD
DTSTART:20221030T020000
RDATE:20230326T030000
TZOFFSETFROM:+0200
TZOFFSETTO:+0100
TZNAME:Europe/Paris CET
END:STANDARD
BEGIN:STANDARD
DTSTART:20231029T020000
RDATE:20240331T030000
TZOFFSETFROM:+0200
TZOFFSETTO:+0100
TZNAME:Europe/Paris CET
END:STANDARD
BEGIN:STANDARD
DTSTART:20241027T020000
RDATE:20250330T030000
TZOFFSETFROM:+0200
TZOFFSETTO:+0100
TZNAME:Europe/Paris CET
END:STANDARD
BEGIN:STANDARD
DTSTART:20251026T020000
RDATE:20260329T030000
TZOFFSETFROM:+0200
TZOFFSETTO:+0100
TZNAME:Europe/Paris CET
END:STANDARD
BEGIN:STANDARD
DTSTART:20261025T020000
RDATE:20270328T030000
TZOFFSETFROM:+0200
TZOFFSETTO:+0100
TZNAME:Europe/Paris CET
END:STANDARD
BEGIN:DAYLIGHT
DTSTART:20161010T183000
RDATE:20161030T020000
TZOFFSETFROM:+0100
TZOFFSETTO:+0200
TZNAME:Europe/Paris CEST
END:DAYLIGHT
BEGIN:DAYLIGHT
DTSTART:20170326T030000
RDATE:20171029T020000
TZOFFSETFROM:+0100
TZOFFSETTO:+0200
TZNAME:Europe/Paris CEST
END:DAYLIGHT
BEGIN:DAYLIGHT
DTSTART:20180325T030000
RDATE:20181028T020000
TZOFFSETFROM:+0100
TZOFFSETTO:+0200
TZNAME:Europe/Paris CEST
END:DAYLIGHT
BEGIN:DAYLIGHT
DTSTART:20190331T030000
RDATE:20191027T020000
TZOFFSETFROM:+0100
TZOFFSETTO:+0200
TZNAME:Europe/Paris CEST
END:DAYLIGHT
BEGIN:DAYLIGHT
DTSTART:20200329T030000
RDATE:20201025T020000
TZOFFSETFROM:+0100
TZOFFSETTO:+0200
TZNAME:Europe/Paris CEST
END:DAYLIGHT
BEGIN:DAYLIGHT
DTSTART:20210328T030000
RDATE:20211031T020000
TZOFFSETFROM:+0100
TZOFFSETTO:+0200
TZNAME:Europe/Paris CEST
END:DAYLIGHT
BEGIN:DAYLIGHT
DTSTART:20220327T030000
RDATE:20221030T020000
TZOFFSETFROM:+0100
TZOFFSETTO:+0200
TZNAME:Europe/Paris CEST
END:DAYLIGHT
BEGIN:DAYLIGHT
DTSTART:20230326T030000
RDATE:20231029T020000
TZOFFSETFROM:+0100
TZOFFSETTO:+0200
TZNAME:Europe/Paris CEST
END:DAYLIGHT
BEGIN:DAYLIGHT
DTSTART:20240331T030000
RDATE:20241027T020000
TZOFFSETFROM:+0100
TZOFFSETTO:+0200
TZNAME:Europe/Paris CEST
END:DAYLIGHT
BEGIN:DAYLIGHT
DTSTART:20250330T030000
RDATE:20251026T020000
TZOFFSETFROM:+0100
TZOFFSETTO:+0200
TZNAME:Europe/Paris CEST
END:DAYLIGHT
BEGIN:DAYLIGHT
DTSTART:20260329T030000
RDATE:20261025T020000
TZOFFSETFROM:+0100
TZOFFSETTO:+0200
TZNAME:Europe/Paris CEST
END:DAYLIGHT
END:VTIMEZONE
BEGIN:VEVENT
UID:a943f76bce06ad4e15f645bff6b8ac0c
CATEGORIES:Formation Officiels - Chronos - Gestionnaires
CREATED:20170929T132920
SUMMARY:Chronometreur : recyclage
LOCATION:Cernay / Siège du CRMVS
URL;VALUE=URI:https://skivosges.net/agenda/a-venir/detailevenement/857/-/chronometreur-re
 cyclage?tmpl=component
DESCRIPTION:La commission Règles et Contrôles du CRMVS organise :\nune session de recyc
 lage « chronométreurs »\nDurée prévisionnelle : 4H00.\nPlusieurs tests et q
 uestionnaires seront effectués.\nInscription obligatoire, nombre de places 
 limitées.\nAvant inscription, contacter le référent Chronométrage Yves Dodi
 n (javascript:/* Cette adresse électronique est protégée contre les robots 
 spammeurs.*/)RegularLabs.EmailProtector.unCloak("ep_673f444f", true); afin 
 de vérifier si vous êtes concerné par cette session.\nChaque candidat devra
  avoir un système complet ordinateur avec ffsski 2017 opérationnel, son chr
 onomètre, le système de raccordement PC-chronomètre opérationnel, des câble
 s avec fiches bananes (2 à 3ml).\nPas besoin d'imprimante, ni de portillon 
 et cellules, mais système de jonction à fiches bananes pour obtenir les imp
 ulsions de départ et d'arrivée.\nPrévoir aussi câble 220V et triplettes.\n 
 Cet évènement a été importé depuis :https://skivosges.net/agenda/a-venir/de
 tailevenement/857/-/chronometreur-recyclage?tmpl=component (https://skivosg
 es.net/agenda/a-venir/detailevenement/857/-/chronometreur-recyclage?tmpl=co
 mponent)
X-ALT-DESC;FMTTYPE=text/html:<p>La commission Règles et Contrôles du CRMVS organise :</p><p>une <strong>
 session de recyclage « chronométreurs »</strong></p><p>Durée prévisionnelle
  : 4H00.</p><p>Plusieurs tests et questionnaires seront effectués.</p><p>In
 scription obligatoire, nombre de places limitées.</p><p>Avant inscription, 
 contacter le référent Chronométrage <!-- Cette adresse électronique est pro
 tégée contre les robots spammeurs. --><a href="https://skivosges.net/javasc
 ript:/* Cette adresse &eacute;lectronique est prot&eacute;g&eacute;e contre
  les robots spammeurs.*/">Yves Dodin<span class="cloaked_email ep_673f444f"
  style="display:none;"><span data-ep-a="&#121;&#100;o&#100;&#105;n&#64;&#11
 9;&#97;&#110;&#97;d&#111;o&#46;f&#114;&#63;&#99;&#99;&#61;r&#101;gl&#101;" 
 data-ep-b="&#49;&#56;&#47;01&#47;&#50;0&#49;&#55;&#37;&#50;&#48;&#97;%&#50;
 0C&#101;r&#110;&#97;y"><span data-ep-a="s-e&#116;&#45;&#99;&#111;&#110;&#11
 6;&#114;&#111;&#108;&#101;&#115;&#64;s&#107;&#105;vo&#115;&#103;&#101;s&#46
 ;&#110;" data-ep-b="&#103;&#101;&#37;&#50;&#48;c&#104;&#114;on&#111;&#109;é
 &#116;&#114;eu&#114;%&#50;&#48;du%&#50;0"><span data-ep-a="e&#116;&#38;&#11
 5;&#117;b&#106;&#101;&#99;t&#61;Pa&#114;t&#105;&#99;i&#112;&#97;&#116;&#105
 ;&#111;&#110;&#37;2" data-ep-b="&#48;&#97;&#37;&#50;&#48;&#108;a&#37;&#50;&
 #48;&#115;&#111;&#105;r&#101;&#101;&#37;20re&#99;&#121;&#99;&#108;a"></span
 ></span></span></span></a><script>RegularLabs.EmailProtector.unCloak("ep_67
 3f444f", true);</script> afin de vérifier si vous êtes concerné par cette s
 ession.</p><p>Chaque candidat devra avoir un système complet ordinateur ave
 c ffsski 2017 opérationnel, son chronomètre, le système de raccordement PC-
 chronomètre opérationnel, des câbles avec fiches bananes (2 à 3ml).</p><p>P
 as besoin d'imprimante, ni de portillon et cellules, mais système de joncti
 on à fiches bananes pour obtenir les impulsions de départ et d'arrivée.</p>
 <p>Prévoir aussi câble 220V et triplettes.</p> <a href="https://skivosges.n
 et/agenda/a-venir/detailevenement/857/-/chronometreur-recyclage?tmpl=compon
 ent">Cet évènement a été importé depuis :https://skivosges.net/agenda/a-ven
 ir/detailevenement/857/-/chronometreur-recyclage?tmpl=component</a>CONTACT:RegularLabs.EmailProtector.unCloak("ep_73fd6cfc");
DTSTAMP:20260424T030435
DTSTART;TZID=Europe/Paris:20171011T183000
SEQUENCE:0
TRANSP:OPAQUE
END:VEVENT
END:VCALENDAR