BEGIN:VCALENDAR
VERSION:2.0
PRODID:-//jEvents 2.0 for Joomla//EN
CALSCALE:GREGORIAN
METHOD:PUBLISH
BEGIN:VTIMEZONE
TZID:Europe/Paris
BEGIN:STANDARD
DTSTART:20161209T000000
RDATE:20170326T030000
TZOFFSETFROM:+0200
TZOFFSETTO:+0100
TZNAME:Europe/Paris CET
END:STANDARD
BEGIN:STANDARD
DTSTART:20171029T020000
RDATE:20180325T030000
TZOFFSETFROM:+0200
TZOFFSETTO:+0100
TZNAME:Europe/Paris CET
END:STANDARD
BEGIN:STANDARD
DTSTART:20181028T020000
RDATE:20190331T030000
TZOFFSETFROM:+0200
TZOFFSETTO:+0100
TZNAME:Europe/Paris CET
END:STANDARD
BEGIN:STANDARD
DTSTART:20191027T020000
RDATE:20200329T030000
TZOFFSETFROM:+0200
TZOFFSETTO:+0100
TZNAME:Europe/Paris CET
END:STANDARD
BEGIN:STANDARD
DTSTART:20201025T020000
RDATE:20210328T030000
TZOFFSETFROM:+0200
TZOFFSETTO:+0100
TZNAME:Europe/Paris CET
END:STANDARD
BEGIN:STANDARD
DTSTART:20211031T020000
RDATE:20220327T030000
TZOFFSETFROM:+0200
TZOFFSETTO:+0100
TZNAME:Europe/Paris CET
END:STANDARD
BEGIN:STANDARD
DTSTART:20221030T020000
RDATE:20230326T030000
TZOFFSETFROM:+0200
TZOFFSETTO:+0100
TZNAME:Europe/Paris CET
END:STANDARD
BEGIN:STANDARD
DTSTART:20231029T020000
RDATE:20240331T030000
TZOFFSETFROM:+0200
TZOFFSETTO:+0100
TZNAME:Europe/Paris CET
END:STANDARD
BEGIN:STANDARD
DTSTART:20241027T020000
RDATE:20250330T030000
TZOFFSETFROM:+0200
TZOFFSETTO:+0100
TZNAME:Europe/Paris CET
END:STANDARD
BEGIN:STANDARD
DTSTART:20251026T020000
RDATE:20260329T030000
TZOFFSETFROM:+0200
TZOFFSETTO:+0100
TZNAME:Europe/Paris CET
END:STANDARD
BEGIN:STANDARD
DTSTART:20261025T020000
RDATE:20270328T030000
TZOFFSETFROM:+0200
TZOFFSETTO:+0100
TZNAME:Europe/Paris CET
END:STANDARD
BEGIN:DAYLIGHT
DTSTART:20170326T030000
RDATE:20171029T020000
TZOFFSETFROM:+0100
TZOFFSETTO:+0200
TZNAME:Europe/Paris CEST
END:DAYLIGHT
BEGIN:DAYLIGHT
DTSTART:20180325T030000
RDATE:20181028T020000
TZOFFSETFROM:+0100
TZOFFSETTO:+0200
TZNAME:Europe/Paris CEST
END:DAYLIGHT
BEGIN:DAYLIGHT
DTSTART:20190331T030000
RDATE:20191027T020000
TZOFFSETFROM:+0100
TZOFFSETTO:+0200
TZNAME:Europe/Paris CEST
END:DAYLIGHT
BEGIN:DAYLIGHT
DTSTART:20200329T030000
RDATE:20201025T020000
TZOFFSETFROM:+0100
TZOFFSETTO:+0200
TZNAME:Europe/Paris CEST
END:DAYLIGHT
BEGIN:DAYLIGHT
DTSTART:20210328T030000
RDATE:20211031T020000
TZOFFSETFROM:+0100
TZOFFSETTO:+0200
TZNAME:Europe/Paris CEST
END:DAYLIGHT
BEGIN:DAYLIGHT
DTSTART:20220327T030000
RDATE:20221030T020000
TZOFFSETFROM:+0100
TZOFFSETTO:+0200
TZNAME:Europe/Paris CEST
END:DAYLIGHT
BEGIN:DAYLIGHT
DTSTART:20230326T030000
RDATE:20231029T020000
TZOFFSETFROM:+0100
TZOFFSETTO:+0200
TZNAME:Europe/Paris CEST
END:DAYLIGHT
BEGIN:DAYLIGHT
DTSTART:20240331T030000
RDATE:20241027T020000
TZOFFSETFROM:+0100
TZOFFSETTO:+0200
TZNAME:Europe/Paris CEST
END:DAYLIGHT
BEGIN:DAYLIGHT
DTSTART:20250330T030000
RDATE:20251026T020000
TZOFFSETFROM:+0100
TZOFFSETTO:+0200
TZNAME:Europe/Paris CEST
END:DAYLIGHT
BEGIN:DAYLIGHT
DTSTART:20260329T030000
RDATE:20261025T020000
TZOFFSETFROM:+0100
TZOFFSETTO:+0200
TZNAME:Europe/Paris CEST
END:DAYLIGHT
END:VTIMEZONE
BEGIN:VEVENT
UID:6c6fb51e1b89c1e6d5c1ba99aa29994d
CATEGORIES:Opens et Promos (alpin)
CREATED:20171121T093310
SUMMARY:OPEN Coupe CESAM WGS Adultes **REPORTE**
URL;VALUE=URI:https://skivosges.net/agenda/a-venir/detailevenement/866/-/open-coupe-cesam
 -wgs-adultes-reporte?tmpl=component
DESCRIPTION:<!-- #gskiepreuve code généré par le plugin jevents pour GskiEpreuves. Ne p
 as modifier cette ligne, ni tout le contenu suivant  #gskiepreuve --><div c
 lass="gski-evenement_infos"><div class="gski-evenement-nom">OPEN Coupe CESA
 M WGS Adultes</div><div class="gski-evenement-report"> <font class="gskiatt
 ention">(Epreuve reportée, date à determiner)</font></div><ul class="gski-e
 venement-liste-infos"><li>Codex évenement AMVT0020</li><li>Station : MARKST
 EIN</li><li>Organisateur : 14186 S.C VALLEE DE WESSERLING</li><li>Courriel 
 : <!-- Cette adresse électronique est protégée contre les robots spammeurs.
  --><span class="cloaked_email ep_0c26582c"><span data-ep-b="&#109;" data-e
 p-a="s&#99;&#118;w"><span data-ep-b="l.c&#111;" data-ep-a="&#101;&#115;s&#1
 01;"><span data-ep-a="r&#108;&#105;n" data-ep-b="&#103;&#64;a&#111;"></span
 ></span></span></span><script>RegularLabs.EmailProtector.unCloak("ep_0c2658
 2c");</script></li><li>Téléphone : 03 89 82 78 08</li><li><span class="gski
 -evenement-obs">Délégué Technique : VONTHRON JEAN MARIE</span></li></ul><di
 v class="gski-evenement-infos-2"><div class="gski-evenement-info-inscriptio
 ns"><div class="gski-evenement-inscriptions-periodes">Période d'inscription
  à l'evènement du dimanche 03 décembre 2017 à 00:00 au vendredi 08 décembre
  2017 à 12:00 <span class="gski-evenement-inscriptions-impossibles">(Inscri
 ptions impossibles).</span><div class="gski-evenement-inscriptions-types-ti
 tres">Inscriptions ouvertes aux detenteurs des titres Fédéraux valides suiv
 ants : Licenciés Compétiteurs</div></div></div><div class="gski-evenement-e
 preuves"><div class="gski-evenement-epreuves-titres">Epreuves :</div><ul cl
 ass="gski-evenement-epreuves-list"><li><div class="gski-epreuve-date">Le di
 manche 10 décembre 2017</div><ul class="gski-epreuve-liste-infos"><li>Codex
  épreuve AMVF0021</li><li>Slalom</li><li>Catégorie(s) : U16 (Filles)</li></
 ul></li><li><div class="gski-epreuve-date">Le dimanche 10 décembre 2017</di
 v><ul class="gski-epreuve-liste-infos"><li>Codex épreuve AMVM0021</li><li>S
 lalom</li><li>Catégorie(s) : U16 (Garçons)</li></ul></li><li><div class="gs
 ki-epreuve-date">Le dimanche 10 décembre 2017</div><ul class="gski-epreuve-
 liste-infos"><li>Codex épreuve AMVF0022</li><li>Slalom</li><li>Catégorie(s)
  : U18 a Masters (Dames)</li></ul></li><li><div class="gski-epreuve-date">L
 e dimanche 10 décembre 2017</div><ul class="gski-epreuve-liste-infos"><li>C
 odex épreuve AMVM0022</li><li>Slalom</li><li>Catégorie(s) : U18 a Masters (
 Hommes)</li></ul></li></ul></div><div class="gskiepreuves-links"><ul><li><a
  href="/index.php?option=com_jevents&task=icalevent.detail&evid=861&Itemid=
 6289">Voir les informations dans l'agenda...</a></li></ul></div></div"><!--
  #/gskiepreuve fin du dode généré par le plugin jevents pour GskiEpreuves. 
 . Ne pas modifier cette ligne, ni tout le contenu précedant.  #/gskiepreuve
  --> <a href="https://skivosges.net/agenda/a-venir/detailevenement/866/-/op
 en-coupe-cesam-wgs-adultes-reporte?tmpl=component">Cet évènement a été impo
 rté depuis :https://skivosges.net/agenda/a-venir/detailevenement/866/-/open
 -coupe-cesam-wgs-adultes-reporte?tmpl=component</a>
X-ALT-DESC;FMTTYPE=text/html:<!-- #gskiepreuve code généré par le plugin jevents pour GskiEpreuves. Ne p
 as modifier cette ligne, ni tout le contenu suivant  #gskiepreuve --><div c
 lass="gski-evenement_infos"><div class="gski-evenement-nom">OPEN Coupe CESA
 M WGS Adultes</div><div class="gski-evenement-report"> <font class="gskiatt
 ention">(Epreuve reportée, date à determiner)</font></div><ul class="gski-e
 venement-liste-infos"><li>Codex évenement AMVT0020</li><li>Station : MARKST
 EIN</li><li>Organisateur : 14186 S.C VALLEE DE WESSERLING</li><li>Courriel 
 : <!-- Cette adresse électronique est protégée contre les robots spammeurs.
  --><span class="cloaked_email ep_0c26582c"><span data-ep-b="&#109;" data-e
 p-a="s&#99;&#118;w"><span data-ep-b="l.c&#111;" data-ep-a="&#101;&#115;s&#1
 01;"><span data-ep-a="r&#108;&#105;n" data-ep-b="&#103;&#64;a&#111;"></span
 ></span></span></span><script>RegularLabs.EmailProtector.unCloak("ep_0c2658
 2c");</script></li><li>Téléphone : 03 89 82 78 08</li><li><span class="gski
 -evenement-obs">Délégué Technique : VONTHRON JEAN MARIE</span></li></ul><di
 v class="gski-evenement-infos-2"><div class="gski-evenement-info-inscriptio
 ns"><div class="gski-evenement-inscriptions-periodes">Période d'inscription
  à l'evènement du dimanche 03 décembre 2017 à 00:00 au vendredi 08 décembre
  2017 à 12:00 <span class="gski-evenement-inscriptions-impossibles">(Inscri
 ptions impossibles).</span><div class="gski-evenement-inscriptions-types-ti
 tres">Inscriptions ouvertes aux detenteurs des titres Fédéraux valides suiv
 ants : Licenciés Compétiteurs</div></div></div><div class="gski-evenement-e
 preuves"><div class="gski-evenement-epreuves-titres">Epreuves :</div><ul cl
 ass="gski-evenement-epreuves-list"><li><div class="gski-epreuve-date">Le di
 manche 10 décembre 2017</div><ul class="gski-epreuve-liste-infos"><li>Codex
  épreuve AMVF0021</li><li>Slalom</li><li>Catégorie(s) : U16 (Filles)</li></
 ul></li><li><div class="gski-epreuve-date">Le dimanche 10 décembre 2017</di
 v><ul class="gski-epreuve-liste-infos"><li>Codex épreuve AMVM0021</li><li>S
 lalom</li><li>Catégorie(s) : U16 (Garçons)</li></ul></li><li><div class="gs
 ki-epreuve-date">Le dimanche 10 décembre 2017</div><ul class="gski-epreuve-
 liste-infos"><li>Codex épreuve AMVF0022</li><li>Slalom</li><li>Catégorie(s)
  : U18 a Masters (Dames)</li></ul></li><li><div class="gski-epreuve-date">L
 e dimanche 10 décembre 2017</div><ul class="gski-epreuve-liste-infos"><li>C
 odex épreuve AMVM0022</li><li>Slalom</li><li>Catégorie(s) : U18 a Masters (
 Hommes)</li></ul></li></ul></div><div class="gskiepreuves-links"><ul><li><a
  href="https://skivosges.net/index.php?option=com_jevents&task=icalevent.de
 tail&evid=861&Itemid=6289">Voir les informations dans l'agenda...</a></li><
 /ul></div></div"><!-- #/gskiepreuve fin du dode généré par le plugin jevent
 s pour GskiEpreuves. . Ne pas modifier cette ligne, ni tout le contenu préc
 edant.  #/gskiepreuve --> <a href="https://skivosges.net/agenda/a-venir/det
 ailevenement/866/-/open-coupe-cesam-wgs-adultes-reporte?tmpl=component">Cet
  évènement a été importé depuis :https://skivosges.net/agenda/a-venir/detai
 levenement/866/-/open-coupe-cesam-wgs-adultes-reporte?tmpl=component</a>DTSTAMP:20260424T012605
DTSTART;TZID=Europe/Paris;VALUE=DATE:20171210
DTEND;TZID=Europe/Paris;VALUE=DATE:20171211
SEQUENCE:0
TRANSP:OPAQUE
END:VEVENT
END:VCALENDAR