BEGIN:VCALENDAR
VERSION:2.0
PRODID:-//jEvents 2.0 for Joomla//EN
CALSCALE:GREGORIAN
METHOD:PUBLISH
BEGIN:VTIMEZONE
TZID:Europe/Paris
BEGIN:STANDARD
DTSTART:20161209T000000
RDATE:20170326T030000
TZOFFSETFROM:+0200
TZOFFSETTO:+0100
TZNAME:Europe/Paris CET
END:STANDARD
BEGIN:STANDARD
DTSTART:20171029T020000
RDATE:20180325T030000
TZOFFSETFROM:+0200
TZOFFSETTO:+0100
TZNAME:Europe/Paris CET
END:STANDARD
BEGIN:STANDARD
DTSTART:20181028T020000
RDATE:20190331T030000
TZOFFSETFROM:+0200
TZOFFSETTO:+0100
TZNAME:Europe/Paris CET
END:STANDARD
BEGIN:STANDARD
DTSTART:20191027T020000
RDATE:20200329T030000
TZOFFSETFROM:+0200
TZOFFSETTO:+0100
TZNAME:Europe/Paris CET
END:STANDARD
BEGIN:STANDARD
DTSTART:20201025T020000
RDATE:20210328T030000
TZOFFSETFROM:+0200
TZOFFSETTO:+0100
TZNAME:Europe/Paris CET
END:STANDARD
BEGIN:STANDARD
DTSTART:20211031T020000
RDATE:20220327T030000
TZOFFSETFROM:+0200
TZOFFSETTO:+0100
TZNAME:Europe/Paris CET
END:STANDARD
BEGIN:STANDARD
DTSTART:20221030T020000
RDATE:20230326T030000
TZOFFSETFROM:+0200
TZOFFSETTO:+0100
TZNAME:Europe/Paris CET
END:STANDARD
BEGIN:STANDARD
DTSTART:20231029T020000
RDATE:20240331T030000
TZOFFSETFROM:+0200
TZOFFSETTO:+0100
TZNAME:Europe/Paris CET
END:STANDARD
BEGIN:STANDARD
DTSTART:20241027T020000
RDATE:20250330T030000
TZOFFSETFROM:+0200
TZOFFSETTO:+0100
TZNAME:Europe/Paris CET
END:STANDARD
BEGIN:STANDARD
DTSTART:20251026T020000
RDATE:20260329T030000
TZOFFSETFROM:+0200
TZOFFSETTO:+0100
TZNAME:Europe/Paris CET
END:STANDARD
BEGIN:STANDARD
DTSTART:20261025T020000
RDATE:20270328T030000
TZOFFSETFROM:+0200
TZOFFSETTO:+0100
TZNAME:Europe/Paris CET
END:STANDARD
BEGIN:DAYLIGHT
DTSTART:20170326T030000
RDATE:20171029T020000
TZOFFSETFROM:+0100
TZOFFSETTO:+0200
TZNAME:Europe/Paris CEST
END:DAYLIGHT
BEGIN:DAYLIGHT
DTSTART:20180325T030000
RDATE:20181028T020000
TZOFFSETFROM:+0100
TZOFFSETTO:+0200
TZNAME:Europe/Paris CEST
END:DAYLIGHT
BEGIN:DAYLIGHT
DTSTART:20190331T030000
RDATE:20191027T020000
TZOFFSETFROM:+0100
TZOFFSETTO:+0200
TZNAME:Europe/Paris CEST
END:DAYLIGHT
BEGIN:DAYLIGHT
DTSTART:20200329T030000
RDATE:20201025T020000
TZOFFSETFROM:+0100
TZOFFSETTO:+0200
TZNAME:Europe/Paris CEST
END:DAYLIGHT
BEGIN:DAYLIGHT
DTSTART:20210328T030000
RDATE:20211031T020000
TZOFFSETFROM:+0100
TZOFFSETTO:+0200
TZNAME:Europe/Paris CEST
END:DAYLIGHT
BEGIN:DAYLIGHT
DTSTART:20220327T030000
RDATE:20221030T020000
TZOFFSETFROM:+0100
TZOFFSETTO:+0200
TZNAME:Europe/Paris CEST
END:DAYLIGHT
BEGIN:DAYLIGHT
DTSTART:20230326T030000
RDATE:20231029T020000
TZOFFSETFROM:+0100
TZOFFSETTO:+0200
TZNAME:Europe/Paris CEST
END:DAYLIGHT
BEGIN:DAYLIGHT
DTSTART:20240331T030000
RDATE:20241027T020000
TZOFFSETFROM:+0100
TZOFFSETTO:+0200
TZNAME:Europe/Paris CEST
END:DAYLIGHT
BEGIN:DAYLIGHT
DTSTART:20250330T030000
RDATE:20251026T020000
TZOFFSETFROM:+0100
TZOFFSETTO:+0200
TZNAME:Europe/Paris CEST
END:DAYLIGHT
BEGIN:DAYLIGHT
DTSTART:20260329T030000
RDATE:20261025T020000
TZOFFSETFROM:+0100
TZOFFSETTO:+0200
TZNAME:Europe/Paris CEST
END:DAYLIGHT
END:VTIMEZONE
BEGIN:VEVENT
UID:b4cf60837f36b7ba39462f8ed138c937
CATEGORIES:Opens et Promos (alpin)
CREATED:20171121T093310
SUMMARY:OPEN Coupe CESAM WGS Jeunes **REPORTE**
URL;VALUE=URI:https://skivosges.net/agenda/a-venir/detailevenement/867/-/open-coupe-cesam
 -wgs-jeunes-reporte?tmpl=component
DESCRIPTION:<!-- #gskiepreuve code généré par le plugin jevents pour GskiEpreuves. Ne p
 as modifier cette ligne, ni tout le contenu suivant  #gskiepreuve --><div c
 lass="gski-evenement_infos"><div class="gski-evenement-nom">OPEN Coupe CESA
 M WGS Jeunes</div><div class="gski-evenement-report"> <font class="gskiatte
 ntion">(Epreuve reportée, date à determiner)</font></div><ul class="gski-ev
 enement-liste-infos"><li>Codex évenement AMVT0030</li><li>Station : MARKSTE
 IN</li><li>Organisateur : 14186 S.C VALLEE DE WESSERLING</li><li>Courriel :
  <!-- Cette adresse électronique est protégée contre les robots spammeurs. 
 --><span class="cloaked_email ep_87d265db"><span data-ep-b="&#109;" data-ep
 -a="&#115;&#99;&#118;&#119;"><span data-ep-b="&#108;&#46;&#99;&#111;" data-
 ep-a="&#101;&#115;&#115;&#101;"><span data-ep-b="&#103;&#64;&#97;o" data-ep
 -a="&#114;&#108;&#105;n"></span></span></span></span><script>RegularLabs.Em
 ailProtector.unCloak("ep_87d265db");</script></li><li>Téléphone : 03 89 82 
 78 08</li><li><span class="gski-evenement-obs">Délégué Technique : VONTHRON
  JEAN MARIE</span></li></ul><div class="gski-evenement-infos-2"><div class=
 "gski-evenement-info-inscriptions"><div class="gski-evenement-inscriptions-
 periodes">Période d'inscription à l'evènement du dimanche 03 décembre 2017 
 à 00:00 au vendredi 08 décembre 2017 à 12:00 <span class="gski-evenement-in
 scriptions-impossibles">(Inscriptions impossibles).</span><div class="gski-
 evenement-inscriptions-types-titres">Inscriptions ouvertes aux detenteurs d
 es titres Fédéraux valides suivants : Licenciés Compétiteurs</div></div></d
 iv><div class="gski-evenement-epreuves"><div class="gski-evenement-epreuves
 -titres">Epreuves :</div><ul class="gski-evenement-epreuves-list"><li><div 
 class="gski-epreuve-date">Le dimanche 10 décembre 2017</div><ul class="gski
 -epreuve-liste-infos"><li>Codex épreuve AMVF0031</li><li>Slalom Geant</li><
 li>Catégorie(s) : U8/U10 (Filles)</li></ul></li><li><div class="gski-epreuv
 e-date">Le dimanche 10 décembre 2017</div><ul class="gski-epreuve-liste-inf
 os"><li>Codex épreuve AMVM0031</li><li>Slalom Geant</li><li>Catégorie(s) : 
 U8/U10 (Garçons)</li></ul></li><li><div class="gski-epreuve-date">Le dimanc
 he 10 décembre 2017</div><ul class="gski-epreuve-liste-infos"><li>Codex épr
 euve AMVF0032</li><li>Slalom Geant</li><li>Catégorie(s) : U12/U14 (Filles)<
 /li></ul></li><li><div class="gski-epreuve-date">Le dimanche 10 décembre 20
 17</div><ul class="gski-epreuve-liste-infos"><li>Codex épreuve AMVM0032</li
 ><li>Slalom Geant</li><li>Catégorie(s) : U12/U14 (Garçons)</li></ul></li></
 ul></div><div class="gskiepreuves-links"><ul><li><a href="/index.php?option
 =com_jevents&task=icalevent.detail&evid=862&Itemid=6289">Voir les informati
 ons dans l'agenda...</a></li></ul></div></div"><!-- #/gskiepreuve fin du do
 de généré par le plugin jevents pour GskiEpreuves. . Ne pas modifier cette 
 ligne, ni tout le contenu précedant.  #/gskiepreuve --> <a href="https://sk
 ivosges.net/agenda/a-venir/detailevenement/867/-/open-coupe-cesam-wgs-jeune
 s-reporte?tmpl=component">Cet évènement a été importé depuis :https://skivo
 sges.net/agenda/a-venir/detailevenement/867/-/open-coupe-cesam-wgs-jeunes-r
 eporte?tmpl=component</a>
X-ALT-DESC;FMTTYPE=text/html:<!-- #gskiepreuve code généré par le plugin jevents pour GskiEpreuves. Ne p
 as modifier cette ligne, ni tout le contenu suivant  #gskiepreuve --><div c
 lass="gski-evenement_infos"><div class="gski-evenement-nom">OPEN Coupe CESA
 M WGS Jeunes</div><div class="gski-evenement-report"> <font class="gskiatte
 ntion">(Epreuve reportée, date à determiner)</font></div><ul class="gski-ev
 enement-liste-infos"><li>Codex évenement AMVT0030</li><li>Station : MARKSTE
 IN</li><li>Organisateur : 14186 S.C VALLEE DE WESSERLING</li><li>Courriel :
  <!-- Cette adresse électronique est protégée contre les robots spammeurs. 
 --><span class="cloaked_email ep_87d265db"><span data-ep-b="&#109;" data-ep
 -a="&#115;&#99;&#118;&#119;"><span data-ep-b="&#108;&#46;&#99;&#111;" data-
 ep-a="&#101;&#115;&#115;&#101;"><span data-ep-b="&#103;&#64;&#97;o" data-ep
 -a="&#114;&#108;&#105;n"></span></span></span></span><script>RegularLabs.Em
 ailProtector.unCloak("ep_87d265db");</script></li><li>Téléphone : 03 89 82 
 78 08</li><li><span class="gski-evenement-obs">Délégué Technique : VONTHRON
  JEAN MARIE</span></li></ul><div class="gski-evenement-infos-2"><div class=
 "gski-evenement-info-inscriptions"><div class="gski-evenement-inscriptions-
 periodes">Période d'inscription à l'evènement du dimanche 03 décembre 2017 
 à 00:00 au vendredi 08 décembre 2017 à 12:00 <span class="gski-evenement-in
 scriptions-impossibles">(Inscriptions impossibles).</span><div class="gski-
 evenement-inscriptions-types-titres">Inscriptions ouvertes aux detenteurs d
 es titres Fédéraux valides suivants : Licenciés Compétiteurs</div></div></d
 iv><div class="gski-evenement-epreuves"><div class="gski-evenement-epreuves
 -titres">Epreuves :</div><ul class="gski-evenement-epreuves-list"><li><div 
 class="gski-epreuve-date">Le dimanche 10 décembre 2017</div><ul class="gski
 -epreuve-liste-infos"><li>Codex épreuve AMVF0031</li><li>Slalom Geant</li><
 li>Catégorie(s) : U8/U10 (Filles)</li></ul></li><li><div class="gski-epreuv
 e-date">Le dimanche 10 décembre 2017</div><ul class="gski-epreuve-liste-inf
 os"><li>Codex épreuve AMVM0031</li><li>Slalom Geant</li><li>Catégorie(s) : 
 U8/U10 (Garçons)</li></ul></li><li><div class="gski-epreuve-date">Le dimanc
 he 10 décembre 2017</div><ul class="gski-epreuve-liste-infos"><li>Codex épr
 euve AMVF0032</li><li>Slalom Geant</li><li>Catégorie(s) : U12/U14 (Filles)<
 /li></ul></li><li><div class="gski-epreuve-date">Le dimanche 10 décembre 20
 17</div><ul class="gski-epreuve-liste-infos"><li>Codex épreuve AMVM0032</li
 ><li>Slalom Geant</li><li>Catégorie(s) : U12/U14 (Garçons)</li></ul></li></
 ul></div><div class="gskiepreuves-links"><ul><li><a href="https://skivosges
 .net/index.php?option=com_jevents&task=icalevent.detail&evid=862&Itemid=628
 9">Voir les informations dans l'agenda...</a></li></ul></div></div"><!-- #/
 gskiepreuve fin du dode généré par le plugin jevents pour GskiEpreuves. . N
 e pas modifier cette ligne, ni tout le contenu précedant.  #/gskiepreuve --
 > <a href="https://skivosges.net/agenda/a-venir/detailevenement/867/-/open-
 coupe-cesam-wgs-jeunes-reporte?tmpl=component">Cet évènement a été importé 
 depuis :https://skivosges.net/agenda/a-venir/detailevenement/867/-/open-cou
 pe-cesam-wgs-jeunes-reporte?tmpl=component</a>DTSTAMP:20260424T012604
DTSTART;TZID=Europe/Paris;VALUE=DATE:20171210
DTEND;TZID=Europe/Paris;VALUE=DATE:20171211
SEQUENCE:0
TRANSP:OPAQUE
END:VEVENT
END:VCALENDAR