BEGIN:VCALENDAR
VERSION:2.0
PRODID:-//jEvents 2.0 for Joomla//EN
CALSCALE:GREGORIAN
METHOD:PUBLISH
BEGIN:VTIMEZONE
TZID:Europe/Paris
BEGIN:STANDARD
DTSTART:20161222T000000
RDATE:20170326T030000
TZOFFSETFROM:+0200
TZOFFSETTO:+0100
TZNAME:Europe/Paris CET
END:STANDARD
BEGIN:STANDARD
DTSTART:20171029T020000
RDATE:20180325T030000
TZOFFSETFROM:+0200
TZOFFSETTO:+0100
TZNAME:Europe/Paris CET
END:STANDARD
BEGIN:STANDARD
DTSTART:20181028T020000
RDATE:20190331T030000
TZOFFSETFROM:+0200
TZOFFSETTO:+0100
TZNAME:Europe/Paris CET
END:STANDARD
BEGIN:STANDARD
DTSTART:20191027T020000
RDATE:20200329T030000
TZOFFSETFROM:+0200
TZOFFSETTO:+0100
TZNAME:Europe/Paris CET
END:STANDARD
BEGIN:STANDARD
DTSTART:20201025T020000
RDATE:20210328T030000
TZOFFSETFROM:+0200
TZOFFSETTO:+0100
TZNAME:Europe/Paris CET
END:STANDARD
BEGIN:STANDARD
DTSTART:20211031T020000
RDATE:20220327T030000
TZOFFSETFROM:+0200
TZOFFSETTO:+0100
TZNAME:Europe/Paris CET
END:STANDARD
BEGIN:STANDARD
DTSTART:20221030T020000
RDATE:20230326T030000
TZOFFSETFROM:+0200
TZOFFSETTO:+0100
TZNAME:Europe/Paris CET
END:STANDARD
BEGIN:STANDARD
DTSTART:20231029T020000
RDATE:20240331T030000
TZOFFSETFROM:+0200
TZOFFSETTO:+0100
TZNAME:Europe/Paris CET
END:STANDARD
BEGIN:STANDARD
DTSTART:20241027T020000
RDATE:20250330T030000
TZOFFSETFROM:+0200
TZOFFSETTO:+0100
TZNAME:Europe/Paris CET
END:STANDARD
BEGIN:STANDARD
DTSTART:20251026T020000
RDATE:20260329T030000
TZOFFSETFROM:+0200
TZOFFSETTO:+0100
TZNAME:Europe/Paris CET
END:STANDARD
BEGIN:STANDARD
DTSTART:20261025T020000
RDATE:20270328T030000
TZOFFSETFROM:+0200
TZOFFSETTO:+0100
TZNAME:Europe/Paris CET
END:STANDARD
BEGIN:DAYLIGHT
DTSTART:20170326T030000
RDATE:20171029T020000
TZOFFSETFROM:+0100
TZOFFSETTO:+0200
TZNAME:Europe/Paris CEST
END:DAYLIGHT
BEGIN:DAYLIGHT
DTSTART:20180325T030000
RDATE:20181028T020000
TZOFFSETFROM:+0100
TZOFFSETTO:+0200
TZNAME:Europe/Paris CEST
END:DAYLIGHT
BEGIN:DAYLIGHT
DTSTART:20190331T030000
RDATE:20191027T020000
TZOFFSETFROM:+0100
TZOFFSETTO:+0200
TZNAME:Europe/Paris CEST
END:DAYLIGHT
BEGIN:DAYLIGHT
DTSTART:20200329T030000
RDATE:20201025T020000
TZOFFSETFROM:+0100
TZOFFSETTO:+0200
TZNAME:Europe/Paris CEST
END:DAYLIGHT
BEGIN:DAYLIGHT
DTSTART:20210328T030000
RDATE:20211031T020000
TZOFFSETFROM:+0100
TZOFFSETTO:+0200
TZNAME:Europe/Paris CEST
END:DAYLIGHT
BEGIN:DAYLIGHT
DTSTART:20220327T030000
RDATE:20221030T020000
TZOFFSETFROM:+0100
TZOFFSETTO:+0200
TZNAME:Europe/Paris CEST
END:DAYLIGHT
BEGIN:DAYLIGHT
DTSTART:20230326T030000
RDATE:20231029T020000
TZOFFSETFROM:+0100
TZOFFSETTO:+0200
TZNAME:Europe/Paris CEST
END:DAYLIGHT
BEGIN:DAYLIGHT
DTSTART:20240331T030000
RDATE:20241027T020000
TZOFFSETFROM:+0100
TZOFFSETTO:+0200
TZNAME:Europe/Paris CEST
END:DAYLIGHT
BEGIN:DAYLIGHT
DTSTART:20250330T030000
RDATE:20251026T020000
TZOFFSETFROM:+0100
TZOFFSETTO:+0200
TZNAME:Europe/Paris CEST
END:DAYLIGHT
BEGIN:DAYLIGHT
DTSTART:20260329T030000
RDATE:20261025T020000
TZOFFSETFROM:+0100
TZOFFSETTO:+0200
TZNAME:Europe/Paris CEST
END:DAYLIGHT
END:VTIMEZONE
BEGIN:VEVENT
UID:764425024ee1b22544a3cb497b48ab01
CATEGORIES:Opens et Promos (alpin)
CREATED:20171121T093310
SUMMARY:OPEN Coupe du père NOEL
URL;VALUE=URI:https://skivosges.net/agenda/a-venir/detailevenement/872/-/open-coupe-du-pe
 re-noel?tmpl=component
DESCRIPTION:<!-- #gskiepreuve code généré par le plugin jevents pour GskiEpreuves. Ne p
 as modifier cette ligne, ni tout le contenu suivant  #gskiepreuve --><div c
 lass="gski-evenement_infos"><div class="gski-evenement-nom">OPEN Coupe du p
 ère NOEL</div><div class="gski-evenement-report"></div><ul class="gski-even
 ement-liste-infos"><li>Codex évenement AMVT0060</li><li>Station : GERARDMER
 </li><li>Piste : Stade</li><li>Organisateur : 14089 GERARDMER SKI ALPIN</li
 ><li>Courriel : <!-- Cette adresse électronique est protégée contre les rob
 ots spammeurs. --><span class="cloaked_email ep_40328176"><span data-ep-a="
 &#97;&#115;&#103;&#115;k" data-ep-b="&#102;&#114;"><span data-ep-a="&#105;.
 &#103;&#101;r" data-ep-b="ad&#111;&#111;&#46;"><span data-ep-b="&#114;&#64;
 &#119;&#97;&#110;" data-ep-a="&#97;r&#100;&#109;&#101;"></span></span></spa
 n></span><script>RegularLabs.EmailProtector.unCloak("ep_40328176");</script
 ></li><li>Téléphone : 03 29 60 98 04</li><li><span class="gski-evenement-ob
 s">Délégué Technique : TURRI TIZIANO</span></li></ul><div class="gski-evene
 ment-infos-2"><div class="gski-evenement-info-inscriptions"><div class="gsk
 i-evenement-inscriptions-periodes">Période d'inscription à l'evènement du s
 amedi 16 décembre 2017 à 00:00 au vendredi 22 décembre 2017 à 08:00 <span c
 lass="gski-evenement-inscriptions-impossibles">(Inscriptions impossibles).<
 /span><div class="gski-evenement-inscriptions-types-titres">Inscriptions ou
 vertes aux detenteurs des titres Fédéraux valides suivants : Licenciés Comp
 étiteurs</div></div></div><div class="gski-evenement-info-live">L'épreuve s
 era chronometrée avec les résultats publiés en direct (live)</div><div clas
 s="gski-evenement-epreuves"><div class="gski-evenement-epreuves-titres">Epr
 euves :</div><ul class="gski-evenement-epreuves-list"><li><div class="gski-
 epreuve-date">Le samedi 23 décembre 2017</div><ul class="gski-epreuve-liste
 -infos"><li>Codex épreuve AMVF0061</li><li>Slalom</li><li>Catégorie(s) : U1
 6 (Filles)</li></ul></li><li><div class="gski-epreuve-date">Le samedi 23 dé
 cembre 2017</div><ul class="gski-epreuve-liste-infos"><li>Codex épreuve AMV
 M0061</li><li>Slalom</li><li>Catégorie(s) : U16 (Garçons)</li></ul></li><li
 ><div class="gski-epreuve-date">Le samedi 23 décembre 2017</div><ul class="
 gski-epreuve-liste-infos"><li>Codex épreuve AMVM0062</li><li>Slalom</li><li
 >Catégorie(s) : U18 a Masters (Hommes)</li></ul></li><li><div class="gski-e
 preuve-date">Le samedi 23 décembre 2017</div><ul class="gski-epreuve-liste-
 infos"><li>Codex épreuve AMVF0062</li><li>Slalom</li><li>Catégorie(s) : U18
  a Masters (Dames)</li></ul></li></ul></div><div class="gskiepreuves-links"
 ><ul><li><a href="/index.php?option=com_jevents&task=icalevent.detail&evid=
 867&Itemid=6289">Voir les informations dans l'agenda...</a></li><li><a href
 ="/index.php?option=com_gskiepreuves&view=afficheresultats&format_option=to
 us&filter[search]=AMVT0060&filter[date_debut]=23-12-2017&filter[date_fin]=2
 3-12-2017&code_activite=ALP&Itemid=6289">Vers les résultats...</a></li><li>
 Publications concernant cet évènement :<ul><li><a href="/index.php?option=c
 om_content&view=article&id=5984&Itemid=6289">Vendredi 22 Décembre 2017 à 18
 :27 : Le 23/12/2017 GERARDMER Liste de départs</a></li></ul></li></ul></div
 ></div"><!-- #/gskiepreuve fin du dode généré par le plugin jevents pour Gs
 kiEpreuves. . Ne pas modifier cette ligne, ni tout le contenu précedant.  #
 /gskiepreuve --> <a href="https://skivosges.net/agenda/a-venir/detailevenem
 ent/872/-/open-coupe-du-pere-noel?tmpl=component">Cet évènement a été impor
 té depuis :https://skivosges.net/agenda/a-venir/detailevenement/872/-/open-
 coupe-du-pere-noel?tmpl=component</a>
X-ALT-DESC;FMTTYPE=text/html:<!-- #gskiepreuve code généré par le plugin jevents pour GskiEpreuves. Ne p
 as modifier cette ligne, ni tout le contenu suivant  #gskiepreuve --><div c
 lass="gski-evenement_infos"><div class="gski-evenement-nom">OPEN Coupe du p
 ère NOEL</div><div class="gski-evenement-report"></div><ul class="gski-even
 ement-liste-infos"><li>Codex évenement AMVT0060</li><li>Station : GERARDMER
 </li><li>Piste : Stade</li><li>Organisateur : 14089 GERARDMER SKI ALPIN</li
 ><li>Courriel : <!-- Cette adresse électronique est protégée contre les rob
 ots spammeurs. --><span class="cloaked_email ep_40328176"><span data-ep-a="
 &#97;&#115;&#103;&#115;k" data-ep-b="&#102;&#114;"><span data-ep-a="&#105;.
 &#103;&#101;r" data-ep-b="ad&#111;&#111;&#46;"><span data-ep-b="&#114;&#64;
 &#119;&#97;&#110;" data-ep-a="&#97;r&#100;&#109;&#101;"></span></span></spa
 n></span><script>RegularLabs.EmailProtector.unCloak("ep_40328176");</script
 ></li><li>Téléphone : 03 29 60 98 04</li><li><span class="gski-evenement-ob
 s">Délégué Technique : TURRI TIZIANO</span></li></ul><div class="gski-evene
 ment-infos-2"><div class="gski-evenement-info-inscriptions"><div class="gsk
 i-evenement-inscriptions-periodes">Période d'inscription à l'evènement du s
 amedi 16 décembre 2017 à 00:00 au vendredi 22 décembre 2017 à 08:00 <span c
 lass="gski-evenement-inscriptions-impossibles">(Inscriptions impossibles).<
 /span><div class="gski-evenement-inscriptions-types-titres">Inscriptions ou
 vertes aux detenteurs des titres Fédéraux valides suivants : Licenciés Comp
 étiteurs</div></div></div><div class="gski-evenement-info-live">L'épreuve s
 era chronometrée avec les résultats publiés en direct (live)</div><div clas
 s="gski-evenement-epreuves"><div class="gski-evenement-epreuves-titres">Epr
 euves :</div><ul class="gski-evenement-epreuves-list"><li><div class="gski-
 epreuve-date">Le samedi 23 décembre 2017</div><ul class="gski-epreuve-liste
 -infos"><li>Codex épreuve AMVF0061</li><li>Slalom</li><li>Catégorie(s) : U1
 6 (Filles)</li></ul></li><li><div class="gski-epreuve-date">Le samedi 23 dé
 cembre 2017</div><ul class="gski-epreuve-liste-infos"><li>Codex épreuve AMV
 M0061</li><li>Slalom</li><li>Catégorie(s) : U16 (Garçons)</li></ul></li><li
 ><div class="gski-epreuve-date">Le samedi 23 décembre 2017</div><ul class="
 gski-epreuve-liste-infos"><li>Codex épreuve AMVM0062</li><li>Slalom</li><li
 >Catégorie(s) : U18 a Masters (Hommes)</li></ul></li><li><div class="gski-e
 preuve-date">Le samedi 23 décembre 2017</div><ul class="gski-epreuve-liste-
 infos"><li>Codex épreuve AMVF0062</li><li>Slalom</li><li>Catégorie(s) : U18
  a Masters (Dames)</li></ul></li></ul></div><div class="gskiepreuves-links"
 ><ul><li><a href="https://skivosges.net/index.php?option=com_jevents&task=i
 calevent.detail&evid=867&Itemid=6289">Voir les informations dans l'agenda..
 .</a></li><li><a href="https://skivosges.net/index.php?option=com_gskiepreu
 ves&view=afficheresultats&format_option=tous&filter[search]=AMVT0060&filter
 [date_debut]=23-12-2017&filter[date_fin]=23-12-2017&code_activite=ALP&Itemi
 d=6289">Vers les résultats...</a></li><li>Publications concernant cet évène
 ment :<ul><li><a href="https://skivosges.net/index.php?option=com_content&v
 iew=article&id=5984&Itemid=6289">Vendredi 22 Décembre 2017 à 18:27 : Le 23/
 12/2017 GERARDMER Liste de départs</a></li></ul></li></ul></div></div"><!--
  #/gskiepreuve fin du dode généré par le plugin jevents pour GskiEpreuves. 
 . Ne pas modifier cette ligne, ni tout le contenu précedant.  #/gskiepreuve
  --> <a href="https://skivosges.net/agenda/a-venir/detailevenement/872/-/op
 en-coupe-du-pere-noel?tmpl=component">Cet évènement a été importé depuis :h
 ttps://skivosges.net/agenda/a-venir/detailevenement/872/-/open-coupe-du-per
 e-noel?tmpl=component</a>DTSTAMP:20260424T060809
DTSTART;TZID=Europe/Paris;VALUE=DATE:20171223
DTEND;TZID=Europe/Paris;VALUE=DATE:20171224
SEQUENCE:0
TRANSP:OPAQUE
END:VEVENT
END:VCALENDAR