BEGIN:VCALENDAR
VERSION:2.0
PRODID:-//jEvents 2.0 for Joomla//EN
CALSCALE:GREGORIAN
METHOD:PUBLISH
BEGIN:VTIMEZONE
TZID:Europe/Paris
BEGIN:STANDARD
DTSTART:20161229T000000
RDATE:20170326T030000
TZOFFSETFROM:+0200
TZOFFSETTO:+0100
TZNAME:Europe/Paris CET
END:STANDARD
BEGIN:STANDARD
DTSTART:20171029T020000
RDATE:20180325T030000
TZOFFSETFROM:+0200
TZOFFSETTO:+0100
TZNAME:Europe/Paris CET
END:STANDARD
BEGIN:STANDARD
DTSTART:20181028T020000
RDATE:20190331T030000
TZOFFSETFROM:+0200
TZOFFSETTO:+0100
TZNAME:Europe/Paris CET
END:STANDARD
BEGIN:STANDARD
DTSTART:20191027T020000
RDATE:20200329T030000
TZOFFSETFROM:+0200
TZOFFSETTO:+0100
TZNAME:Europe/Paris CET
END:STANDARD
BEGIN:STANDARD
DTSTART:20201025T020000
RDATE:20210328T030000
TZOFFSETFROM:+0200
TZOFFSETTO:+0100
TZNAME:Europe/Paris CET
END:STANDARD
BEGIN:STANDARD
DTSTART:20211031T020000
RDATE:20220327T030000
TZOFFSETFROM:+0200
TZOFFSETTO:+0100
TZNAME:Europe/Paris CET
END:STANDARD
BEGIN:STANDARD
DTSTART:20221030T020000
RDATE:20230326T030000
TZOFFSETFROM:+0200
TZOFFSETTO:+0100
TZNAME:Europe/Paris CET
END:STANDARD
BEGIN:STANDARD
DTSTART:20231029T020000
RDATE:20240331T030000
TZOFFSETFROM:+0200
TZOFFSETTO:+0100
TZNAME:Europe/Paris CET
END:STANDARD
BEGIN:STANDARD
DTSTART:20241027T020000
RDATE:20250330T030000
TZOFFSETFROM:+0200
TZOFFSETTO:+0100
TZNAME:Europe/Paris CET
END:STANDARD
BEGIN:STANDARD
DTSTART:20251026T020000
RDATE:20260329T030000
TZOFFSETFROM:+0200
TZOFFSETTO:+0100
TZNAME:Europe/Paris CET
END:STANDARD
BEGIN:STANDARD
DTSTART:20261025T020000
RDATE:20270328T030000
TZOFFSETFROM:+0200
TZOFFSETTO:+0100
TZNAME:Europe/Paris CET
END:STANDARD
BEGIN:DAYLIGHT
DTSTART:20170326T030000
RDATE:20171029T020000
TZOFFSETFROM:+0100
TZOFFSETTO:+0200
TZNAME:Europe/Paris CEST
END:DAYLIGHT
BEGIN:DAYLIGHT
DTSTART:20180325T030000
RDATE:20181028T020000
TZOFFSETFROM:+0100
TZOFFSETTO:+0200
TZNAME:Europe/Paris CEST
END:DAYLIGHT
BEGIN:DAYLIGHT
DTSTART:20190331T030000
RDATE:20191027T020000
TZOFFSETFROM:+0100
TZOFFSETTO:+0200
TZNAME:Europe/Paris CEST
END:DAYLIGHT
BEGIN:DAYLIGHT
DTSTART:20200329T030000
RDATE:20201025T020000
TZOFFSETFROM:+0100
TZOFFSETTO:+0200
TZNAME:Europe/Paris CEST
END:DAYLIGHT
BEGIN:DAYLIGHT
DTSTART:20210328T030000
RDATE:20211031T020000
TZOFFSETFROM:+0100
TZOFFSETTO:+0200
TZNAME:Europe/Paris CEST
END:DAYLIGHT
BEGIN:DAYLIGHT
DTSTART:20220327T030000
RDATE:20221030T020000
TZOFFSETFROM:+0100
TZOFFSETTO:+0200
TZNAME:Europe/Paris CEST
END:DAYLIGHT
BEGIN:DAYLIGHT
DTSTART:20230326T030000
RDATE:20231029T020000
TZOFFSETFROM:+0100
TZOFFSETTO:+0200
TZNAME:Europe/Paris CEST
END:DAYLIGHT
BEGIN:DAYLIGHT
DTSTART:20240331T030000
RDATE:20241027T020000
TZOFFSETFROM:+0100
TZOFFSETTO:+0200
TZNAME:Europe/Paris CEST
END:DAYLIGHT
BEGIN:DAYLIGHT
DTSTART:20250330T030000
RDATE:20251026T020000
TZOFFSETFROM:+0100
TZOFFSETTO:+0200
TZNAME:Europe/Paris CEST
END:DAYLIGHT
BEGIN:DAYLIGHT
DTSTART:20260329T030000
RDATE:20261025T020000
TZOFFSETFROM:+0100
TZOFFSETTO:+0200
TZNAME:Europe/Paris CEST
END:DAYLIGHT
END:VTIMEZONE
BEGIN:VEVENT
UID:b97ab6838cddc5ac052220e3ab28d3c5
CATEGORIES:Compétition Ski de Fond
CREATED:20171121T093310
SUMMARY:COUPE DE LA HASEL  BIG-MAT-ATOMIC N°4   CRÉDIT-MUTUEL N°3
URL;VALUE=URI:https://skivosges.net/agenda/a-venir/detailevenement/874/-/coupe-de-la-hase
 l-big-mat-atomic-n-4-credit-mutuel-n-3?tmpl=component
DESCRIPTION:<!-- #gskiepreuve code généré par le plugin jevents pour GskiEpreuves. Ne p
 as modifier cette ligne, ni tout le contenu suivant  #gskiepreuve --><div c
 lass="gski-evenement_infos"><div class="gski-evenement-nom">COUPE DE LA HAS
 EL  BIG-MAT-ATOMIC N°4   CRÉDIT-MUTUEL N°3</div><div class="gski-evenement-
 report"></div><ul class="gski-evenement-liste-infos"><li>Codex évenement FM
 VT0050</li><li>Lieu : piste des Myrtilles</li><li>Station : CHAMP DU FEU</l
 i><li>Piste : Myrtilles</li><li>Organisateur : 14336 SKI CLUB OBERHASLACH</
 li><li>Courriel : <!-- Cette adresse électronique est protégée contre les r
 obots spammeurs. --><span class="cloaked_email ep_a068041f"><span data-ep-a
 ="&#106;e&#97;n-" data-ep-b="ge&#46;&#102;&#114;"><span data-ep-b="&#64;&#1
 11;r&#97;&#110;" data-ep-a="&#99;lau&#100;"><span data-ep-b="n&#109;&#97;n&
 #110;" data-ep-a="e&#46;&#105;s&#101;"></span></span></span></span><script>
 RegularLabs.EmailProtector.unCloak("ep_a068041f");</script></li><li>Télépho
 ne : 0782201612</li><li><span class="gski-evenement-obs">Délégué Technique 
 : PETITDEMANGE JEAN MARIE</span></li></ul><div class="gski-evenement-infos-
 2"><div class="gski-evenement-info-inscriptions"><div class="gski-evenement
 -inscriptions-periodes">Période d'inscription à l'evènement du samedi 23 dé
 cembre 2017 à 00:00 au jeudi 28 décembre 2017 à 20:00 <span class="gski-eve
 nement-inscriptions-impossibles">(Inscriptions impossibles).</span><div cla
 ss="gski-evenement-inscriptions-types-titres">Inscriptions ouvertes aux det
 enteurs des titres Fédéraux valides suivants : Licenciés Compétiteurs</div>
 </div></div><div class="gski-evenement-epreuves"><div class="gski-evenement
 -epreuves-titres">Epreuves :</div><ul class="gski-evenement-epreuves-list">
 <li><div class="gski-epreuve-date">Le samedi 30 décembre 2017 à 09:30</div>
 <ul class="gski-epreuve-liste-infos"><li>Codex épreuve FMVF0051</li><li>Dep
 art Individuel</li><li>Catégorie(s) : U16 (Filles)</li></ul></li><li><div c
 lass="gski-epreuve-date">Le samedi 30 décembre 2017 à 09:30</div><ul class=
 "gski-epreuve-liste-infos"><li>Codex épreuve FMVF0052</li><li>Depart Indivi
 duel</li><li>Catégorie(s) : U18/U20 (Dames)</li></ul></li><li><div class="g
 ski-epreuve-date">Le samedi 30 décembre 2017 à 09:30</div><ul class="gski-e
 preuve-liste-infos"><li>Codex épreuve FMVF0053</li><li>Depart Individuel</l
 i><li>Catégorie(s) : Senior (Dames)</li></ul></li><li><div class="gski-epre
 uve-date">Le samedi 30 décembre 2017 à 09:30</div><ul class="gski-epreuve-l
 iste-infos"><li>Codex épreuve FMVM0051</li><li>Depart Individuel</li><li>Ca
 tégorie(s) : U16 (Garçons)</li></ul></li><li><div class="gski-epreuve-date"
 >Le samedi 30 décembre 2017 à 09:30</div><ul class="gski-epreuve-liste-info
 s"><li>Codex épreuve FMVM0052</li><li>Depart Individuel</li><li>Catégorie(s
 ) : U18/U20 (Hommes)</li></ul></li><li><div class="gski-epreuve-date">Le sa
 medi 30 décembre 2017 à 09:30</div><ul class="gski-epreuve-liste-infos"><li
 >Codex épreuve FMVM0053</li><li>Depart Individuel</li><li>Catégorie(s) : Se
 nior (Hommes)</li></ul></li></ul></div><div class="gskiepreuves-links"><ul>
 <li><a href="/index.php?option=com_jevents&task=icalevent.detail&evid=869&I
 temid=6289">Voir les informations dans l'agenda...</a></li><li><a href="/in
 dex.php?option=com_gskiepreuves&view=afficheresultats&format_option=tous&fi
 lter[search]=FMVT0050&filter[date_debut]=30-12-2017&filter[date_fin]=30-12-
 2017&code_activite=FOND&Itemid=6289">Vers les résultats...</a></li><li>Publ
 ications concernant cet évènement :<ul><li><a href="/index.php?option=com_c
 ontent&view=article&id=5991&Itemid=6289">Vendredi 29 Décembre 2017 à 17:02 
 : Le 30/12/2017 CHAMP DU FEU Liste de départs</a></li></ul></li></ul></div>
 </div"><!-- #/gskiepreuve fin du dode généré par le plugin jevents pour Gsk
 iEpreuves. . Ne pas modifier cette ligne, ni tout le contenu précedant.  #/
 gskiepreuve --> <a href="https://skivosges.net/agenda/a-venir/detaileveneme
 nt/874/-/coupe-de-la-hasel-big-mat-atomic-n-4-credit-mutuel-n-3?tmpl=compon
 ent">Cet évènement a été importé depuis :https://skivosges.net/agenda/a-ven
 ir/detailevenement/874/-/coupe-de-la-hasel-big-mat-atomic-n-4-credit-mutuel
 -n-3?tmpl=component</a>
X-ALT-DESC;FMTTYPE=text/html:<!-- #gskiepreuve code généré par le plugin jevents pour GskiEpreuves. Ne p
 as modifier cette ligne, ni tout le contenu suivant  #gskiepreuve --><div c
 lass="gski-evenement_infos"><div class="gski-evenement-nom">COUPE DE LA HAS
 EL  BIG-MAT-ATOMIC N°4   CRÉDIT-MUTUEL N°3</div><div class="gski-evenement-
 report"></div><ul class="gski-evenement-liste-infos"><li>Codex évenement FM
 VT0050</li><li>Lieu : piste des Myrtilles</li><li>Station : CHAMP DU FEU</l
 i><li>Piste : Myrtilles</li><li>Organisateur : 14336 SKI CLUB OBERHASLACH</
 li><li>Courriel : <!-- Cette adresse électronique est protégée contre les r
 obots spammeurs. --><span class="cloaked_email ep_a068041f"><span data-ep-a
 ="&#106;e&#97;n-" data-ep-b="ge&#46;&#102;&#114;"><span data-ep-b="&#64;&#1
 11;r&#97;&#110;" data-ep-a="&#99;lau&#100;"><span data-ep-b="n&#109;&#97;n&
 #110;" data-ep-a="e&#46;&#105;s&#101;"></span></span></span></span><script>
 RegularLabs.EmailProtector.unCloak("ep_a068041f");</script></li><li>Télépho
 ne : 0782201612</li><li><span class="gski-evenement-obs">Délégué Technique 
 : PETITDEMANGE JEAN MARIE</span></li></ul><div class="gski-evenement-infos-
 2"><div class="gski-evenement-info-inscriptions"><div class="gski-evenement
 -inscriptions-periodes">Période d'inscription à l'evènement du samedi 23 dé
 cembre 2017 à 00:00 au jeudi 28 décembre 2017 à 20:00 <span class="gski-eve
 nement-inscriptions-impossibles">(Inscriptions impossibles).</span><div cla
 ss="gski-evenement-inscriptions-types-titres">Inscriptions ouvertes aux det
 enteurs des titres Fédéraux valides suivants : Licenciés Compétiteurs</div>
 </div></div><div class="gski-evenement-epreuves"><div class="gski-evenement
 -epreuves-titres">Epreuves :</div><ul class="gski-evenement-epreuves-list">
 <li><div class="gski-epreuve-date">Le samedi 30 décembre 2017 à 09:30</div>
 <ul class="gski-epreuve-liste-infos"><li>Codex épreuve FMVF0051</li><li>Dep
 art Individuel</li><li>Catégorie(s) : U16 (Filles)</li></ul></li><li><div c
 lass="gski-epreuve-date">Le samedi 30 décembre 2017 à 09:30</div><ul class=
 "gski-epreuve-liste-infos"><li>Codex épreuve FMVF0052</li><li>Depart Indivi
 duel</li><li>Catégorie(s) : U18/U20 (Dames)</li></ul></li><li><div class="g
 ski-epreuve-date">Le samedi 30 décembre 2017 à 09:30</div><ul class="gski-e
 preuve-liste-infos"><li>Codex épreuve FMVF0053</li><li>Depart Individuel</l
 i><li>Catégorie(s) : Senior (Dames)</li></ul></li><li><div class="gski-epre
 uve-date">Le samedi 30 décembre 2017 à 09:30</div><ul class="gski-epreuve-l
 iste-infos"><li>Codex épreuve FMVM0051</li><li>Depart Individuel</li><li>Ca
 tégorie(s) : U16 (Garçons)</li></ul></li><li><div class="gski-epreuve-date"
 >Le samedi 30 décembre 2017 à 09:30</div><ul class="gski-epreuve-liste-info
 s"><li>Codex épreuve FMVM0052</li><li>Depart Individuel</li><li>Catégorie(s
 ) : U18/U20 (Hommes)</li></ul></li><li><div class="gski-epreuve-date">Le sa
 medi 30 décembre 2017 à 09:30</div><ul class="gski-epreuve-liste-infos"><li
 >Codex épreuve FMVM0053</li><li>Depart Individuel</li><li>Catégorie(s) : Se
 nior (Hommes)</li></ul></li></ul></div><div class="gskiepreuves-links"><ul>
 <li><a href="https://skivosges.net/index.php?option=com_jevents&task=icalev
 ent.detail&evid=869&Itemid=6289">Voir les informations dans l'agenda...</a>
 </li><li><a href="https://skivosges.net/index.php?option=com_gskiepreuves&v
 iew=afficheresultats&format_option=tous&filter[search]=FMVT0050&filter[date
 _debut]=30-12-2017&filter[date_fin]=30-12-2017&code_activite=FOND&Itemid=62
 89">Vers les résultats...</a></li><li>Publications concernant cet évènement
  :<ul><li><a href="https://skivosges.net/index.php?option=com_content&view=
 article&id=5991&Itemid=6289">Vendredi 29 Décembre 2017 à 17:02 : Le 30/12/2
 017 CHAMP DU FEU Liste de départs</a></li></ul></li></ul></div></div"><!-- 
 #/gskiepreuve fin du dode généré par le plugin jevents pour GskiEpreuves. .
  Ne pas modifier cette ligne, ni tout le contenu précedant.  #/gskiepreuve 
 --> <a href="https://skivosges.net/agenda/a-venir/detailevenement/874/-/cou
 pe-de-la-hasel-big-mat-atomic-n-4-credit-mutuel-n-3?tmpl=component">Cet évè
 nement a été importé depuis :https://skivosges.net/agenda/a-venir/detaileve
 nement/874/-/coupe-de-la-hasel-big-mat-atomic-n-4-credit-mutuel-n-3?tmpl=co
 mponent</a>DTSTAMP:20260424T012604
DTSTART;TZID=Europe/Paris;VALUE=DATE:20171230
DTEND;TZID=Europe/Paris;VALUE=DATE:20171231
SEQUENCE:0
TRANSP:OPAQUE
END:VEVENT
END:VCALENDAR