BEGIN:VCALENDAR
VERSION:2.0
PRODID:-//jEvents 2.0 for Joomla//EN
CALSCALE:GREGORIAN
METHOD:PUBLISH
BEGIN:VTIMEZONE
TZID:Europe/Paris
BEGIN:STANDARD
DTSTART:20130117T080000
RDATE:20130331T030000
TZOFFSETFROM:+0200
TZOFFSETTO:+0100
TZNAME:Europe/Paris CET
END:STANDARD
BEGIN:STANDARD
DTSTART:20131027T020000
RDATE:20140330T030000
TZOFFSETFROM:+0200
TZOFFSETTO:+0100
TZNAME:Europe/Paris CET
END:STANDARD
BEGIN:STANDARD
DTSTART:20141026T020000
RDATE:20150329T030000
TZOFFSETFROM:+0200
TZOFFSETTO:+0100
TZNAME:Europe/Paris CET
END:STANDARD
BEGIN:STANDARD
DTSTART:20151025T020000
RDATE:20160327T030000
TZOFFSETFROM:+0200
TZOFFSETTO:+0100
TZNAME:Europe/Paris CET
END:STANDARD
BEGIN:STANDARD
DTSTART:20161030T020000
RDATE:20170326T030000
TZOFFSETFROM:+0200
TZOFFSETTO:+0100
TZNAME:Europe/Paris CET
END:STANDARD
BEGIN:STANDARD
DTSTART:20171029T020000
RDATE:20180325T030000
TZOFFSETFROM:+0200
TZOFFSETTO:+0100
TZNAME:Europe/Paris CET
END:STANDARD
BEGIN:STANDARD
DTSTART:20181028T020000
RDATE:20190331T030000
TZOFFSETFROM:+0200
TZOFFSETTO:+0100
TZNAME:Europe/Paris CET
END:STANDARD
BEGIN:STANDARD
DTSTART:20191027T020000
RDATE:20200329T030000
TZOFFSETFROM:+0200
TZOFFSETTO:+0100
TZNAME:Europe/Paris CET
END:STANDARD
BEGIN:STANDARD
DTSTART:20201025T020000
RDATE:20210328T030000
TZOFFSETFROM:+0200
TZOFFSETTO:+0100
TZNAME:Europe/Paris CET
END:STANDARD
BEGIN:STANDARD
DTSTART:20211031T020000
RDATE:20220327T030000
TZOFFSETFROM:+0200
TZOFFSETTO:+0100
TZNAME:Europe/Paris CET
END:STANDARD
BEGIN:STANDARD
DTSTART:20221030T020000
RDATE:20230326T030000
TZOFFSETFROM:+0200
TZOFFSETTO:+0100
TZNAME:Europe/Paris CET
END:STANDARD
BEGIN:STANDARD
DTSTART:20231029T020000
RDATE:20240331T030000
TZOFFSETFROM:+0200
TZOFFSETTO:+0100
TZNAME:Europe/Paris CET
END:STANDARD
BEGIN:STANDARD
DTSTART:20241027T020000
RDATE:20250330T030000
TZOFFSETFROM:+0200
TZOFFSETTO:+0100
TZNAME:Europe/Paris CET
END:STANDARD
BEGIN:STANDARD
DTSTART:20251026T020000
RDATE:20260329T030000
TZOFFSETFROM:+0200
TZOFFSETTO:+0100
TZNAME:Europe/Paris CET
END:STANDARD
BEGIN:STANDARD
DTSTART:20261025T020000
RDATE:20270328T030000
TZOFFSETFROM:+0200
TZOFFSETTO:+0100
TZNAME:Europe/Paris CET
END:STANDARD
BEGIN:DAYLIGHT
DTSTART:20130331T030000
RDATE:20131027T020000
TZOFFSETFROM:+0100
TZOFFSETTO:+0200
TZNAME:Europe/Paris CEST
END:DAYLIGHT
BEGIN:DAYLIGHT
DTSTART:20140330T030000
RDATE:20141026T020000
TZOFFSETFROM:+0100
TZOFFSETTO:+0200
TZNAME:Europe/Paris CEST
END:DAYLIGHT
BEGIN:DAYLIGHT
DTSTART:20150329T030000
RDATE:20151025T020000
TZOFFSETFROM:+0100
TZOFFSETTO:+0200
TZNAME:Europe/Paris CEST
END:DAYLIGHT
BEGIN:DAYLIGHT
DTSTART:20160327T030000
RDATE:20161030T020000
TZOFFSETFROM:+0100
TZOFFSETTO:+0200
TZNAME:Europe/Paris CEST
END:DAYLIGHT
BEGIN:DAYLIGHT
DTSTART:20170326T030000
RDATE:20171029T020000
TZOFFSETFROM:+0100
TZOFFSETTO:+0200
TZNAME:Europe/Paris CEST
END:DAYLIGHT
BEGIN:DAYLIGHT
DTSTART:20180325T030000
RDATE:20181028T020000
TZOFFSETFROM:+0100
TZOFFSETTO:+0200
TZNAME:Europe/Paris CEST
END:DAYLIGHT
BEGIN:DAYLIGHT
DTSTART:20190331T030000
RDATE:20191027T020000
TZOFFSETFROM:+0100
TZOFFSETTO:+0200
TZNAME:Europe/Paris CEST
END:DAYLIGHT
BEGIN:DAYLIGHT
DTSTART:20200329T030000
RDATE:20201025T020000
TZOFFSETFROM:+0100
TZOFFSETTO:+0200
TZNAME:Europe/Paris CEST
END:DAYLIGHT
BEGIN:DAYLIGHT
DTSTART:20210328T030000
RDATE:20211031T020000
TZOFFSETFROM:+0100
TZOFFSETTO:+0200
TZNAME:Europe/Paris CEST
END:DAYLIGHT
BEGIN:DAYLIGHT
DTSTART:20220327T030000
RDATE:20221030T020000
TZOFFSETFROM:+0100
TZOFFSETTO:+0200
TZNAME:Europe/Paris CEST
END:DAYLIGHT
BEGIN:DAYLIGHT
DTSTART:20230326T030000
RDATE:20231029T020000
TZOFFSETFROM:+0100
TZOFFSETTO:+0200
TZNAME:Europe/Paris CEST
END:DAYLIGHT
BEGIN:DAYLIGHT
DTSTART:20240331T030000
RDATE:20241027T020000
TZOFFSETFROM:+0100
TZOFFSETTO:+0200
TZNAME:Europe/Paris CEST
END:DAYLIGHT
BEGIN:DAYLIGHT
DTSTART:20250330T030000
RDATE:20251026T020000
TZOFFSETFROM:+0100
TZOFFSETTO:+0200
TZNAME:Europe/Paris CEST
END:DAYLIGHT
BEGIN:DAYLIGHT
DTSTART:20260329T030000
RDATE:20261025T020000
TZOFFSETFROM:+0100
TZOFFSETTO:+0200
TZNAME:Europe/Paris CEST
END:DAYLIGHT
END:VTIMEZONE
BEGIN:VEVENT
UID:fec9267a8812736db1d3ccc232b24717
CATEGORIES:Circuit Massif Adultes (alpin)
CREATED:20131203T122100
SUMMARY:GPA    Bristot de la Perle Gérardmer / Chp Fédéral / Qualif Cp de la Fédération **REPORTE**
URL;VALUE=URI:https://skivosges.net/agenda/a-venir/detailevenement/88/-/gpa-bristot-de-la
 -perle-gerardmer-chp-federal-qualif-cp-de-la-federation-reporte?tmpl=compon
 ent
DESCRIPTION:GPA    Bristot de la Perle Gérardmer / Chp Fédéral / Qualif Cp de la Fédéra
 tion (Epreuve reportée, date à determiner) \n(Grand Prix Adultes)\n\nLieu :
  GERARDMER \nOrganisateur : GERARDMER SKI ALPIN  (14089 GERARDMER SKI ALPIN
 )\nEmail : RegularLabs.EmailProtector.unCloak("ep_d6cc8c76");\nTelecopie : 
 03 29 60 98 04\nTelecopie : 03 29 60 98 04\n - AMVF0221  Slalom (Coupe de l
 a Federation) U16-&gt;Mas (Min à Mast/Vet) Dames\n  GPA    Bristot de la Pe
 rle Gérardmer / Chp Fédéral / Qualif Cp de la Fédération\n - AMVM0221  Slal
 om (Coupe de la Federation) U16-&gt;Mas (Min à Mast/Vet) Hommes\n  GPA    B
 ristot de la Perle Gérardmer / Chp Fédéral / Qualif Cp de la Fédération Cet
  évènement a été importé depuis :https://skivosges.net/agenda/a-venir/detai
 levenement/88/-/gpa-bristot-de-la-perle-gerardmer-chp-federal-qualif-cp-de-
 la-federation-reporte?tmpl=component (https://skivosges.net/agenda/a-venir/
 detailevenement/88/-/gpa-bristot-de-la-perle-gerardmer-chp-federal-qualif-c
 p-de-la-federation-reporte?tmpl=component)
X-ALT-DESC;FMTTYPE=text/html:<strong>GPA    Bristot de la Perle Gérardmer / Chp Fédéral / Qualif Cp de l
 a Fédération</strong> <font class="attention4">(Epreuve reportée, date à de
 terminer)</font> <br /><i>(Grand Prix Adultes)</i><br /><br />Lieu : GERARD
 MER <br />Organisateur : GERARDMER SKI ALPIN  <small>(14089 GERARDMER SKI A
 LPIN)</small><br />Email : <!-- Cette adresse électronique est protégée con
 tre les robots spammeurs. --><span class="cloaked_email ep_d6cc8c76"><span 
 data-ep-a="g&#101;&#114;a&#114;" data-ep-b="&#101;&#46;&#102;&#114;"><span 
 data-ep-b="&#111;&#114;&#97;&#110;g" data-ep-a="d&#109;&#101;&#114;-"><span
  data-ep-a="ski&#45;&#97;" data-ep-b="&#108;&#112;&#105;&#110;&#64;"></span
 ></span></span></span><script>RegularLabs.EmailProtector.unCloak("ep_d6cc8c
 76");</script><br />Telecopie : 03 29 60 98 04<br />Telecopie : 03 29 60 98
  04<ul type="disc"><li>AMVF0221  Slalom <nobr><i>(Coupe de la Federation)</
 i></nobr> <nobr>U16->Mas (Min à Mast/Vet)</nobr> Dames<br />&nbsp;&nbsp;GPA
     Bristot de la Perle Gérardmer / Chp Fédéral / Qualif Cp de la Fédératio
 n</li><li>AMVM0221  Slalom <nobr><i>(Coupe de la Federation)</i></nobr> <no
 br>U16->Mas (Min à Mast/Vet)</nobr> Hommes<br />&nbsp;&nbsp;GPA    Bristot 
 de la Perle Gérardmer / Chp Fédéral / Qualif Cp de la Fédération</li></ul> 
 <a href="https://skivosges.net/agenda/a-venir/detailevenement/88/-/gpa-bris
 tot-de-la-perle-gerardmer-chp-federal-qualif-cp-de-la-federation-reporte?tm
 pl=component">Cet évènement a été importé depuis :https://skivosges.net/age
 nda/a-venir/detailevenement/88/-/gpa-bristot-de-la-perle-gerardmer-chp-fede
 ral-qualif-cp-de-la-federation-reporte?tmpl=component</a>DTSTAMP:20260424T073916
DTSTART;TZID=Europe/Paris:20140118T080000
DTEND;TZID=Europe/Paris:20140118T170000
SEQUENCE:0
TRANSP:OPAQUE
END:VEVENT
END:VCALENDAR