BEGIN:VCALENDAR
VERSION:2.0
PRODID:-//jEvents 2.0 for Joomla//EN
CALSCALE:GREGORIAN
METHOD:PUBLISH
BEGIN:VTIMEZONE
TZID:Europe/Paris
BEGIN:STANDARD
DTSTART:20170106T000000
RDATE:20170326T030000
TZOFFSETFROM:+0200
TZOFFSETTO:+0100
TZNAME:Europe/Paris CET
END:STANDARD
BEGIN:STANDARD
DTSTART:20171029T020000
RDATE:20180325T030000
TZOFFSETFROM:+0200
TZOFFSETTO:+0100
TZNAME:Europe/Paris CET
END:STANDARD
BEGIN:STANDARD
DTSTART:20181028T020000
RDATE:20190331T030000
TZOFFSETFROM:+0200
TZOFFSETTO:+0100
TZNAME:Europe/Paris CET
END:STANDARD
BEGIN:STANDARD
DTSTART:20191027T020000
RDATE:20200329T030000
TZOFFSETFROM:+0200
TZOFFSETTO:+0100
TZNAME:Europe/Paris CET
END:STANDARD
BEGIN:STANDARD
DTSTART:20201025T020000
RDATE:20210328T030000
TZOFFSETFROM:+0200
TZOFFSETTO:+0100
TZNAME:Europe/Paris CET
END:STANDARD
BEGIN:STANDARD
DTSTART:20211031T020000
RDATE:20220327T030000
TZOFFSETFROM:+0200
TZOFFSETTO:+0100
TZNAME:Europe/Paris CET
END:STANDARD
BEGIN:STANDARD
DTSTART:20221030T020000
RDATE:20230326T030000
TZOFFSETFROM:+0200
TZOFFSETTO:+0100
TZNAME:Europe/Paris CET
END:STANDARD
BEGIN:STANDARD
DTSTART:20231029T020000
RDATE:20240331T030000
TZOFFSETFROM:+0200
TZOFFSETTO:+0100
TZNAME:Europe/Paris CET
END:STANDARD
BEGIN:STANDARD
DTSTART:20241027T020000
RDATE:20250330T030000
TZOFFSETFROM:+0200
TZOFFSETTO:+0100
TZNAME:Europe/Paris CET
END:STANDARD
BEGIN:STANDARD
DTSTART:20251026T020000
RDATE:20260329T030000
TZOFFSETFROM:+0200
TZOFFSETTO:+0100
TZNAME:Europe/Paris CET
END:STANDARD
BEGIN:STANDARD
DTSTART:20261025T020000
RDATE:20270328T030000
TZOFFSETFROM:+0200
TZOFFSETTO:+0100
TZNAME:Europe/Paris CET
END:STANDARD
BEGIN:DAYLIGHT
DTSTART:20170326T030000
RDATE:20171029T020000
TZOFFSETFROM:+0100
TZOFFSETTO:+0200
TZNAME:Europe/Paris CEST
END:DAYLIGHT
BEGIN:DAYLIGHT
DTSTART:20180325T030000
RDATE:20181028T020000
TZOFFSETFROM:+0100
TZOFFSETTO:+0200
TZNAME:Europe/Paris CEST
END:DAYLIGHT
BEGIN:DAYLIGHT
DTSTART:20190331T030000
RDATE:20191027T020000
TZOFFSETFROM:+0100
TZOFFSETTO:+0200
TZNAME:Europe/Paris CEST
END:DAYLIGHT
BEGIN:DAYLIGHT
DTSTART:20200329T030000
RDATE:20201025T020000
TZOFFSETFROM:+0100
TZOFFSETTO:+0200
TZNAME:Europe/Paris CEST
END:DAYLIGHT
BEGIN:DAYLIGHT
DTSTART:20210328T030000
RDATE:20211031T020000
TZOFFSETFROM:+0100
TZOFFSETTO:+0200
TZNAME:Europe/Paris CEST
END:DAYLIGHT
BEGIN:DAYLIGHT
DTSTART:20220327T030000
RDATE:20221030T020000
TZOFFSETFROM:+0100
TZOFFSETTO:+0200
TZNAME:Europe/Paris CEST
END:DAYLIGHT
BEGIN:DAYLIGHT
DTSTART:20230326T030000
RDATE:20231029T020000
TZOFFSETFROM:+0100
TZOFFSETTO:+0200
TZNAME:Europe/Paris CEST
END:DAYLIGHT
BEGIN:DAYLIGHT
DTSTART:20240331T030000
RDATE:20241027T020000
TZOFFSETFROM:+0100
TZOFFSETTO:+0200
TZNAME:Europe/Paris CEST
END:DAYLIGHT
BEGIN:DAYLIGHT
DTSTART:20250330T030000
RDATE:20251026T020000
TZOFFSETFROM:+0100
TZOFFSETTO:+0200
TZNAME:Europe/Paris CEST
END:DAYLIGHT
BEGIN:DAYLIGHT
DTSTART:20260329T030000
RDATE:20261025T020000
TZOFFSETFROM:+0100
TZOFFSETTO:+0200
TZNAME:Europe/Paris CEST
END:DAYLIGHT
END:VTIMEZONE
BEGIN:VEVENT
UID:7dddc41b2c16ea55fa4bf3395e43eaa4
CATEGORIES:Circuit Alsace Jeunes (alpin)
CREATED:20171121T093310
SUMMARY:CJA Coupe de Bronze Prix de la clinique du Ski et du Crédit Agricole
URL;VALUE=URI:https://skivosges.net/agenda/a-venir/detailevenement/883/-/cja-coupe-de-bro
 nze-prix-de-la-clinique-du-ski-et-du-credit-agricole?tmpl=component
DESCRIPTION:<!-- #gskiepreuve code généré par le plugin jevents pour GskiEpreuves. Ne p
 as modifier cette ligne, ni tout le contenu suivant  #gskiepreuve --><div c
 lass="gski-evenement_infos"><div class="gski-evenement-nom">CJA Coupe de Br
 onze Prix de la clinique du Ski et du Crédit Agricole</div><div class="gski
 -evenement-report"></div><ul class="gski-evenement-liste-infos"><li>Codex é
 venement AMVT0090</li><li>Lieu : markstein</li><li>Station : MARKSTEIN</li>
 <li>Piste : stade </li><li>Organisateur : 14231 SKI CLUB SAUSHEIM</li><li>C
 ourriel : <!-- Cette adresse électronique est protégée contre les robots sp
 ammeurs. --><span class="cloaked_email ep_b9ae5439"><span data-ep-b="" data
 -ep-a="&#98;&#46;&#104;&#97;"><span data-ep-b="o&#46;f&#114;" data-ep-a="be
 re"><span data-ep-b="&#110;&#97;d&#111;" data-ep-a="&#114;&#64;w&#97;"></sp
 an></span></span></span><script>RegularLabs.EmailProtector.unCloak("ep_b9ae
 5439");</script></li><li><span class="gski-evenement-obs">Délégué Technique
  : FUCHS MICHEL</span></li></ul><div class="gski-evenement-infos-2"><div cl
 ass="gski-evenement-info-inscriptions"><div class="gski-evenement-inscripti
 ons-periodes">Période d'inscription à l'evènement du dimanche 31 décembre 2
 017 à 00:00 au vendredi 05 janvier 2018 à 18:00 <span class="gski-evenement
 -inscriptions-impossibles">(Inscriptions impossibles).</span><div class="gs
 ki-evenement-inscriptions-types-titres">Inscriptions ouvertes aux detenteur
 s des titres Fédéraux valides suivants : Licenciés Compétiteurs</div></div>
 </div><div class="gski-evenement-epreuves"><div class="gski-evenement-epreu
 ves-titres">Epreuves :</div><ul class="gski-evenement-epreuves-list"><li><d
 iv class="gski-epreuve-date">Le dimanche 07 janvier 2018 à 10:00</div><ul c
 lass="gski-epreuve-liste-infos"><li>Codex épreuve AMVM0091</li><li>Slalom G
 eant</li><li>Catégorie(s) : U10/U12 (Garçons)</li></ul></li><li><div class=
 "gski-epreuve-date">Le dimanche 07 janvier 2018</div><ul class="gski-epreuv
 e-liste-infos"><li>Codex épreuve AMVF0091</li><li>Slalom Geant</li><li>Caté
 gorie(s) : U10/U12 (Filles)</li></ul></li><li><div class="gski-epreuve-date
 ">Le dimanche 07 janvier 2018</div><ul class="gski-epreuve-liste-infos"><li
 >Codex épreuve AMVM0092</li><li>Slalom Geant</li><li>Catégorie(s) : U14 (Ga
 rçons)</li></ul></li><li><div class="gski-epreuve-date">Le dimanche 07 janv
 ier 2018</div><ul class="gski-epreuve-liste-infos"><li>Codex épreuve AMVF00
 92</li><li>Slalom Geant</li><li>Catégorie(s) : U14 (Filles)</li></ul></li><
 li><div class="gski-epreuve-date">Le dimanche 07 janvier 2018</div><ul clas
 s="gski-epreuve-liste-infos"><li>Codex épreuve AMVF0093</li><li>Slalom Gean
 t</li><li>Catégorie(s) : U12/U14 (Filles)</li></ul></li><li><div class="gsk
 i-epreuve-date">Le dimanche 07 janvier 2018</div><ul class="gski-epreuve-li
 ste-infos"><li>Codex épreuve AMVM0093</li><li>Slalom Geant</li><li>Catégori
 e(s) : U12/U14 (Garçons)</li></ul></li></ul></div><div class="gskiepreuves-
 links"><ul><li><a href="/index.php?option=com_jevents&task=icalevent.detail
 &evid=878&Itemid=6289">Voir les informations dans l'agenda...</a></li><li><
 a href="/index.php?option=com_gskiepreuves&view=afficheresultats&format_opt
 ion=tous&filter[search]=AMVT0090&filter[date_debut]=07-01-2018&filter[date_
 fin]=07-01-2018&code_activite=ALP&Itemid=6289">Vers les résultats...</a></l
 i><li>Publications concernant cet évènement :<ul><li><a href="/index.php?op
 tion=com_content&view=article&id=5998&Itemid=6289">Vendredi 5 Janvier 2018 
 à 21:58 : Le 07/01/2018 MARKSTEIN Liste de départs</a></li></ul></li></ul><
 /div></div"><!-- #/gskiepreuve fin du dode généré par le plugin jevents pou
 r GskiEpreuves. . Ne pas modifier cette ligne, ni tout le contenu précedant
 .  #/gskiepreuve --> <a href="https://skivosges.net/agenda/a-venir/detailev
 enement/883/-/cja-coupe-de-bronze-prix-de-la-clinique-du-ski-et-du-credit-a
 gricole?tmpl=component">Cet évènement a été importé depuis :https://skivosg
 es.net/agenda/a-venir/detailevenement/883/-/cja-coupe-de-bronze-prix-de-la-
 clinique-du-ski-et-du-credit-agricole?tmpl=component</a>
X-ALT-DESC;FMTTYPE=text/html:<!-- #gskiepreuve code généré par le plugin jevents pour GskiEpreuves. Ne p
 as modifier cette ligne, ni tout le contenu suivant  #gskiepreuve --><div c
 lass="gski-evenement_infos"><div class="gski-evenement-nom">CJA Coupe de Br
 onze Prix de la clinique du Ski et du Crédit Agricole</div><div class="gski
 -evenement-report"></div><ul class="gski-evenement-liste-infos"><li>Codex é
 venement AMVT0090</li><li>Lieu : markstein</li><li>Station : MARKSTEIN</li>
 <li>Piste : stade </li><li>Organisateur : 14231 SKI CLUB SAUSHEIM</li><li>C
 ourriel : <!-- Cette adresse électronique est protégée contre les robots sp
 ammeurs. --><span class="cloaked_email ep_b9ae5439"><span data-ep-b="" data
 -ep-a="&#98;&#46;&#104;&#97;"><span data-ep-b="o&#46;f&#114;" data-ep-a="be
 re"><span data-ep-b="&#110;&#97;d&#111;" data-ep-a="&#114;&#64;w&#97;"></sp
 an></span></span></span><script>RegularLabs.EmailProtector.unCloak("ep_b9ae
 5439");</script></li><li><span class="gski-evenement-obs">Délégué Technique
  : FUCHS MICHEL</span></li></ul><div class="gski-evenement-infos-2"><div cl
 ass="gski-evenement-info-inscriptions"><div class="gski-evenement-inscripti
 ons-periodes">Période d'inscription à l'evènement du dimanche 31 décembre 2
 017 à 00:00 au vendredi 05 janvier 2018 à 18:00 <span class="gski-evenement
 -inscriptions-impossibles">(Inscriptions impossibles).</span><div class="gs
 ki-evenement-inscriptions-types-titres">Inscriptions ouvertes aux detenteur
 s des titres Fédéraux valides suivants : Licenciés Compétiteurs</div></div>
 </div><div class="gski-evenement-epreuves"><div class="gski-evenement-epreu
 ves-titres">Epreuves :</div><ul class="gski-evenement-epreuves-list"><li><d
 iv class="gski-epreuve-date">Le dimanche 07 janvier 2018 à 10:00</div><ul c
 lass="gski-epreuve-liste-infos"><li>Codex épreuve AMVM0091</li><li>Slalom G
 eant</li><li>Catégorie(s) : U10/U12 (Garçons)</li></ul></li><li><div class=
 "gski-epreuve-date">Le dimanche 07 janvier 2018</div><ul class="gski-epreuv
 e-liste-infos"><li>Codex épreuve AMVF0091</li><li>Slalom Geant</li><li>Caté
 gorie(s) : U10/U12 (Filles)</li></ul></li><li><div class="gski-epreuve-date
 ">Le dimanche 07 janvier 2018</div><ul class="gski-epreuve-liste-infos"><li
 >Codex épreuve AMVM0092</li><li>Slalom Geant</li><li>Catégorie(s) : U14 (Ga
 rçons)</li></ul></li><li><div class="gski-epreuve-date">Le dimanche 07 janv
 ier 2018</div><ul class="gski-epreuve-liste-infos"><li>Codex épreuve AMVF00
 92</li><li>Slalom Geant</li><li>Catégorie(s) : U14 (Filles)</li></ul></li><
 li><div class="gski-epreuve-date">Le dimanche 07 janvier 2018</div><ul clas
 s="gski-epreuve-liste-infos"><li>Codex épreuve AMVF0093</li><li>Slalom Gean
 t</li><li>Catégorie(s) : U12/U14 (Filles)</li></ul></li><li><div class="gsk
 i-epreuve-date">Le dimanche 07 janvier 2018</div><ul class="gski-epreuve-li
 ste-infos"><li>Codex épreuve AMVM0093</li><li>Slalom Geant</li><li>Catégori
 e(s) : U12/U14 (Garçons)</li></ul></li></ul></div><div class="gskiepreuves-
 links"><ul><li><a href="https://skivosges.net/index.php?option=com_jevents&
 task=icalevent.detail&evid=878&Itemid=6289">Voir les informations dans l'ag
 enda...</a></li><li><a href="https://skivosges.net/index.php?option=com_gsk
 iepreuves&view=afficheresultats&format_option=tous&filter[search]=AMVT0090&
 filter[date_debut]=07-01-2018&filter[date_fin]=07-01-2018&code_activite=ALP
 &Itemid=6289">Vers les résultats...</a></li><li>Publications concernant cet
  évènement :<ul><li><a href="https://skivosges.net/index.php?option=com_con
 tent&view=article&id=5998&Itemid=6289">Vendredi 5 Janvier 2018 à 21:58 : Le
  07/01/2018 MARKSTEIN Liste de départs</a></li></ul></li></ul></div></div">
 <!-- #/gskiepreuve fin du dode généré par le plugin jevents pour GskiEpreuv
 es. . Ne pas modifier cette ligne, ni tout le contenu précedant.  #/gskiepr
 euve --> <a href="https://skivosges.net/agenda/a-venir/detailevenement/883/
 -/cja-coupe-de-bronze-prix-de-la-clinique-du-ski-et-du-credit-agricole?tmpl
 =component">Cet évènement a été importé depuis :https://skivosges.net/agend
 a/a-venir/detailevenement/883/-/cja-coupe-de-bronze-prix-de-la-clinique-du-
 ski-et-du-credit-agricole?tmpl=component</a>DTSTAMP:20260424T074015
DTSTART;TZID=Europe/Paris;VALUE=DATE:20180107
DTEND;TZID=Europe/Paris;VALUE=DATE:20180108
SEQUENCE:0
TRANSP:OPAQUE
END:VEVENT
END:VCALENDAR