BEGIN:VCALENDAR
VERSION:2.0
PRODID:-//jEvents 2.0 for Joomla//EN
CALSCALE:GREGORIAN
METHOD:PUBLISH
BEGIN:VTIMEZONE
TZID:Europe/Paris
BEGIN:STANDARD
DTSTART:20130118T080000
RDATE:20130331T030000
TZOFFSETFROM:+0200
TZOFFSETTO:+0100
TZNAME:Europe/Paris CET
END:STANDARD
BEGIN:STANDARD
DTSTART:20131027T020000
RDATE:20140330T030000
TZOFFSETFROM:+0200
TZOFFSETTO:+0100
TZNAME:Europe/Paris CET
END:STANDARD
BEGIN:STANDARD
DTSTART:20141026T020000
RDATE:20150329T030000
TZOFFSETFROM:+0200
TZOFFSETTO:+0100
TZNAME:Europe/Paris CET
END:STANDARD
BEGIN:STANDARD
DTSTART:20151025T020000
RDATE:20160327T030000
TZOFFSETFROM:+0200
TZOFFSETTO:+0100
TZNAME:Europe/Paris CET
END:STANDARD
BEGIN:STANDARD
DTSTART:20161030T020000
RDATE:20170326T030000
TZOFFSETFROM:+0200
TZOFFSETTO:+0100
TZNAME:Europe/Paris CET
END:STANDARD
BEGIN:STANDARD
DTSTART:20171029T020000
RDATE:20180325T030000
TZOFFSETFROM:+0200
TZOFFSETTO:+0100
TZNAME:Europe/Paris CET
END:STANDARD
BEGIN:STANDARD
DTSTART:20181028T020000
RDATE:20190331T030000
TZOFFSETFROM:+0200
TZOFFSETTO:+0100
TZNAME:Europe/Paris CET
END:STANDARD
BEGIN:STANDARD
DTSTART:20191027T020000
RDATE:20200329T030000
TZOFFSETFROM:+0200
TZOFFSETTO:+0100
TZNAME:Europe/Paris CET
END:STANDARD
BEGIN:STANDARD
DTSTART:20201025T020000
RDATE:20210328T030000
TZOFFSETFROM:+0200
TZOFFSETTO:+0100
TZNAME:Europe/Paris CET
END:STANDARD
BEGIN:STANDARD
DTSTART:20211031T020000
RDATE:20220327T030000
TZOFFSETFROM:+0200
TZOFFSETTO:+0100
TZNAME:Europe/Paris CET
END:STANDARD
BEGIN:STANDARD
DTSTART:20221030T020000
RDATE:20230326T030000
TZOFFSETFROM:+0200
TZOFFSETTO:+0100
TZNAME:Europe/Paris CET
END:STANDARD
BEGIN:STANDARD
DTSTART:20231029T020000
RDATE:20240331T030000
TZOFFSETFROM:+0200
TZOFFSETTO:+0100
TZNAME:Europe/Paris CET
END:STANDARD
BEGIN:STANDARD
DTSTART:20241027T020000
RDATE:20250330T030000
TZOFFSETFROM:+0200
TZOFFSETTO:+0100
TZNAME:Europe/Paris CET
END:STANDARD
BEGIN:STANDARD
DTSTART:20251026T020000
RDATE:20260329T030000
TZOFFSETFROM:+0200
TZOFFSETTO:+0100
TZNAME:Europe/Paris CET
END:STANDARD
BEGIN:STANDARD
DTSTART:20261025T020000
RDATE:20270328T030000
TZOFFSETFROM:+0200
TZOFFSETTO:+0100
TZNAME:Europe/Paris CET
END:STANDARD
BEGIN:DAYLIGHT
DTSTART:20130331T030000
RDATE:20131027T020000
TZOFFSETFROM:+0100
TZOFFSETTO:+0200
TZNAME:Europe/Paris CEST
END:DAYLIGHT
BEGIN:DAYLIGHT
DTSTART:20140330T030000
RDATE:20141026T020000
TZOFFSETFROM:+0100
TZOFFSETTO:+0200
TZNAME:Europe/Paris CEST
END:DAYLIGHT
BEGIN:DAYLIGHT
DTSTART:20150329T030000
RDATE:20151025T020000
TZOFFSETFROM:+0100
TZOFFSETTO:+0200
TZNAME:Europe/Paris CEST
END:DAYLIGHT
BEGIN:DAYLIGHT
DTSTART:20160327T030000
RDATE:20161030T020000
TZOFFSETFROM:+0100
TZOFFSETTO:+0200
TZNAME:Europe/Paris CEST
END:DAYLIGHT
BEGIN:DAYLIGHT
DTSTART:20170326T030000
RDATE:20171029T020000
TZOFFSETFROM:+0100
TZOFFSETTO:+0200
TZNAME:Europe/Paris CEST
END:DAYLIGHT
BEGIN:DAYLIGHT
DTSTART:20180325T030000
RDATE:20181028T020000
TZOFFSETFROM:+0100
TZOFFSETTO:+0200
TZNAME:Europe/Paris CEST
END:DAYLIGHT
BEGIN:DAYLIGHT
DTSTART:20190331T030000
RDATE:20191027T020000
TZOFFSETFROM:+0100
TZOFFSETTO:+0200
TZNAME:Europe/Paris CEST
END:DAYLIGHT
BEGIN:DAYLIGHT
DTSTART:20200329T030000
RDATE:20201025T020000
TZOFFSETFROM:+0100
TZOFFSETTO:+0200
TZNAME:Europe/Paris CEST
END:DAYLIGHT
BEGIN:DAYLIGHT
DTSTART:20210328T030000
RDATE:20211031T020000
TZOFFSETFROM:+0100
TZOFFSETTO:+0200
TZNAME:Europe/Paris CEST
END:DAYLIGHT
BEGIN:DAYLIGHT
DTSTART:20220327T030000
RDATE:20221030T020000
TZOFFSETFROM:+0100
TZOFFSETTO:+0200
TZNAME:Europe/Paris CEST
END:DAYLIGHT
BEGIN:DAYLIGHT
DTSTART:20230326T030000
RDATE:20231029T020000
TZOFFSETFROM:+0100
TZOFFSETTO:+0200
TZNAME:Europe/Paris CEST
END:DAYLIGHT
BEGIN:DAYLIGHT
DTSTART:20240331T030000
RDATE:20241027T020000
TZOFFSETFROM:+0100
TZOFFSETTO:+0200
TZNAME:Europe/Paris CEST
END:DAYLIGHT
BEGIN:DAYLIGHT
DTSTART:20250330T030000
RDATE:20251026T020000
TZOFFSETFROM:+0100
TZOFFSETTO:+0200
TZNAME:Europe/Paris CEST
END:DAYLIGHT
BEGIN:DAYLIGHT
DTSTART:20260329T030000
RDATE:20261025T020000
TZOFFSETFROM:+0100
TZOFFSETTO:+0200
TZNAME:Europe/Paris CEST
END:DAYLIGHT
END:VTIMEZONE
BEGIN:VEVENT
UID:0b9b1476a444ef2a17099ceac92538b4
CATEGORIES:Compétition Ski de Fond
CREATED:20131203T122100
SUMMARY:Grand Prix de la Bresse Crédit Mutuel n° 3 BigMat n° 3
URL;VALUE=URI:https://skivosges.net/agenda/a-venir/detailevenement/89/-/grand-prix-de-la-
 bresse-credit-mutuel-n-3-bigmat-n-3?tmpl=component
DESCRIPTION:Grand Prix de la Bresse Crédit Mutuel n° 3 BigMat n° 3\n\nLieu : LA BRESSE 
 \nOrganisateur : LA BRESSAUDE SECTION SKI  (14024 LA BRESSAUDE SECTION SKI)
 \nTelecopie : 06.08.69.23.57\n\nLe Grand prix de La Bresse est maintenu, il
  se déroulera comme prévu le dimanche 19 janvier, des infos complémentaires
  notamment sur le format de course, seront diffusées en fin de semaine, en 
 fonction de l´évolution de l´enneigement.\n\nInscriptions closes, tirage de
 s dossards en cours\n - FMVF0091  D?part Individuel Minime Filles\n  Grand 
 Prix de la Bresse Crédit Mutuel n° 3 BigMat n° 3\n - FMVF0092  D?part Indiv
 iduel Cadet a Senior Dames\n  Grand Prix de la Bresse Crédit Mutuel n° 3 Bi
 gMat n° 3\n - FMVM0091  D?part Individuel Minime Garçons\n  Grand Prix de l
 a Bresse Crédit Mutuel n° 3 BigMat n° 3\n - FMVM0092  D?part Individuel Cad
 et Garçons\n  Grand Prix de la Bresse Crédit Mutuel n° 3 BigMat n° 3\n - FM
 VM0093  D?part Individuel Jeune a Senior Hommes\n  Grand Prix de la Bresse 
 Crédit Mutuel n° 3 BigMat n° 3 Cet évènement a été importé depuis :https://
 skivosges.net/agenda/a-venir/detailevenement/89/-/grand-prix-de-la-bresse-c
 redit-mutuel-n-3-bigmat-n-3?tmpl=component (https://skivosges.net/agenda/a-
 venir/detailevenement/89/-/grand-prix-de-la-bresse-credit-mutuel-n-3-bigmat
 -n-3?tmpl=component)
X-ALT-DESC;FMTTYPE=text/html:<strong>Grand Prix de la Bresse Crédit Mutuel n° 3 BigMat n° 3</strong><br 
 /><br />Lieu : LA BRESSE <br />Organisateur : LA BRESSAUDE SECTION SKI  <sm
 all>(14024 LA BRESSAUDE SECTION SKI)</small><br />Telecopie : 06.08.69.23.5
 7<br /><br />Le Grand prix de La Bresse est maintenu, il se déroulera comme
  prévu le dimanche 19 janvier, des infos complémentaires notamment sur le f
 ormat de course, seront diffusées en fin de semaine, en fonction de l´évolu
 tion de l´enneigement.<br /><br />Inscriptions closes, tirage des dossards 
 en cours<ul type="disc"><li>FMVF0091  D?part Individuel <nobr>Minime</nobr>
  Filles<br />&nbsp;&nbsp;Grand Prix de la Bresse Crédit Mutuel n° 3 BigMat 
 n° 3</li><li>FMVF0092  D?part Individuel <nobr>Cadet a Senior</nobr> Dames<
 br />&nbsp;&nbsp;Grand Prix de la Bresse Crédit Mutuel n° 3 BigMat n° 3</li
 ><li>FMVM0091  D?part Individuel <nobr>Minime</nobr> Garçons<br />&nbsp;&nb
 sp;Grand Prix de la Bresse Crédit Mutuel n° 3 BigMat n° 3</li><li>FMVM0092 
  D?part Individuel <nobr>Cadet</nobr> Garçons<br />&nbsp;&nbsp;Grand Prix d
 e la Bresse Crédit Mutuel n° 3 BigMat n° 3</li><li>FMVM0093  D?part Individ
 uel <nobr>Jeune a Senior</nobr> Hommes<br />&nbsp;&nbsp;Grand Prix de la Br
 esse Crédit Mutuel n° 3 BigMat n° 3</li></ul> <a href="https://skivosges.ne
 t/agenda/a-venir/detailevenement/89/-/grand-prix-de-la-bresse-credit-mutuel
 -n-3-bigmat-n-3?tmpl=component">Cet évènement a été importé depuis :https:/
 /skivosges.net/agenda/a-venir/detailevenement/89/-/grand-prix-de-la-bresse-
 credit-mutuel-n-3-bigmat-n-3?tmpl=component</a>DTSTAMP:20260424T073905
DTSTART;TZID=Europe/Paris:20140119T080000
DTEND;TZID=Europe/Paris:20140119T170000
SEQUENCE:0
TRANSP:OPAQUE
END:VEVENT
END:VCALENDAR