BEGIN:VCALENDAR
VERSION:2.0
PRODID:-//jEvents 2.0 for Joomla//EN
CALSCALE:GREGORIAN
METHOD:PUBLISH
BEGIN:VTIMEZONE
TZID:Europe/Paris
BEGIN:STANDARD
DTSTART:20170113T000000
RDATE:20170326T030000
TZOFFSETFROM:+0200
TZOFFSETTO:+0100
TZNAME:Europe/Paris CET
END:STANDARD
BEGIN:STANDARD
DTSTART:20171029T020000
RDATE:20180325T030000
TZOFFSETFROM:+0200
TZOFFSETTO:+0100
TZNAME:Europe/Paris CET
END:STANDARD
BEGIN:STANDARD
DTSTART:20181028T020000
RDATE:20190331T030000
TZOFFSETFROM:+0200
TZOFFSETTO:+0100
TZNAME:Europe/Paris CET
END:STANDARD
BEGIN:STANDARD
DTSTART:20191027T020000
RDATE:20200329T030000
TZOFFSETFROM:+0200
TZOFFSETTO:+0100
TZNAME:Europe/Paris CET
END:STANDARD
BEGIN:STANDARD
DTSTART:20201025T020000
RDATE:20210328T030000
TZOFFSETFROM:+0200
TZOFFSETTO:+0100
TZNAME:Europe/Paris CET
END:STANDARD
BEGIN:STANDARD
DTSTART:20211031T020000
RDATE:20220327T030000
TZOFFSETFROM:+0200
TZOFFSETTO:+0100
TZNAME:Europe/Paris CET
END:STANDARD
BEGIN:STANDARD
DTSTART:20221030T020000
RDATE:20230326T030000
TZOFFSETFROM:+0200
TZOFFSETTO:+0100
TZNAME:Europe/Paris CET
END:STANDARD
BEGIN:STANDARD
DTSTART:20231029T020000
RDATE:20240331T030000
TZOFFSETFROM:+0200
TZOFFSETTO:+0100
TZNAME:Europe/Paris CET
END:STANDARD
BEGIN:STANDARD
DTSTART:20241027T020000
RDATE:20250330T030000
TZOFFSETFROM:+0200
TZOFFSETTO:+0100
TZNAME:Europe/Paris CET
END:STANDARD
BEGIN:STANDARD
DTSTART:20251026T020000
RDATE:20260329T030000
TZOFFSETFROM:+0200
TZOFFSETTO:+0100
TZNAME:Europe/Paris CET
END:STANDARD
BEGIN:STANDARD
DTSTART:20261025T020000
RDATE:20270328T030000
TZOFFSETFROM:+0200
TZOFFSETTO:+0100
TZNAME:Europe/Paris CET
END:STANDARD
BEGIN:DAYLIGHT
DTSTART:20170326T030000
RDATE:20171029T020000
TZOFFSETFROM:+0100
TZOFFSETTO:+0200
TZNAME:Europe/Paris CEST
END:DAYLIGHT
BEGIN:DAYLIGHT
DTSTART:20180325T030000
RDATE:20181028T020000
TZOFFSETFROM:+0100
TZOFFSETTO:+0200
TZNAME:Europe/Paris CEST
END:DAYLIGHT
BEGIN:DAYLIGHT
DTSTART:20190331T030000
RDATE:20191027T020000
TZOFFSETFROM:+0100
TZOFFSETTO:+0200
TZNAME:Europe/Paris CEST
END:DAYLIGHT
BEGIN:DAYLIGHT
DTSTART:20200329T030000
RDATE:20201025T020000
TZOFFSETFROM:+0100
TZOFFSETTO:+0200
TZNAME:Europe/Paris CEST
END:DAYLIGHT
BEGIN:DAYLIGHT
DTSTART:20210328T030000
RDATE:20211031T020000
TZOFFSETFROM:+0100
TZOFFSETTO:+0200
TZNAME:Europe/Paris CEST
END:DAYLIGHT
BEGIN:DAYLIGHT
DTSTART:20220327T030000
RDATE:20221030T020000
TZOFFSETFROM:+0100
TZOFFSETTO:+0200
TZNAME:Europe/Paris CEST
END:DAYLIGHT
BEGIN:DAYLIGHT
DTSTART:20230326T030000
RDATE:20231029T020000
TZOFFSETFROM:+0100
TZOFFSETTO:+0200
TZNAME:Europe/Paris CEST
END:DAYLIGHT
BEGIN:DAYLIGHT
DTSTART:20240331T030000
RDATE:20241027T020000
TZOFFSETFROM:+0100
TZOFFSETTO:+0200
TZNAME:Europe/Paris CEST
END:DAYLIGHT
BEGIN:DAYLIGHT
DTSTART:20250330T030000
RDATE:20251026T020000
TZOFFSETFROM:+0100
TZOFFSETTO:+0200
TZNAME:Europe/Paris CEST
END:DAYLIGHT
BEGIN:DAYLIGHT
DTSTART:20260329T030000
RDATE:20261025T020000
TZOFFSETFROM:+0100
TZOFFSETTO:+0200
TZNAME:Europe/Paris CEST
END:DAYLIGHT
END:VTIMEZONE
BEGIN:VEVENT
UID:0b91fb62ffeb38e600a900c1910fd7e6
CATEGORIES:Circuit Massif Jeunes (alpin)
CREATED:20171121T093310
SUMMARY:CJM Micro Coupe Massif U8/U10 La confiserie Géromoise
URL;VALUE=URI:https://skivosges.net/agenda/a-venir/detailevenement/894/-/cjm-micro-coupe-
 massif-u8-u10-la-confiserie-geromoise?tmpl=component
DESCRIPTION:<!-- #gskiepreuve code généré par le plugin jevents pour GskiEpreuves. Ne p
 as modifier cette ligne, ni tout le contenu suivant  #gskiepreuve --><div c
 lass="gski-evenement_infos"><div class="gski-evenement-nom">CJM Micro Coupe
  Massif U8/U10 La confiserie Géromoise</div><div class="gski-evenement-repo
 rt"></div><ul class="gski-evenement-liste-infos"><li>Codex évenement AMVT01
 30</li><li>Station : GERARDMER</li><li>Piste : Stade</li><li>Organisateur :
  14089 GERARDMER SKI ALPIN</li><li>Courriel : <!-- Cette adresse électroniq
 ue est protégée contre les robots spammeurs. --><span class="cloaked_email 
 ep_91e61500"><span data-ep-a="&#97;&#115;&#103;&#115;k" data-ep-b="&#102;&#
 114;"><span data-ep-b="a&#100;&#111;o." data-ep-a="&#105;&#46;ge&#114;"><sp
 an data-ep-a="&#97;r&#100;&#109;&#101;" data-ep-b="&#114;&#64;wan"></span><
 /span></span></span><script>RegularLabs.EmailProtector.unCloak("ep_91e61500
 ");</script></li><li>Téléphone : 03 29 60 98 04</li><li><span class="gski-e
 venement-obs">Délégué Technique : TSCHEILLER DOMINIQUE</span></li></ul><div
  class="gski-evenement-infos-2"><div class="gski-evenement-info-inscription
 s"><div class="gski-evenement-inscriptions-periodes">Période d'inscription 
 à l'evènement du dimanche 07 janvier 2018 à 00:00 au vendredi 12 janvier 20
 18 à 17:00 <span class="gski-evenement-inscriptions-impossibles">(Inscripti
 ons impossibles).</span><div class="gski-evenement-inscriptions-types-titre
 s">Inscriptions ouvertes aux detenteurs des titres Fédéraux valides suivant
 s : Licenciés Compétiteurs</div></div></div><div class="gski-evenement-info
 -live">L'épreuve sera chronometrée avec les résultats publiés en direct (li
 ve)</div><div class="gski-evenement-epreuves"><div class="gski-evenement-ep
 reuves-titres">Epreuves :</div><ul class="gski-evenement-epreuves-list"><li
 ><div class="gski-epreuve-date">Le dimanche 14 janvier 2018 à 10:00</div><u
 l class="gski-epreuve-liste-infos"><li>Codex épreuve AMVM0131</li><li>Combi
 ne Race</li><li>Catégorie(s) : U8/U10 (Garçons)</li></ul></li><li><div clas
 s="gski-epreuve-date">Le dimanche 14 janvier 2018 à 10:00</div><ul class="g
 ski-epreuve-liste-infos"><li>Codex épreuve AMVF0131</li><li>Combine Race</l
 i><li>Catégorie(s) : U8/U10 (Filles)</li></ul></li><li><div class="gski-epr
 euve-date">Le dimanche 14 janvier 2018 à 10:00</div><ul class="gski-epreuve
 -liste-infos"><li>Codex épreuve AMVM0132</li><li>Combine Race</li><li>Catég
 orie(s) : U8/U10 (Garçons)</li></ul></li><li><div class="gski-epreuve-date"
 >Le dimanche 14 janvier 2018 à 10:00</div><ul class="gski-epreuve-liste-inf
 os"><li>Codex épreuve AMVF0132</li><li>Combine Race</li><li>Catégorie(s) : 
 U8/U10 (Filles)</li></ul></li></ul></div><div class="gskiepreuves-links"><u
 l><li><a href="/index.php?option=com_jevents&task=icalevent.detail&evid=889
 &Itemid=6289">Voir les informations dans l'agenda...</a></li><li><a href="/
 index.php?option=com_gskiepreuves&view=afficheresultats&format_option=tous&
 filter[search]=AMVT0130&filter[date_debut]=14-01-2018&filter[date_fin]=14-0
 1-2018&code_activite=ALP&Itemid=6289">Vers les résultats...</a></li><li>Pub
 lications concernant cet évènement :<ul><li><a href="/index.php?option=com_
 content&view=article&id=6023&Itemid=6289">Vendredi 12 Janvier 2018 à 18:24 
 : Le 14/01/2018 GERARDMER Liste de départs</a></li></ul></li></ul></div></d
 iv"><!-- #/gskiepreuve fin du dode généré par le plugin jevents pour GskiEp
 reuves. . Ne pas modifier cette ligne, ni tout le contenu précedant.  #/gsk
 iepreuve --> <a href="https://skivosges.net/agenda/a-venir/detailevenement/
 894/-/cjm-micro-coupe-massif-u8-u10-la-confiserie-geromoise?tmpl=component"
 >Cet évènement a été importé depuis :https://skivosges.net/agenda/a-venir/d
 etailevenement/894/-/cjm-micro-coupe-massif-u8-u10-la-confiserie-geromoise?
 tmpl=component</a>
X-ALT-DESC;FMTTYPE=text/html:<!-- #gskiepreuve code généré par le plugin jevents pour GskiEpreuves. Ne p
 as modifier cette ligne, ni tout le contenu suivant  #gskiepreuve --><div c
 lass="gski-evenement_infos"><div class="gski-evenement-nom">CJM Micro Coupe
  Massif U8/U10 La confiserie Géromoise</div><div class="gski-evenement-repo
 rt"></div><ul class="gski-evenement-liste-infos"><li>Codex évenement AMVT01
 30</li><li>Station : GERARDMER</li><li>Piste : Stade</li><li>Organisateur :
  14089 GERARDMER SKI ALPIN</li><li>Courriel : <!-- Cette adresse électroniq
 ue est protégée contre les robots spammeurs. --><span class="cloaked_email 
 ep_91e61500"><span data-ep-a="&#97;&#115;&#103;&#115;k" data-ep-b="&#102;&#
 114;"><span data-ep-b="a&#100;&#111;o." data-ep-a="&#105;&#46;ge&#114;"><sp
 an data-ep-a="&#97;r&#100;&#109;&#101;" data-ep-b="&#114;&#64;wan"></span><
 /span></span></span><script>RegularLabs.EmailProtector.unCloak("ep_91e61500
 ");</script></li><li>Téléphone : 03 29 60 98 04</li><li><span class="gski-e
 venement-obs">Délégué Technique : TSCHEILLER DOMINIQUE</span></li></ul><div
  class="gski-evenement-infos-2"><div class="gski-evenement-info-inscription
 s"><div class="gski-evenement-inscriptions-periodes">Période d'inscription 
 à l'evènement du dimanche 07 janvier 2018 à 00:00 au vendredi 12 janvier 20
 18 à 17:00 <span class="gski-evenement-inscriptions-impossibles">(Inscripti
 ons impossibles).</span><div class="gski-evenement-inscriptions-types-titre
 s">Inscriptions ouvertes aux detenteurs des titres Fédéraux valides suivant
 s : Licenciés Compétiteurs</div></div></div><div class="gski-evenement-info
 -live">L'épreuve sera chronometrée avec les résultats publiés en direct (li
 ve)</div><div class="gski-evenement-epreuves"><div class="gski-evenement-ep
 reuves-titres">Epreuves :</div><ul class="gski-evenement-epreuves-list"><li
 ><div class="gski-epreuve-date">Le dimanche 14 janvier 2018 à 10:00</div><u
 l class="gski-epreuve-liste-infos"><li>Codex épreuve AMVM0131</li><li>Combi
 ne Race</li><li>Catégorie(s) : U8/U10 (Garçons)</li></ul></li><li><div clas
 s="gski-epreuve-date">Le dimanche 14 janvier 2018 à 10:00</div><ul class="g
 ski-epreuve-liste-infos"><li>Codex épreuve AMVF0131</li><li>Combine Race</l
 i><li>Catégorie(s) : U8/U10 (Filles)</li></ul></li><li><div class="gski-epr
 euve-date">Le dimanche 14 janvier 2018 à 10:00</div><ul class="gski-epreuve
 -liste-infos"><li>Codex épreuve AMVM0132</li><li>Combine Race</li><li>Catég
 orie(s) : U8/U10 (Garçons)</li></ul></li><li><div class="gski-epreuve-date"
 >Le dimanche 14 janvier 2018 à 10:00</div><ul class="gski-epreuve-liste-inf
 os"><li>Codex épreuve AMVF0132</li><li>Combine Race</li><li>Catégorie(s) : 
 U8/U10 (Filles)</li></ul></li></ul></div><div class="gskiepreuves-links"><u
 l><li><a href="https://skivosges.net/index.php?option=com_jevents&task=ical
 event.detail&evid=889&Itemid=6289">Voir les informations dans l'agenda...</
 a></li><li><a href="https://skivosges.net/index.php?option=com_gskiepreuves
 &view=afficheresultats&format_option=tous&filter[search]=AMVT0130&filter[da
 te_debut]=14-01-2018&filter[date_fin]=14-01-2018&code_activite=ALP&Itemid=6
 289">Vers les résultats...</a></li><li>Publications concernant cet évènemen
 t :<ul><li><a href="https://skivosges.net/index.php?option=com_content&view
 =article&id=6023&Itemid=6289">Vendredi 12 Janvier 2018 à 18:24 : Le 14/01/2
 018 GERARDMER Liste de départs</a></li></ul></li></ul></div></div"><!-- #/g
 skiepreuve fin du dode généré par le plugin jevents pour GskiEpreuves. . Ne
  pas modifier cette ligne, ni tout le contenu précedant.  #/gskiepreuve -->
  <a href="https://skivosges.net/agenda/a-venir/detailevenement/894/-/cjm-mi
 cro-coupe-massif-u8-u10-la-confiserie-geromoise?tmpl=component">Cet évèneme
 nt a été importé depuis :https://skivosges.net/agenda/a-venir/detaileveneme
 nt/894/-/cjm-micro-coupe-massif-u8-u10-la-confiserie-geromoise?tmpl=compone
 nt</a>DTSTAMP:20260424T012605
DTSTART;TZID=Europe/Paris;VALUE=DATE:20180114
DTEND;TZID=Europe/Paris;VALUE=DATE:20180115
SEQUENCE:0
TRANSP:OPAQUE
END:VEVENT
END:VCALENDAR