BEGIN:VCALENDAR
VERSION:2.0
PRODID:-//jEvents 2.0 for Joomla//EN
CALSCALE:GREGORIAN
METHOD:PUBLISH
BEGIN:VTIMEZONE
TZID:Europe/Paris
BEGIN:STANDARD
DTSTART:20130118T080000
RDATE:20130331T030000
TZOFFSETFROM:+0200
TZOFFSETTO:+0100
TZNAME:Europe/Paris CET
END:STANDARD
BEGIN:STANDARD
DTSTART:20131027T020000
RDATE:20140330T030000
TZOFFSETFROM:+0200
TZOFFSETTO:+0100
TZNAME:Europe/Paris CET
END:STANDARD
BEGIN:STANDARD
DTSTART:20141026T020000
RDATE:20150329T030000
TZOFFSETFROM:+0200
TZOFFSETTO:+0100
TZNAME:Europe/Paris CET
END:STANDARD
BEGIN:STANDARD
DTSTART:20151025T020000
RDATE:20160327T030000
TZOFFSETFROM:+0200
TZOFFSETTO:+0100
TZNAME:Europe/Paris CET
END:STANDARD
BEGIN:STANDARD
DTSTART:20161030T020000
RDATE:20170326T030000
TZOFFSETFROM:+0200
TZOFFSETTO:+0100
TZNAME:Europe/Paris CET
END:STANDARD
BEGIN:STANDARD
DTSTART:20171029T020000
RDATE:20180325T030000
TZOFFSETFROM:+0200
TZOFFSETTO:+0100
TZNAME:Europe/Paris CET
END:STANDARD
BEGIN:STANDARD
DTSTART:20181028T020000
RDATE:20190331T030000
TZOFFSETFROM:+0200
TZOFFSETTO:+0100
TZNAME:Europe/Paris CET
END:STANDARD
BEGIN:STANDARD
DTSTART:20191027T020000
RDATE:20200329T030000
TZOFFSETFROM:+0200
TZOFFSETTO:+0100
TZNAME:Europe/Paris CET
END:STANDARD
BEGIN:STANDARD
DTSTART:20201025T020000
RDATE:20210328T030000
TZOFFSETFROM:+0200
TZOFFSETTO:+0100
TZNAME:Europe/Paris CET
END:STANDARD
BEGIN:STANDARD
DTSTART:20211031T020000
RDATE:20220327T030000
TZOFFSETFROM:+0200
TZOFFSETTO:+0100
TZNAME:Europe/Paris CET
END:STANDARD
BEGIN:STANDARD
DTSTART:20221030T020000
RDATE:20230326T030000
TZOFFSETFROM:+0200
TZOFFSETTO:+0100
TZNAME:Europe/Paris CET
END:STANDARD
BEGIN:STANDARD
DTSTART:20231029T020000
RDATE:20240331T030000
TZOFFSETFROM:+0200
TZOFFSETTO:+0100
TZNAME:Europe/Paris CET
END:STANDARD
BEGIN:STANDARD
DTSTART:20241027T020000
RDATE:20250330T030000
TZOFFSETFROM:+0200
TZOFFSETTO:+0100
TZNAME:Europe/Paris CET
END:STANDARD
BEGIN:STANDARD
DTSTART:20251026T020000
RDATE:20260329T030000
TZOFFSETFROM:+0200
TZOFFSETTO:+0100
TZNAME:Europe/Paris CET
END:STANDARD
BEGIN:STANDARD
DTSTART:20261025T020000
RDATE:20270328T030000
TZOFFSETFROM:+0200
TZOFFSETTO:+0100
TZNAME:Europe/Paris CET
END:STANDARD
BEGIN:DAYLIGHT
DTSTART:20130331T030000
RDATE:20131027T020000
TZOFFSETFROM:+0100
TZOFFSETTO:+0200
TZNAME:Europe/Paris CEST
END:DAYLIGHT
BEGIN:DAYLIGHT
DTSTART:20140330T030000
RDATE:20141026T020000
TZOFFSETFROM:+0100
TZOFFSETTO:+0200
TZNAME:Europe/Paris CEST
END:DAYLIGHT
BEGIN:DAYLIGHT
DTSTART:20150329T030000
RDATE:20151025T020000
TZOFFSETFROM:+0100
TZOFFSETTO:+0200
TZNAME:Europe/Paris CEST
END:DAYLIGHT
BEGIN:DAYLIGHT
DTSTART:20160327T030000
RDATE:20161030T020000
TZOFFSETFROM:+0100
TZOFFSETTO:+0200
TZNAME:Europe/Paris CEST
END:DAYLIGHT
BEGIN:DAYLIGHT
DTSTART:20170326T030000
RDATE:20171029T020000
TZOFFSETFROM:+0100
TZOFFSETTO:+0200
TZNAME:Europe/Paris CEST
END:DAYLIGHT
BEGIN:DAYLIGHT
DTSTART:20180325T030000
RDATE:20181028T020000
TZOFFSETFROM:+0100
TZOFFSETTO:+0200
TZNAME:Europe/Paris CEST
END:DAYLIGHT
BEGIN:DAYLIGHT
DTSTART:20190331T030000
RDATE:20191027T020000
TZOFFSETFROM:+0100
TZOFFSETTO:+0200
TZNAME:Europe/Paris CEST
END:DAYLIGHT
BEGIN:DAYLIGHT
DTSTART:20200329T030000
RDATE:20201025T020000
TZOFFSETFROM:+0100
TZOFFSETTO:+0200
TZNAME:Europe/Paris CEST
END:DAYLIGHT
BEGIN:DAYLIGHT
DTSTART:20210328T030000
RDATE:20211031T020000
TZOFFSETFROM:+0100
TZOFFSETTO:+0200
TZNAME:Europe/Paris CEST
END:DAYLIGHT
BEGIN:DAYLIGHT
DTSTART:20220327T030000
RDATE:20221030T020000
TZOFFSETFROM:+0100
TZOFFSETTO:+0200
TZNAME:Europe/Paris CEST
END:DAYLIGHT
BEGIN:DAYLIGHT
DTSTART:20230326T030000
RDATE:20231029T020000
TZOFFSETFROM:+0100
TZOFFSETTO:+0200
TZNAME:Europe/Paris CEST
END:DAYLIGHT
BEGIN:DAYLIGHT
DTSTART:20240331T030000
RDATE:20241027T020000
TZOFFSETFROM:+0100
TZOFFSETTO:+0200
TZNAME:Europe/Paris CEST
END:DAYLIGHT
BEGIN:DAYLIGHT
DTSTART:20250330T030000
RDATE:20251026T020000
TZOFFSETFROM:+0100
TZOFFSETTO:+0200
TZNAME:Europe/Paris CEST
END:DAYLIGHT
BEGIN:DAYLIGHT
DTSTART:20260329T030000
RDATE:20261025T020000
TZOFFSETFROM:+0100
TZOFFSETTO:+0200
TZNAME:Europe/Paris CEST
END:DAYLIGHT
END:VTIMEZONE
BEGIN:VEVENT
UID:ea463ae1536d7494b25bbf67f133bc2b
CATEGORIES:Circuit Massif Adultes (alpin)
CREATED:20131203T122100
SUMMARY:GPA        GP Intersport Gérardmer/Chp Fédéral/Qualif Cp de la Fédération **REPORTE**
URL;VALUE=URI:https://skivosges.net/agenda/a-venir/detailevenement/90/-/gpa-gp-intersport
 -gerardmer-chp-federal-qualif-cp-de-la-federation-reporte?tmpl=component
DESCRIPTION:GPA        GP Intersport Gérardmer/Chp Fédéral/Qualif Cp de la Fédération (
 Epreuve reportée, date à determiner) \n(Grand Prix Adultes)\n\nLieu : GERAR
 DMER \nOrganisateur : GERARDMER SKI ALPIN  (14089 GERARDMER SKI ALPIN)\nEma
 il : RegularLabs.EmailProtector.unCloak("ep_ba16fb56");\nTelecopie : 03 29 
 60 98 04\nTelecopie : 03 29 60 98 04\n - AMVF0261  Slalom Geant (Coupe de l
 a Federation) U16-&gt;Mas (Min à Mast/Vet) Dames\n  GPA        GP Interspor
 t Gérardmer/Chp Fédéral/Qualif Cp de la Fédération\n - AMVM0261  Slalom Gea
 nt (Coupe de la Federation) U16-&gt;Mas (Min à Mast/Vet) Hommes\n  GPA     
    GP Intersport Gérardmer/Chp Fédéral/Qualif Cp de la Fédération Cet évène
 ment a été importé depuis :https://skivosges.net/agenda/a-venir/detailevene
 ment/90/-/gpa-gp-intersport-gerardmer-chp-federal-qualif-cp-de-la-federatio
 n-reporte?tmpl=component (https://skivosges.net/agenda/a-venir/detailevenem
 ent/90/-/gpa-gp-intersport-gerardmer-chp-federal-qualif-cp-de-la-federation
 -reporte?tmpl=component)
X-ALT-DESC;FMTTYPE=text/html:<strong>GPA        GP Intersport Gérardmer/Chp Fédéral/Qualif Cp de la Fédé
 ration</strong> <font class="attention4">(Epreuve reportée, date à determin
 er)</font> <br /><i>(Grand Prix Adultes)</i><br /><br />Lieu : GERARDMER <b
 r />Organisateur : GERARDMER SKI ALPIN  <small>(14089 GERARDMER SKI ALPIN)<
 /small><br />Email : <!-- Cette adresse électronique est protégée contre le
 s robots spammeurs. --><span class="cloaked_email ep_ba16fb56"><span data-e
 p-a="g&#101;&#114;&#97;&#114;" data-ep-b="&#101;&#46;f&#114;"><span data-ep
 -b="o&#114;&#97;&#110;&#103;" data-ep-a="d&#109;&#101;&#114;&#45;"><span da
 ta-ep-a="s&#107;&#105;&#45;a" data-ep-b="&#108;pin&#64;"></span></span></sp
 an></span><script>RegularLabs.EmailProtector.unCloak("ep_ba16fb56");</scrip
 t><br />Telecopie : 03 29 60 98 04<br />Telecopie : 03 29 60 98 04<ul type=
 "disc"><li>AMVF0261  Slalom Geant <nobr><i>(Coupe de la Federation)</i></no
 br> <nobr>U16->Mas (Min à Mast/Vet)</nobr> Dames<br />&nbsp;&nbsp;GPA      
   GP Intersport Gérardmer/Chp Fédéral/Qualif Cp de la Fédération</li><li>AM
 VM0261  Slalom Geant <nobr><i>(Coupe de la Federation)</i></nobr> <nobr>U16
 ->Mas (Min à Mast/Vet)</nobr> Hommes<br />&nbsp;&nbsp;GPA        GP Intersp
 ort Gérardmer/Chp Fédéral/Qualif Cp de la Fédération</li></ul> <a href="htt
 ps://skivosges.net/agenda/a-venir/detailevenement/90/-/gpa-gp-intersport-ge
 rardmer-chp-federal-qualif-cp-de-la-federation-reporte?tmpl=component">Cet 
 évènement a été importé depuis :https://skivosges.net/agenda/a-venir/detail
 evenement/90/-/gpa-gp-intersport-gerardmer-chp-federal-qualif-cp-de-la-fede
 ration-reporte?tmpl=component</a>DTSTAMP:20260424T073858
DTSTART;TZID=Europe/Paris:20140119T080000
DTEND;TZID=Europe/Paris:20140119T170000
SEQUENCE:0
TRANSP:OPAQUE
END:VEVENT
END:VCALENDAR