BEGIN:VCALENDAR
VERSION:2.0
PRODID:-//jEvents 2.0 for Joomla//EN
CALSCALE:GREGORIAN
METHOD:PUBLISH
BEGIN:VTIMEZONE
TZID:Europe/Paris
BEGIN:STANDARD
DTSTART:20170119T000000
RDATE:20170326T030000
TZOFFSETFROM:+0200
TZOFFSETTO:+0100
TZNAME:Europe/Paris CET
END:STANDARD
BEGIN:STANDARD
DTSTART:20171029T020000
RDATE:20180325T030000
TZOFFSETFROM:+0200
TZOFFSETTO:+0100
TZNAME:Europe/Paris CET
END:STANDARD
BEGIN:STANDARD
DTSTART:20181028T020000
RDATE:20190331T030000
TZOFFSETFROM:+0200
TZOFFSETTO:+0100
TZNAME:Europe/Paris CET
END:STANDARD
BEGIN:STANDARD
DTSTART:20191027T020000
RDATE:20200329T030000
TZOFFSETFROM:+0200
TZOFFSETTO:+0100
TZNAME:Europe/Paris CET
END:STANDARD
BEGIN:STANDARD
DTSTART:20201025T020000
RDATE:20210328T030000
TZOFFSETFROM:+0200
TZOFFSETTO:+0100
TZNAME:Europe/Paris CET
END:STANDARD
BEGIN:STANDARD
DTSTART:20211031T020000
RDATE:20220327T030000
TZOFFSETFROM:+0200
TZOFFSETTO:+0100
TZNAME:Europe/Paris CET
END:STANDARD
BEGIN:STANDARD
DTSTART:20221030T020000
RDATE:20230326T030000
TZOFFSETFROM:+0200
TZOFFSETTO:+0100
TZNAME:Europe/Paris CET
END:STANDARD
BEGIN:STANDARD
DTSTART:20231029T020000
RDATE:20240331T030000
TZOFFSETFROM:+0200
TZOFFSETTO:+0100
TZNAME:Europe/Paris CET
END:STANDARD
BEGIN:STANDARD
DTSTART:20241027T020000
RDATE:20250330T030000
TZOFFSETFROM:+0200
TZOFFSETTO:+0100
TZNAME:Europe/Paris CET
END:STANDARD
BEGIN:STANDARD
DTSTART:20251026T020000
RDATE:20260329T030000
TZOFFSETFROM:+0200
TZOFFSETTO:+0100
TZNAME:Europe/Paris CET
END:STANDARD
BEGIN:STANDARD
DTSTART:20261025T020000
RDATE:20270328T030000
TZOFFSETFROM:+0200
TZOFFSETTO:+0100
TZNAME:Europe/Paris CET
END:STANDARD
BEGIN:DAYLIGHT
DTSTART:20170326T030000
RDATE:20171029T020000
TZOFFSETFROM:+0100
TZOFFSETTO:+0200
TZNAME:Europe/Paris CEST
END:DAYLIGHT
BEGIN:DAYLIGHT
DTSTART:20180325T030000
RDATE:20181028T020000
TZOFFSETFROM:+0100
TZOFFSETTO:+0200
TZNAME:Europe/Paris CEST
END:DAYLIGHT
BEGIN:DAYLIGHT
DTSTART:20190331T030000
RDATE:20191027T020000
TZOFFSETFROM:+0100
TZOFFSETTO:+0200
TZNAME:Europe/Paris CEST
END:DAYLIGHT
BEGIN:DAYLIGHT
DTSTART:20200329T030000
RDATE:20201025T020000
TZOFFSETFROM:+0100
TZOFFSETTO:+0200
TZNAME:Europe/Paris CEST
END:DAYLIGHT
BEGIN:DAYLIGHT
DTSTART:20210328T030000
RDATE:20211031T020000
TZOFFSETFROM:+0100
TZOFFSETTO:+0200
TZNAME:Europe/Paris CEST
END:DAYLIGHT
BEGIN:DAYLIGHT
DTSTART:20220327T030000
RDATE:20221030T020000
TZOFFSETFROM:+0100
TZOFFSETTO:+0200
TZNAME:Europe/Paris CEST
END:DAYLIGHT
BEGIN:DAYLIGHT
DTSTART:20230326T030000
RDATE:20231029T020000
TZOFFSETFROM:+0100
TZOFFSETTO:+0200
TZNAME:Europe/Paris CEST
END:DAYLIGHT
BEGIN:DAYLIGHT
DTSTART:20240331T030000
RDATE:20241027T020000
TZOFFSETFROM:+0100
TZOFFSETTO:+0200
TZNAME:Europe/Paris CEST
END:DAYLIGHT
BEGIN:DAYLIGHT
DTSTART:20250330T030000
RDATE:20251026T020000
TZOFFSETFROM:+0100
TZOFFSETTO:+0200
TZNAME:Europe/Paris CEST
END:DAYLIGHT
BEGIN:DAYLIGHT
DTSTART:20260329T030000
RDATE:20261025T020000
TZOFFSETFROM:+0100
TZOFFSETTO:+0200
TZNAME:Europe/Paris CEST
END:DAYLIGHT
END:VTIMEZONE
BEGIN:VEVENT
UID:ce8cea23729a230e494c20b2b068a8f3
CATEGORIES:Circuit Massif Jeunes (alpin)
CREATED:20171121T093310
SUMMARY:CJM Coupe d'Argent U12 EXOTICUS Gérardmer boutiques vêtements
URL;VALUE=URI:https://skivosges.net/agenda/a-venir/detailevenement/901/-/cjm-coupe-dargen
 t-u12-exoticus-gerardmer-boutiques-vetements?tmpl=component
DESCRIPTION:CJM Coupe d'Argent U12 EXOTICUS Gérardmer boutiques vêtements\n - Codex éve
 nement AMVT0170\n - Station : GERARDMER\n - Organisateur : 14089 GERARDMER 
 SKI ALPIN\n - Courriel : RegularLabs.EmailProtector.unCloak("ep_3fb4b6e2");
 \n - Téléphone : 03 29 60 98 04\n - Délégué Technique : CLAUDEL RENEPériode
  d'inscription à l'evènement du samedi 13 janvier 2018 à 00:00 au vendredi 
 19 janvier 2018 à 17:00 (Inscriptions impossibles).Inscriptions ouvertes au
 x detenteurs des titres Fédéraux valides suivants : Licenciés CompétiteursL
 'épreuve sera chronometrée avec les résultats publiés en direct (live)Epreu
 ves :\n - Le samedi 20 janvier 2018\n - Codex épreuve AMVM0171\n - Slalom G
 eant\n - Catégorie(s) : U12 (Garçons)\n - Le samedi 20 janvier 2018\n - Cod
 ex épreuve AMVF0171\n - Slalom Geant\n - Catégorie(s) : U12 (Filles)\n - Le
  samedi 20 janvier 2018\n - Codex épreuve AMVM0172\n - Slalom Geant\n - Cat
 égorie(s) : U12 (Garçons)\n - Le samedi 20 janvier 2018\n - Codex épreuve A
 MVF0172\n - Slalom Geant\n - Catégorie(s) : U12 (Filles)\n - Voir les infor
 mations dans l'agenda... (/index.php?option=com_jevents&amp;task=icalevent.
 detail&amp;evid=896&amp;Itemid=6289)\n - Vers les résultats... (/index.php?
 option=com_gskiepreuves&amp;view=afficheresultats&amp;format_option=tous&am
 p;filter[search]=AMVT0170&amp;filter[date_debut]=20-01-2018&amp;filter[date
 _fin]=20-01-2018&amp;code_activite=ALP&amp;Itemid=6289)\n - Publications co
 ncernant cet évènement :\n - Vendredi 19 Janvier 2018 à 17:48 : Le 20/01/20
 18 GERARDMER Liste de départs Cet évènement a été importé depuis :https://s
 kivosges.net/agenda/a-venir/detailevenement/901/-/cjm-coupe-dargent-u12-exo
 ticus-gerardmer-boutiques-vetements?tmpl=component
X-ALT-DESC;FMTTYPE=text/html:<!-- #gskiepreuve code généré par le plugin jevents pour GskiEpreuves. Ne p
 as modifier cette ligne, ni tout le contenu suivant  #gskiepreuve --><div c
 lass="gski-evenement_infos"><div class="gski-evenement-nom">CJM Coupe d'Arg
 ent U12 EXOTICUS Gérardmer boutiques vêtements</div><div class="gski-evenem
 ent-report"></div><ul class="gski-evenement-liste-infos"><li>Codex évenemen
 t AMVT0170</li><li>Station : GERARDMER</li><li>Organisateur : 14089 GERARDM
 ER SKI ALPIN</li><li>Courriel : <!-- Cette adresse électronique est protégé
 e contre les robots spammeurs. --><span class="cloaked_email ep_3fb4b6e2"><
 span data-ep-b="&#102;&#114;" data-ep-a="a&#115;&#103;s&#107;"><span data-e
 p-a="&#105;&#46;g&#101;&#114;" data-ep-b="a&#100;&#111;&#111;&#46;"><span d
 ata-ep-b="r&#64;&#119;&#97;&#110;" data-ep-a="a&#114;d&#109;&#101;"></span>
 </span></span></span><script>RegularLabs.EmailProtector.unCloak("ep_3fb4b6e
 2");</script></li><li>Téléphone : 03 29 60 98 04</li><li><span class="gski-
 evenement-obs">Délégué Technique : CLAUDEL RENE</span></li></ul><div class=
 "gski-evenement-infos-2"><div class="gski-evenement-info-inscriptions"><div
  class="gski-evenement-inscriptions-periodes">Période d'inscription à l'evè
 nement du samedi 13 janvier 2018 à 00:00 au vendredi 19 janvier 2018 à 17:0
 0 <span class="gski-evenement-inscriptions-impossibles">(Inscriptions impos
 sibles).</span><div class="gski-evenement-inscriptions-types-titres">Inscri
 ptions ouvertes aux detenteurs des titres Fédéraux valides suivants : Licen
 ciés Compétiteurs</div></div></div><div class="gski-evenement-info-live">L'
 épreuve sera chronometrée avec les résultats publiés en direct (live)</div>
 <div class="gski-evenement-epreuves"><div class="gski-evenement-epreuves-ti
 tres">Epreuves :</div><ul class="gski-evenement-epreuves-list"><li><div cla
 ss="gski-epreuve-date">Le samedi 20 janvier 2018</div><ul class="gski-epreu
 ve-liste-infos"><li>Codex épreuve AMVM0171</li><li>Slalom Geant</li><li>Cat
 égorie(s) : U12 (Garçons)</li></ul></li><li><div class="gski-epreuve-date">
 Le samedi 20 janvier 2018</div><ul class="gski-epreuve-liste-infos"><li>Cod
 ex épreuve AMVF0171</li><li>Slalom Geant</li><li>Catégorie(s) : U12 (Filles
 )</li></ul></li><li><div class="gski-epreuve-date">Le samedi 20 janvier 201
 8</div><ul class="gski-epreuve-liste-infos"><li>Codex épreuve AMVM0172</li>
 <li>Slalom Geant</li><li>Catégorie(s) : U12 (Garçons)</li></ul></li><li><di
 v class="gski-epreuve-date">Le samedi 20 janvier 2018</div><ul class="gski-
 epreuve-liste-infos"><li>Codex épreuve AMVF0172</li><li>Slalom Geant</li><l
 i>Catégorie(s) : U12 (Filles)</li></ul></li></ul></div><div class="gskiepre
 uves-links"><ul><li><a href="https://skivosges.net/index.php?option=com_jev
 ents&task=icalevent.detail&evid=896&Itemid=6289">Voir les informations dans
  l'agenda...</a></li><li><a href="https://skivosges.net/index.php?option=co
 m_gskiepreuves&view=afficheresultats&format_option=tous&filter[search]=AMVT
 0170&filter[date_debut]=20-01-2018&filter[date_fin]=20-01-2018&code_activit
 e=ALP&Itemid=6289">Vers les résultats...</a></li><li>Publications concernan
 t cet évènement :<ul><li><a href="https://skivosges.net/index.php?option=co
 m_content&view=article&id=6044&Itemid=6289">Vendredi 19 Janvier 2018 à 17:4
 8 : Le 20/01/2018 GERARDMER Liste de départs</a></li></ul></li></ul></div><
 /div"><!-- #/gskiepreuve fin du dode généré par le plugin jevents pour Gski
 Epreuves. . Ne pas modifier cette ligne, ni tout le contenu précedant.  #/g
 skiepreuve --> <a href="https://skivosges.net/agenda/a-venir/detailevenemen
 t/901/-/cjm-coupe-dargent-u12-exoticus-gerardmer-boutiques-vetements?tmpl=c
 omponent">Cet évènement a été importé depuis :https://skivosges.net/agenda/
 a-venir/detailevenement/901/-/cjm-coupe-dargent-u12-exoticus-gerardmer-bout
 iques-vetements?tmpl=component</a>DTSTAMP:20260424T012501
DTSTART;TZID=Europe/Paris;VALUE=DATE:20180120
DTEND;TZID=Europe/Paris;VALUE=DATE:20180121
SEQUENCE:0
TRANSP:OPAQUE
END:VEVENT
END:VCALENDAR