BEGIN:VCALENDAR
VERSION:2.0
PRODID:-//jEvents 2.0 for Joomla//EN
CALSCALE:GREGORIAN
METHOD:PUBLISH
BEGIN:VTIMEZONE
TZID:Europe/Paris
BEGIN:STANDARD
DTSTART:20170120T000000
RDATE:20170326T030000
TZOFFSETFROM:+0200
TZOFFSETTO:+0100
TZNAME:Europe/Paris CET
END:STANDARD
BEGIN:STANDARD
DTSTART:20171029T020000
RDATE:20180325T030000
TZOFFSETFROM:+0200
TZOFFSETTO:+0100
TZNAME:Europe/Paris CET
END:STANDARD
BEGIN:STANDARD
DTSTART:20181028T020000
RDATE:20190331T030000
TZOFFSETFROM:+0200
TZOFFSETTO:+0100
TZNAME:Europe/Paris CET
END:STANDARD
BEGIN:STANDARD
DTSTART:20191027T020000
RDATE:20200329T030000
TZOFFSETFROM:+0200
TZOFFSETTO:+0100
TZNAME:Europe/Paris CET
END:STANDARD
BEGIN:STANDARD
DTSTART:20201025T020000
RDATE:20210328T030000
TZOFFSETFROM:+0200
TZOFFSETTO:+0100
TZNAME:Europe/Paris CET
END:STANDARD
BEGIN:STANDARD
DTSTART:20211031T020000
RDATE:20220327T030000
TZOFFSETFROM:+0200
TZOFFSETTO:+0100
TZNAME:Europe/Paris CET
END:STANDARD
BEGIN:STANDARD
DTSTART:20221030T020000
RDATE:20230326T030000
TZOFFSETFROM:+0200
TZOFFSETTO:+0100
TZNAME:Europe/Paris CET
END:STANDARD
BEGIN:STANDARD
DTSTART:20231029T020000
RDATE:20240331T030000
TZOFFSETFROM:+0200
TZOFFSETTO:+0100
TZNAME:Europe/Paris CET
END:STANDARD
BEGIN:STANDARD
DTSTART:20241027T020000
RDATE:20250330T030000
TZOFFSETFROM:+0200
TZOFFSETTO:+0100
TZNAME:Europe/Paris CET
END:STANDARD
BEGIN:STANDARD
DTSTART:20251026T020000
RDATE:20260329T030000
TZOFFSETFROM:+0200
TZOFFSETTO:+0100
TZNAME:Europe/Paris CET
END:STANDARD
BEGIN:STANDARD
DTSTART:20261025T020000
RDATE:20270328T030000
TZOFFSETFROM:+0200
TZOFFSETTO:+0100
TZNAME:Europe/Paris CET
END:STANDARD
BEGIN:DAYLIGHT
DTSTART:20170326T030000
RDATE:20171029T020000
TZOFFSETFROM:+0100
TZOFFSETTO:+0200
TZNAME:Europe/Paris CEST
END:DAYLIGHT
BEGIN:DAYLIGHT
DTSTART:20180325T030000
RDATE:20181028T020000
TZOFFSETFROM:+0100
TZOFFSETTO:+0200
TZNAME:Europe/Paris CEST
END:DAYLIGHT
BEGIN:DAYLIGHT
DTSTART:20190331T030000
RDATE:20191027T020000
TZOFFSETFROM:+0100
TZOFFSETTO:+0200
TZNAME:Europe/Paris CEST
END:DAYLIGHT
BEGIN:DAYLIGHT
DTSTART:20200329T030000
RDATE:20201025T020000
TZOFFSETFROM:+0100
TZOFFSETTO:+0200
TZNAME:Europe/Paris CEST
END:DAYLIGHT
BEGIN:DAYLIGHT
DTSTART:20210328T030000
RDATE:20211031T020000
TZOFFSETFROM:+0100
TZOFFSETTO:+0200
TZNAME:Europe/Paris CEST
END:DAYLIGHT
BEGIN:DAYLIGHT
DTSTART:20220327T030000
RDATE:20221030T020000
TZOFFSETFROM:+0100
TZOFFSETTO:+0200
TZNAME:Europe/Paris CEST
END:DAYLIGHT
BEGIN:DAYLIGHT
DTSTART:20230326T030000
RDATE:20231029T020000
TZOFFSETFROM:+0100
TZOFFSETTO:+0200
TZNAME:Europe/Paris CEST
END:DAYLIGHT
BEGIN:DAYLIGHT
DTSTART:20240331T030000
RDATE:20241027T020000
TZOFFSETFROM:+0100
TZOFFSETTO:+0200
TZNAME:Europe/Paris CEST
END:DAYLIGHT
BEGIN:DAYLIGHT
DTSTART:20250330T030000
RDATE:20251026T020000
TZOFFSETFROM:+0100
TZOFFSETTO:+0200
TZNAME:Europe/Paris CEST
END:DAYLIGHT
BEGIN:DAYLIGHT
DTSTART:20260329T030000
RDATE:20261025T020000
TZOFFSETFROM:+0100
TZOFFSETTO:+0200
TZNAME:Europe/Paris CEST
END:DAYLIGHT
END:VTIMEZONE
BEGIN:VEVENT
UID:74740952175d594a7a728d0992cc9810
CATEGORIES:Circuit Massif Jeunes (alpin)
CREATED:20171121T093310
SUMMARY:CJM Coupe d'Argent U14 Coupe Habitat Sillon
URL;VALUE=URI:https://skivosges.net/agenda/a-venir/detailevenement/905/-/cjm-coupe-dargen
 t-u14-coupe-habitat-sillon?tmpl=component
DESCRIPTION:<!-- #gskiepreuve code généré par le plugin jevents pour GskiEpreuves. Ne p
 as modifier cette ligne, ni tout le contenu suivant  #gskiepreuve --><div c
 lass="gski-evenement_infos"><div class="gski-evenement-nom">CJM Coupe d'Arg
 ent U14 Coupe Habitat Sillon</div><div class="gski-evenement-report"></div>
 <ul class="gski-evenement-liste-infos"><li>Codex évenement AMVT0180</li><li
 >Station : MARKSTEIN</li><li>Piste : Stade</li><li>Organisateur : 14081 SKI
  CLUB ROSSBERG</li><li>Courriel : <!-- Cette adresse électronique est proté
 gée contre les robots spammeurs. --><span class="cloaked_email ep_78622edf"
 ><span data-ep-a="&#99;o&#117;&#114;" data-ep-b=""><span data-ep-a="&#115;&
 #101;&#115;&#64;" data-ep-b=".&#99;&#111;&#109;"><span data-ep-b="&#110;&#1
 15;&#107;&#105;" data-ep-a="&#116;&#104;&#97;&#110;"></span></span></span><
 /span><script>RegularLabs.EmailProtector.unCloak("ep_78622edf");</script></
 li><li>Téléphone : 03 89 37 92 28</li><li><span class="gski-evenement-obs">
 Délégué Technique : HABERER BERNARD</span></li></ul><div class="gski-evenem
 ent-infos-2"><div class="gski-evenement-info-inscriptions"><div class="gski
 -evenement-inscriptions-periodes">Période d'inscription à l'evènement du di
 manche 14 janvier 2018 à 00:00 au vendredi 19 janvier 2018 à 19:00 <span cl
 ass="gski-evenement-inscriptions-impossibles">(Inscriptions impossibles).</
 span><div class="gski-evenement-inscriptions-types-titres">Inscriptions ouv
 ertes aux detenteurs des titres Fédéraux valides suivants : Licenciés Compé
 titeurs</div></div></div><div class="gski-evenement-info-live">L'épreuve se
 ra chronometrée avec les résultats publiés en direct (live)</div><div class
 ="gski-evenement-epreuves"><div class="gski-evenement-epreuves-titres">Epre
 uves :</div><ul class="gski-evenement-epreuves-list"><li><div class="gski-e
 preuve-date">Le dimanche 21 janvier 2018</div><ul class="gski-epreuve-liste
 -infos"><li>Codex épreuve AMVM0181</li><li>Slalom</li><li>Catégorie(s) : U1
 4 (Garçons)</li></ul></li><li><div class="gski-epreuve-date">Le dimanche 21
  janvier 2018</div><ul class="gski-epreuve-liste-infos"><li>Codex épreuve A
 MVF0181</li><li>Slalom</li><li>Catégorie(s) : U14 (Filles)</li></ul></li><l
 i><div class="gski-epreuve-date">Le dimanche 21 janvier 2018</div><ul class
 ="gski-epreuve-liste-infos"><li>Codex épreuve AMVM0182</li><li>Slalom</li><
 li>Catégorie(s) : U14 (Garçons)</li></ul></li><li><div class="gski-epreuve-
 date">Le dimanche 21 janvier 2018</div><ul class="gski-epreuve-liste-infos"
 ><li>Codex épreuve AMVF0182</li><li>Slalom</li><li>Catégorie(s) : U14 (Fill
 es)</li></ul></li></ul></div><div class="gskiepreuves-links"><ul><li><a hre
 f="/index.php?option=com_jevents&task=icalevent.detail&evid=900&Itemid=6289
 ">Voir les informations dans l'agenda...</a></li><li><a href="/index.php?op
 tion=com_gskiepreuves&view=afficheresultats&format_option=tous&filter[searc
 h]=AMVT0180&filter[date_debut]=21-01-2018&filter[date_fin]=21-01-2018&code_
 activite=ALP&Itemid=6289">Vers les résultats...</a></li><li>Publications co
 ncernant cet évènement :<ul><li><a href="/index.php?option=com_content&view
 =article&id=6053&Itemid=6289">Dimanche 21 Janvier 2018 à 18:46 : Le 21/01/2
 018 MARKSTEIN Résultats</a></li><li><a href="/index.php?option=com_content&
 view=article&id=6050&Itemid=6289">Vendredi 19 Janvier 2018 à 21:53 : Le 21/
 01/2018 MARKSTEIN Liste de départs</a></li></ul></li></ul></div></div"><!--
  #/gskiepreuve fin du dode généré par le plugin jevents pour GskiEpreuves. 
 . Ne pas modifier cette ligne, ni tout le contenu précedant.  #/gskiepreuve
  --> <a href="https://skivosges.net/agenda/a-venir/detailevenement/905/-/cj
 m-coupe-dargent-u14-coupe-habitat-sillon?tmpl=component">Cet évènement a ét
 é importé depuis :https://skivosges.net/agenda/a-venir/detailevenement/905/
 -/cjm-coupe-dargent-u14-coupe-habitat-sillon?tmpl=component</a>
X-ALT-DESC;FMTTYPE=text/html:<!-- #gskiepreuve code généré par le plugin jevents pour GskiEpreuves. Ne p
 as modifier cette ligne, ni tout le contenu suivant  #gskiepreuve --><div c
 lass="gski-evenement_infos"><div class="gski-evenement-nom">CJM Coupe d'Arg
 ent U14 Coupe Habitat Sillon</div><div class="gski-evenement-report"></div>
 <ul class="gski-evenement-liste-infos"><li>Codex évenement AMVT0180</li><li
 >Station : MARKSTEIN</li><li>Piste : Stade</li><li>Organisateur : 14081 SKI
  CLUB ROSSBERG</li><li>Courriel : <!-- Cette adresse électronique est proté
 gée contre les robots spammeurs. --><span class="cloaked_email ep_78622edf"
 ><span data-ep-a="&#99;o&#117;&#114;" data-ep-b=""><span data-ep-a="&#115;&
 #101;&#115;&#64;" data-ep-b=".&#99;&#111;&#109;"><span data-ep-b="&#110;&#1
 15;&#107;&#105;" data-ep-a="&#116;&#104;&#97;&#110;"></span></span></span><
 /span><script>RegularLabs.EmailProtector.unCloak("ep_78622edf");</script></
 li><li>Téléphone : 03 89 37 92 28</li><li><span class="gski-evenement-obs">
 Délégué Technique : HABERER BERNARD</span></li></ul><div class="gski-evenem
 ent-infos-2"><div class="gski-evenement-info-inscriptions"><div class="gski
 -evenement-inscriptions-periodes">Période d'inscription à l'evènement du di
 manche 14 janvier 2018 à 00:00 au vendredi 19 janvier 2018 à 19:00 <span cl
 ass="gski-evenement-inscriptions-impossibles">(Inscriptions impossibles).</
 span><div class="gski-evenement-inscriptions-types-titres">Inscriptions ouv
 ertes aux detenteurs des titres Fédéraux valides suivants : Licenciés Compé
 titeurs</div></div></div><div class="gski-evenement-info-live">L'épreuve se
 ra chronometrée avec les résultats publiés en direct (live)</div><div class
 ="gski-evenement-epreuves"><div class="gski-evenement-epreuves-titres">Epre
 uves :</div><ul class="gski-evenement-epreuves-list"><li><div class="gski-e
 preuve-date">Le dimanche 21 janvier 2018</div><ul class="gski-epreuve-liste
 -infos"><li>Codex épreuve AMVM0181</li><li>Slalom</li><li>Catégorie(s) : U1
 4 (Garçons)</li></ul></li><li><div class="gski-epreuve-date">Le dimanche 21
  janvier 2018</div><ul class="gski-epreuve-liste-infos"><li>Codex épreuve A
 MVF0181</li><li>Slalom</li><li>Catégorie(s) : U14 (Filles)</li></ul></li><l
 i><div class="gski-epreuve-date">Le dimanche 21 janvier 2018</div><ul class
 ="gski-epreuve-liste-infos"><li>Codex épreuve AMVM0182</li><li>Slalom</li><
 li>Catégorie(s) : U14 (Garçons)</li></ul></li><li><div class="gski-epreuve-
 date">Le dimanche 21 janvier 2018</div><ul class="gski-epreuve-liste-infos"
 ><li>Codex épreuve AMVF0182</li><li>Slalom</li><li>Catégorie(s) : U14 (Fill
 es)</li></ul></li></ul></div><div class="gskiepreuves-links"><ul><li><a hre
 f="https://skivosges.net/index.php?option=com_jevents&task=icalevent.detail
 &evid=900&Itemid=6289">Voir les informations dans l'agenda...</a></li><li><
 a href="https://skivosges.net/index.php?option=com_gskiepreuves&view=affich
 eresultats&format_option=tous&filter[search]=AMVT0180&filter[date_debut]=21
 -01-2018&filter[date_fin]=21-01-2018&code_activite=ALP&Itemid=6289">Vers le
 s résultats...</a></li><li>Publications concernant cet évènement :<ul><li><
 a href="https://skivosges.net/index.php?option=com_content&view=article&id=
 6053&Itemid=6289">Dimanche 21 Janvier 2018 à 18:46 : Le 21/01/2018 MARKSTEI
 N Résultats</a></li><li><a href="https://skivosges.net/index.php?option=com
 _content&view=article&id=6050&Itemid=6289">Vendredi 19 Janvier 2018 à 21:53
  : Le 21/01/2018 MARKSTEIN Liste de départs</a></li></ul></li></ul></div></
 div"><!-- #/gskiepreuve fin du dode généré par le plugin jevents pour GskiE
 preuves. . Ne pas modifier cette ligne, ni tout le contenu précedant.  #/gs
 kiepreuve --> <a href="https://skivosges.net/agenda/a-venir/detailevenement
 /905/-/cjm-coupe-dargent-u14-coupe-habitat-sillon?tmpl=component">Cet évène
 ment a été importé depuis :https://skivosges.net/agenda/a-venir/detailevene
 ment/905/-/cjm-coupe-dargent-u14-coupe-habitat-sillon?tmpl=component</a>DTSTAMP:20260424T012654
DTSTART;TZID=Europe/Paris;VALUE=DATE:20180121
DTEND;TZID=Europe/Paris;VALUE=DATE:20180122
SEQUENCE:0
TRANSP:OPAQUE
END:VEVENT
END:VCALENDAR