BEGIN:VCALENDAR
VERSION:2.0
PRODID:-//jEvents 2.0 for Joomla//EN
CALSCALE:GREGORIAN
METHOD:PUBLISH
BEGIN:VTIMEZONE
TZID:Europe/Paris
BEGIN:STANDARD
DTSTART:20170120T000000
RDATE:20170326T030000
TZOFFSETFROM:+0200
TZOFFSETTO:+0100
TZNAME:Europe/Paris CET
END:STANDARD
BEGIN:STANDARD
DTSTART:20171029T020000
RDATE:20180325T030000
TZOFFSETFROM:+0200
TZOFFSETTO:+0100
TZNAME:Europe/Paris CET
END:STANDARD
BEGIN:STANDARD
DTSTART:20181028T020000
RDATE:20190331T030000
TZOFFSETFROM:+0200
TZOFFSETTO:+0100
TZNAME:Europe/Paris CET
END:STANDARD
BEGIN:STANDARD
DTSTART:20191027T020000
RDATE:20200329T030000
TZOFFSETFROM:+0200
TZOFFSETTO:+0100
TZNAME:Europe/Paris CET
END:STANDARD
BEGIN:STANDARD
DTSTART:20201025T020000
RDATE:20210328T030000
TZOFFSETFROM:+0200
TZOFFSETTO:+0100
TZNAME:Europe/Paris CET
END:STANDARD
BEGIN:STANDARD
DTSTART:20211031T020000
RDATE:20220327T030000
TZOFFSETFROM:+0200
TZOFFSETTO:+0100
TZNAME:Europe/Paris CET
END:STANDARD
BEGIN:STANDARD
DTSTART:20221030T020000
RDATE:20230326T030000
TZOFFSETFROM:+0200
TZOFFSETTO:+0100
TZNAME:Europe/Paris CET
END:STANDARD
BEGIN:STANDARD
DTSTART:20231029T020000
RDATE:20240331T030000
TZOFFSETFROM:+0200
TZOFFSETTO:+0100
TZNAME:Europe/Paris CET
END:STANDARD
BEGIN:STANDARD
DTSTART:20241027T020000
RDATE:20250330T030000
TZOFFSETFROM:+0200
TZOFFSETTO:+0100
TZNAME:Europe/Paris CET
END:STANDARD
BEGIN:STANDARD
DTSTART:20251026T020000
RDATE:20260329T030000
TZOFFSETFROM:+0200
TZOFFSETTO:+0100
TZNAME:Europe/Paris CET
END:STANDARD
BEGIN:STANDARD
DTSTART:20261025T020000
RDATE:20270328T030000
TZOFFSETFROM:+0200
TZOFFSETTO:+0100
TZNAME:Europe/Paris CET
END:STANDARD
BEGIN:DAYLIGHT
DTSTART:20170326T030000
RDATE:20171029T020000
TZOFFSETFROM:+0100
TZOFFSETTO:+0200
TZNAME:Europe/Paris CEST
END:DAYLIGHT
BEGIN:DAYLIGHT
DTSTART:20180325T030000
RDATE:20181028T020000
TZOFFSETFROM:+0100
TZOFFSETTO:+0200
TZNAME:Europe/Paris CEST
END:DAYLIGHT
BEGIN:DAYLIGHT
DTSTART:20190331T030000
RDATE:20191027T020000
TZOFFSETFROM:+0100
TZOFFSETTO:+0200
TZNAME:Europe/Paris CEST
END:DAYLIGHT
BEGIN:DAYLIGHT
DTSTART:20200329T030000
RDATE:20201025T020000
TZOFFSETFROM:+0100
TZOFFSETTO:+0200
TZNAME:Europe/Paris CEST
END:DAYLIGHT
BEGIN:DAYLIGHT
DTSTART:20210328T030000
RDATE:20211031T020000
TZOFFSETFROM:+0100
TZOFFSETTO:+0200
TZNAME:Europe/Paris CEST
END:DAYLIGHT
BEGIN:DAYLIGHT
DTSTART:20220327T030000
RDATE:20221030T020000
TZOFFSETFROM:+0100
TZOFFSETTO:+0200
TZNAME:Europe/Paris CEST
END:DAYLIGHT
BEGIN:DAYLIGHT
DTSTART:20230326T030000
RDATE:20231029T020000
TZOFFSETFROM:+0100
TZOFFSETTO:+0200
TZNAME:Europe/Paris CEST
END:DAYLIGHT
BEGIN:DAYLIGHT
DTSTART:20240331T030000
RDATE:20241027T020000
TZOFFSETFROM:+0100
TZOFFSETTO:+0200
TZNAME:Europe/Paris CEST
END:DAYLIGHT
BEGIN:DAYLIGHT
DTSTART:20250330T030000
RDATE:20251026T020000
TZOFFSETFROM:+0100
TZOFFSETTO:+0200
TZNAME:Europe/Paris CEST
END:DAYLIGHT
BEGIN:DAYLIGHT
DTSTART:20260329T030000
RDATE:20261025T020000
TZOFFSETFROM:+0100
TZOFFSETTO:+0200
TZNAME:Europe/Paris CEST
END:DAYLIGHT
END:VTIMEZONE
BEGIN:VEVENT
UID:c753dd63784093eb403f492641386b9e
CATEGORIES:Circuit Massif Jeunes (alpin)
CREATED:20171121T093310
SUMMARY:CJM Coupe d'Argent U16 Coupe Optique Schivy - Julbo
URL;VALUE=URI:https://skivosges.net/agenda/a-venir/detailevenement/906/-/cjm-coupe-dargen
 t-u16-coupe-optique-schivy-julbo?tmpl=component
DESCRIPTION:<!-- #gskiepreuve code généré par le plugin jevents pour GskiEpreuves. Ne p
 as modifier cette ligne, ni tout le contenu suivant  #gskiepreuve --><div c
 lass="gski-evenement_infos"><div class="gski-evenement-nom">CJM Coupe d'Arg
 ent U16 Coupe Optique Schivy - Julbo</div><div class="gski-evenement-report
 "></div><ul class="gski-evenement-liste-infos"><li>Codex évenement AMVT0190
 </li><li>Station : SCHNEPFENRIED</li><li>Organisateur : 14199 SKIEURS DU TA
 NET</li><li>Courriel : <!-- Cette adresse électronique est protégée contre 
 les robots spammeurs. --><span class="cloaked_email ep_744051bc"><span data
 -ep-a="&#112;h&#105;&#108;&#105;" data-ep-b="g&#101;&#46;fr"><span data-ep-
 b="&#64;&#111;&#114;&#97;n" data-ep-a="p&#112;e&#46;&#109;"><span data-ep-b
 ="&#110;d5&#52;&#55;" data-ep-a="a&#114;&#99;&#104;a"></span></span></span>
 </span><script>RegularLabs.EmailProtector.unCloak("ep_744051bc");</script><
 /li><li><span class="gski-evenement-obs">Délégué Technique : KOHLER JEAN PI
 ERRE</span></li></ul><div class="gski-evenement-infos-2"><div class="gski-e
 venement-info-inscriptions"><div class="gski-evenement-inscriptions-periode
 s">Période d'inscription à l'evènement du dimanche 14 janvier 2018 à 00:00 
 au vendredi 19 janvier 2018 à 18:00 <span class="gski-evenement-inscription
 s-impossibles">(Inscriptions impossibles).</span><div class="gski-evenement
 -inscriptions-types-titres">Inscriptions ouvertes aux detenteurs des titres
  Fédéraux valides suivants : Licenciés Compétiteurs</div></div></div><div c
 lass="gski-evenement-epreuves"><div class="gski-evenement-epreuves-titres">
 Epreuves :</div><ul class="gski-evenement-epreuves-list"><li><div class="gs
 ki-epreuve-date">Le dimanche 21 janvier 2018</div><ul class="gski-epreuve-l
 iste-infos"><li>Codex épreuve AMVM0191</li><li>Slalom</li><li>Catégorie(s) 
 : U16 (Garçons)</li></ul></li><li><div class="gski-epreuve-date">Le dimanch
 e 21 janvier 2018</div><ul class="gski-epreuve-liste-infos"><li>Codex épreu
 ve AMVF0191</li><li>Slalom</li><li>Catégorie(s) : U16 (Filles)</li></ul></l
 i><li><div class="gski-epreuve-date">Le dimanche 21 janvier 2018</div><ul c
 lass="gski-epreuve-liste-infos"><li>Codex épreuve AMVM0192</li><li>Slalom</
 li><li>Catégorie(s) : U16 (Garçons)</li></ul></li><li><div class="gski-epre
 uve-date">Le dimanche 21 janvier 2018</div><ul class="gski-epreuve-liste-in
 fos"><li>Codex épreuve AMVF0192</li><li>Slalom</li><li>Catégorie(s) : U16 (
 Filles)</li></ul></li></ul></div><div class="gskiepreuves-links"><ul><li><a
  href="/index.php?option=com_jevents&task=icalevent.detail&evid=901&Itemid=
 6289">Voir les informations dans l'agenda...</a></li><li><a href="/index.ph
 p?option=com_gskiepreuves&view=afficheresultats&format_option=tous&filter[s
 earch]=AMVT0190&filter[date_debut]=21-01-2018&filter[date_fin]=21-01-2018&c
 ode_activite=ALP&Itemid=6289">Vers les résultats...</a></li><li>Publication
 s concernant cet évènement :<ul><li><a href="/index.php?option=com_content&
 view=article&id=6047&Itemid=6289">Vendredi 19 Janvier 2018 à 18:49 : Le 21/
 01/2018 SCHNEPFENRIED Liste de départs</a></li></ul></li></ul></div></div">
 <!-- #/gskiepreuve fin du dode généré par le plugin jevents pour GskiEpreuv
 es. . Ne pas modifier cette ligne, ni tout le contenu précedant.  #/gskiepr
 euve --> <a href="https://skivosges.net/agenda/a-venir/detailevenement/906/
 -/cjm-coupe-dargent-u16-coupe-optique-schivy-julbo?tmpl=component">Cet évèn
 ement a été importé depuis :https://skivosges.net/agenda/a-venir/detaileven
 ement/906/-/cjm-coupe-dargent-u16-coupe-optique-schivy-julbo?tmpl=component
 </a>
X-ALT-DESC;FMTTYPE=text/html:<!-- #gskiepreuve code généré par le plugin jevents pour GskiEpreuves. Ne p
 as modifier cette ligne, ni tout le contenu suivant  #gskiepreuve --><div c
 lass="gski-evenement_infos"><div class="gski-evenement-nom">CJM Coupe d'Arg
 ent U16 Coupe Optique Schivy - Julbo</div><div class="gski-evenement-report
 "></div><ul class="gski-evenement-liste-infos"><li>Codex évenement AMVT0190
 </li><li>Station : SCHNEPFENRIED</li><li>Organisateur : 14199 SKIEURS DU TA
 NET</li><li>Courriel : <!-- Cette adresse électronique est protégée contre 
 les robots spammeurs. --><span class="cloaked_email ep_744051bc"><span data
 -ep-a="&#112;h&#105;&#108;&#105;" data-ep-b="g&#101;&#46;fr"><span data-ep-
 b="&#64;&#111;&#114;&#97;n" data-ep-a="p&#112;e&#46;&#109;"><span data-ep-b
 ="&#110;d5&#52;&#55;" data-ep-a="a&#114;&#99;&#104;a"></span></span></span>
 </span><script>RegularLabs.EmailProtector.unCloak("ep_744051bc");</script><
 /li><li><span class="gski-evenement-obs">Délégué Technique : KOHLER JEAN PI
 ERRE</span></li></ul><div class="gski-evenement-infos-2"><div class="gski-e
 venement-info-inscriptions"><div class="gski-evenement-inscriptions-periode
 s">Période d'inscription à l'evènement du dimanche 14 janvier 2018 à 00:00 
 au vendredi 19 janvier 2018 à 18:00 <span class="gski-evenement-inscription
 s-impossibles">(Inscriptions impossibles).</span><div class="gski-evenement
 -inscriptions-types-titres">Inscriptions ouvertes aux detenteurs des titres
  Fédéraux valides suivants : Licenciés Compétiteurs</div></div></div><div c
 lass="gski-evenement-epreuves"><div class="gski-evenement-epreuves-titres">
 Epreuves :</div><ul class="gski-evenement-epreuves-list"><li><div class="gs
 ki-epreuve-date">Le dimanche 21 janvier 2018</div><ul class="gski-epreuve-l
 iste-infos"><li>Codex épreuve AMVM0191</li><li>Slalom</li><li>Catégorie(s) 
 : U16 (Garçons)</li></ul></li><li><div class="gski-epreuve-date">Le dimanch
 e 21 janvier 2018</div><ul class="gski-epreuve-liste-infos"><li>Codex épreu
 ve AMVF0191</li><li>Slalom</li><li>Catégorie(s) : U16 (Filles)</li></ul></l
 i><li><div class="gski-epreuve-date">Le dimanche 21 janvier 2018</div><ul c
 lass="gski-epreuve-liste-infos"><li>Codex épreuve AMVM0192</li><li>Slalom</
 li><li>Catégorie(s) : U16 (Garçons)</li></ul></li><li><div class="gski-epre
 uve-date">Le dimanche 21 janvier 2018</div><ul class="gski-epreuve-liste-in
 fos"><li>Codex épreuve AMVF0192</li><li>Slalom</li><li>Catégorie(s) : U16 (
 Filles)</li></ul></li></ul></div><div class="gskiepreuves-links"><ul><li><a
  href="https://skivosges.net/index.php?option=com_jevents&task=icalevent.de
 tail&evid=901&Itemid=6289">Voir les informations dans l'agenda...</a></li><
 li><a href="https://skivosges.net/index.php?option=com_gskiepreuves&view=af
 ficheresultats&format_option=tous&filter[search]=AMVT0190&filter[date_debut
 ]=21-01-2018&filter[date_fin]=21-01-2018&code_activite=ALP&Itemid=6289">Ver
 s les résultats...</a></li><li>Publications concernant cet évènement :<ul><
 li><a href="https://skivosges.net/index.php?option=com_content&view=article
 &id=6047&Itemid=6289">Vendredi 19 Janvier 2018 à 18:49 : Le 21/01/2018 SCHN
 EPFENRIED Liste de départs</a></li></ul></li></ul></div></div"><!-- #/gskie
 preuve fin du dode généré par le plugin jevents pour GskiEpreuves. . Ne pas
  modifier cette ligne, ni tout le contenu précedant.  #/gskiepreuve --> <a 
 href="https://skivosges.net/agenda/a-venir/detailevenement/906/-/cjm-coupe-
 dargent-u16-coupe-optique-schivy-julbo?tmpl=component">Cet évènement a été 
 importé depuis :https://skivosges.net/agenda/a-venir/detailevenement/906/-/
 cjm-coupe-dargent-u16-coupe-optique-schivy-julbo?tmpl=component</a>DTSTAMP:20260424T012606
DTSTART;TZID=Europe/Paris;VALUE=DATE:20180121
DTEND;TZID=Europe/Paris;VALUE=DATE:20180122
SEQUENCE:0
TRANSP:OPAQUE
END:VEVENT
END:VCALENDAR